{"text_format":"3","workbook":"xlsx","n_sheets":22,"sheets":["Pile Estimate","Rectangular Pile Cap","Trapezoidal Pile Cap ","Mat Foundation ","Footing Estimate","Short Tied Column"," Short Circular Column","Long Tied Column","Long Circular Column","Grade Beam","Floor Beam","Stair","Slab","Rcc Wall","WATER RESERVOIR","Brick Masonry  ","Plaster and  Paint  Work ","Tiles Work","Admin Panel","Result","Home Page","Sheet1"],"not_rendered":{"images":3,"macros":1,"external_links":1,"defined_names":8,"comments":6},"read":"whole","date_system":"1900"}

{"sheet":"Pile Estimate","index":0,"n_rows":123,"n_cols":65,"rows_kept":123,"hidden":true,"merged":[[0,0,2,15],[3,0,4,15],[5,0,5,15],[6,0,7,15],[8,0,8,15],[12,0,14,6],[13,12,14,22],[15,0,15,1],[15,12,15,13],[15,14,15,15],[15,17,15,18],[15,19,15,20],[15,21,15,22],[15,33,15,34],[16,0,16,1],[16,12,16,13],[16,14,16,15],[16,16,20,16],[16,17,16,18],[16,19,16,20],[16,21,16,22],[16,33,16,34],[17,0,17,1],[17,12,17,13],[17,14,17,15],[17,17,17,18],[17,19,17,20],[17,21,17,22],[17,33,17,34],[18,0,18,1],[18,12,18,13],[18,14,18,15],[18,17,18,18],[18,19,18,20],[18,21,18,22],[18,33,18,34],[19,0,19,1],[19,12,19,13],[19,14,19,15],[19,17,19,18],[19,19,19,20],[19,21,19,22],[19,33,21,33],[20,0,20,1],[20,12,20,13],[20,14,20,15],[20,17,20,18],[20,19,20,20],[20,21,20,22],[21,0,21,1],[21,19,21,20],[21,21,21,22],[22,33,22,34],[23,2,24,5],[24,15,24,18],[27,0,27,1],[28,0,28,1],[29,0,29,1],[30,0,30,1],[31,0,31,1],[32,0,32,1],[33,0,33,1],[34,0,34,1],[35,0,35,1],[36,0,36,1]]}
["This is The Property of NOR DESIGN SOLUTION\n"]
[]
[]
[]
[]
["এক্সেল শীট বিষয়ক কিছু জানার থাকলে বা আপডেট নিয়ে কোন পরামর্শ থাকলে আমাদের সাথে যোগাযোগ করুন অথবা ওয়েবসাইটে কমেন্ট করুন।"]
["এক্সেল শীট সম্পর্কে যাবতীয় তথ্য বিস্তারিত জানতে ভিজিট করুন আমাদের ইউটিউব চ্যানেলে"]
[]
["Click Here To Watch The Pile Estimate video"]
[{"$nulls":34},"Cement","Sand","Stone","Rod","Casting"]
[{"$nulls":34},{"$f":"R17","v":{"v":0,"d":"0 Bag"}},{"$f":"R18","v":{"v":0,"d":"0 CFT"}},{"$f":"R19","v":{"v":0,"d":"0 CFT"}},{"$f":"R20","v":{"v":0,"d":"0.000 Ton"}},{"$f":"R21","v":{"v":0,"d":"0 CFT"}}]
[]
["Pile Estimated "]
[{"$nulls":12},"Pile Estimated And Price"]
[{"$nulls":40},"sum"]
["Description",null,"Type-1","Type-2","Type-3","Type-4","Type-5",{"$nulls":5},"DESCRIPTION",null,"Quantity",null,"Wastage Material","Quantity (Wastage Add)",null,"Rate",null,"Amount TK",{"$nulls":11},"Main  Dia Length",null,{"$f":"IF(C17>0,(C19-C21)+C31,\"\")","v":""},{"$f":"IF(D17>0,(D19-D21)+D31,\"\")","v":""},"","","",{"$f":"SUM(AJ16:AN16)","v":0}]
["Nos",{"$nulls":11},"Cement",null,{"$f":"AO24","v":{"v":0,"d":"0 Bag"}},null,{"v":0,"d":"0 % ADD"},{"$f":"O17+$Q$17*O17/100","v":{"v":0,"d":"0 Bag"}},null,{"v":550,"d":"550.00 TK"},null,{"$f":"R17*T17","v":{"v":0,"d":"0 TK"}},{"$nulls":11},"Small  Dia Lap     Length",null,{"$f":"IF(C17>0,(C19-C21)+C34,\"\")","v":""},{"$f":"IF(D17>0,(D19-D21)+D34,\"\")","v":""},"","","",{"$f":"SUM(AJ17:AN17)","v":0}]
["Pile Dia (inch)",{"$nulls":11},"Sand ",null,{"$f":"AO25","v":{"v":0,"d":"0 CFT"}},null,null,{"$f":"O18+$Q$17*O18/100","v":{"v":0,"d":"0 CFT"}},null,{"v":45,"d":"45.00 TK"},null,{"$f":"R18*T18","v":{"v":0,"d":"0 TK"}},{"$nulls":11},"One Sprial Rod    Length",null,{"$f":"IF(C17>0,((3.1416*(C18-C22-C22))/12),\"\")","v":""},{"$f":"IF(D17>0,((3.1416*(D18-D22-D22))/12),\"\")","v":""},{"$f":"IF(E17>0,((3.1416*(E18-E22-E22))/12),\"\")","v":""},{"$f":"IF(F17>0,((3.1416*(F18-F22-F22))/12),\"\")","v":""},{"$f":"IF(G17>0,((3.1416*(G18-G22-G22))/12),\"\")","v":""},0,{"$nulls":4},{"$f":"C29","v":{"v":0,"d":"0 MM"}},{"$f":"D29","v":{"v":0,"d":"0 MM"}},{"$f":"E29","v":{"v":0,"d":"0 MM"}},{"$f":"F29","v":{"v":0,"d":"0 MM"}},{"$f":"G29","v":{"v":0,"d":"0 MM"}},null,{"$f":"IF(C17>0,AJ20+$Q$17*AJ20/100,\"\")","v":""},{"$f":"IF(D17>0,AK20+$Q$17*AK20/100,\"\")","v":""},"","",""]
["Total Pile Height (ft)",{"$nulls":11},"Stone Chips",null,{"$f":"AO26","v":{"v":0,"d":"0 CFT"}},null,null,{"$f":"O19+$Q$17*O19/100","v":{"v":0,"d":"0 CFT"}},null,{"v":100,"d":"100.00 TK"},null,{"v":0,"d":"0 TK"},{"$nulls":11},"Total Sprial Rod    (Length)",null,{"$f":"IF(C17>0,IF(C36>0,((3.1416*(C18-C22-C22))/12)*((C19-C34-C20-C21)/(C36/12)+1)+C37,\"\"),\"\")","v":""},{"$f":"IF(D17>0,IF(D36>0,((3.1416*(D18-D22-D22))/12)*((D19-D34-D20-D21)/(D36/12)+1)+D37,\"\"),\"\")","v":""},{"$f":"IF(E17>0,IF(E36>0,((3.1416*(E18-E22-E22))/12)*((E19-E34-E20-E21)/(E36/12)+1)+E37,\"\"),\"\")","v":""},{"$f":"IF(F17>0,IF(F36>0,((3.1416*(F18-F22-F22))/12)*((F19-F34-F20-F21)/(F36/12)+1)+F37,\"\"),\"\")","v":""},{"$f":"IF(G17>0,IF(G36>0,((3.1416*(G18-G22-G22))/12)*((G19-G34-G20-G21)/(G36/12)+1)+G37,\"\"),\"\")","v":""},0,{"$nulls":4},{"$f":"C32","v":{"v":0,"d":"0 MM"}},{"$f":"D32","v":{"v":0,"d":"0 MM"}},{"$f":"E32","v":{"v":0,"d":"0 MM"}},{"$f":"F32","v":{"v":0,"d":"0 MM"}},{"$f":"G32","v":{"v":0,"d":"0 MM"}},null,{"$f":"IF(C17>0,AJ21+$Q$17*AJ21/100,\"\")","v":""},{"$f":"IF(D17>0,AK21+$Q$17*AK21/100,\"\")","v":""},"","",""]
["Pile Cut Of Level (ft)",{"$nulls":11},"Rebar",null,{"$f":"SUM(AO20:AO22)/1000","v":{"v":0,"d":"0.000 Ton"}},null,null,{"$f":"O20+$Q$17*O20/100","v":{"v":0,"d":"0.000 Ton"}},null,{"v":98000,"d":"98000.00 TK"},null,{"v":0,"d":"0 TK"},{"$nulls":11}," Reinforcement ","Main  Dia Rod",{"$f":"IF(C17>0,(C29^2/532)*C30*AJ16*C17,\"\")","v":""},{"$f":"IF(D17>0,(D29^2/532)*D30*AK16*D17,\"\")","v":""},{"$f":"IF(E17>0,(E29^2/532)*E30*AL16*E17,\"\")","v":""},{"$f":"IF(F17>0,(F29^2/532)*F30*AM16*F17,\"\")","v":""},{"$f":"IF(G17>0,(G29^2/532)*G30*AN16*G17,\"\")","v":""},{"v":0,"d":"0 KG"},{"$nulls":4},{"$f":"C35","v":{"v":0,"d":"0 MM"}},{"$f":"D35","v":{"v":0,"d":"0 MM"}},{"$f":"E35","v":{"v":0,"d":"0 MM"}},{"$f":"F35","v":{"v":0,"d":"0 MM"}},{"$f":"G35","v":{"v":0,"d":"0 MM"}},null,{"$f":"IF(C17>0,AJ22+$Q$17*AJ22/100,\"\")","v":""},{"$f":"IF(D17>0,AK22+$Q$17*AK22/100,\"\")","v":""},"","",""]
[" C.C (ft)",{"$nulls":11},"Total RCC Casting ",null,{"$f":"AO23","v":{"v":0,"d":"0 CFT"}},null,null,{"$f":"O21+$Q$17*O21/100","v":{"v":0,"d":"0 CFT"}},null,{"v":98001,"d":"98001.00 TK"},null,{"$f":"R21*T21","v":{"v":0,"d":"0 TK"}},{"$nulls":12},"Small Dia Rod",{"$f":"IF(C17>0,IF(C32>0,(C32^2/532)*C33*AJ17*C17,\"\"),\"\")","v":""},{"$f":"IF(D17>0,IF(D32>0,(D32^2/532)*D33*AK17*D17,\"\"),\"\")","v":""},{"$f":"IF(E17>0,IF(E32>0,(E32^2/532)*E33*AL17*E17,\"\"),\"\")","v":""},{"$f":"IF(F17>0,IF(F32>0,(F32^2/532)*F33*AM17*F17,\"\"),\"\")","v":""},{"$f":"IF(G17>0,IF(G32>0,(G32^2/532)*G33*AN17*G17,\"\"),\"\")","v":""},{"v":0,"d":"0 KG"}]
["Clear Cover (inh)",{"$nulls":18},"Total Cost",null,{"$f":"SUM(V17:W21)","v":{"v":0,"d":"0 TK"}},{"$nulls":12}," Sprial ",{"$f":"IF(C17>0,IF(C36>0,(C35^2/532)*AJ19*C17,\"\"),\"\")","v":""},{"$f":"IF(D17>0,IF(D36>0,(D35^2/532)*AK19*D17,\"\"),\"\")","v":""},{"$f":"IF(E17>0,IF(E36>0,(E35^2/532)*AL19*E17,\"\"),\"\")","v":""},{"$f":"IF(F17>0,IF(F36>0,(F35^2/532)*AM19*F17,\"\"),\"\")","v":""},{"$f":"IF(G17>0,IF(G36>0,(G35^2/532)*AN19*G17,\"\"),\"\")","v":""},{"v":0,"d":"0 KG"}]
[{"$nulls":33}," Rcc Casting ",null,{"$f":"IF(C17>0,((3.1416*(C18/12)^2/4)*C19)*C17,\"\")","v":""},{"$f":"IF(D17>0,((3.1416*(D18/12)^2/4)*D19)*D17,\"\")","v":""},{"$f":"IF(E17>0,((3.1416*(E18/12)^2/4)*E19)*E17,\"\")","v":""},{"$f":"IF(F17>0,((3.1416*(F18/12)^2/4)*F19)*F17,\"\")","v":""},{"$f":"IF(G17>0,((3.1416*(G18/12)^2/4)*G19)*G17,\"\")","v":""},0]
[null,null,"Rcc casting Ratio",{"$nulls":31},"Cement ",{"$f":"IF(C17>0,(AJ23*$C$26*1.5)/($F$26*1.25),\"\")","v":""},{"$f":"IF(D17>0,(AK23*$C$26*1.5)/($F$26*1.25),\"\")","v":""},"","","",{"$f":"SUM(AJ24:AN24)","v":0}]
[{"$nulls":15}," Reinforcement   ",{"$nulls":18},"Sand ",{"$f":"IF(C17>0,(AJ23*$D$26*1.5)/$F$26,\"\")","v":""},{"$f":"IF(D17>0,(AK23*$D$26*1.5)/$F$26,\"\")","v":""},"","","",{"$f":"SUM(AJ25:AN25)","v":0}]
[null,null,1,{"v":1.5,"d":" 1.5"},3,{"$f":"SUM(C26:E26)","v":5.5},{"$nulls":11},{"$f":"IF(Q26>0,SUMIF($AT$18:$AX$20,Q26,$AZ$18:$BD$20),\"\")","v":""},{"$nulls":16},"Stone Chips",{"$f":"IF(C17>0,(AJ23*$E$26*1.5)/($F$26),\"\")","v":""},{"$f":"IF(D17>0,(AK23*$E$26*1.5)/($F$26),\"\")","v":""},"","","",{"$f":"SUM(AJ26:AN26)","v":0}]
[{"$nulls":17},{"$f":"IF(Q27>0,SUMIF($AT$18:$AX$20,Q27,$AZ$18:$BD$20),\"\")","v":""}]
["Pile Rebar Calculation",null,"Type-1","Type-2","Type-3","Type-4","Type-5",{"$nulls":10},""]
["Large Dia (mm)",{"$nulls":16},""]
["Large Dia Nos",{"$nulls":16},""]
["Large Dia Lapping (ft)",{"$nulls":16},""]
["Small Dia (mm)",{"$nulls":16},""]
["Small Dia Nos",{"$nulls":16},""]
["Small Dia Lapping (ft)",{"$nulls":16},""]
["Spiral Rod Dia (mm)"]
["Specing(inh)"]
["Spiral Rod Lapping (ft)"]
{"$rows_empty":77}
[{"$nulls":64},{"$f":"R26","v":""}]
[{"$nulls":64},""]
[{"$nulls":64},""]
[{"$nulls":64},""]
[{"$nulls":64},""]
[{"$nulls":64},""]
[{"$nulls":64},""]
[{"$nulls":64},""]
[{"$nulls":64},""]

{"sheet":"Rectangular Pile Cap","index":1,"n_rows":40,"n_cols":75,"rows_kept":40,"hidden":true,"merged":[[0,0,2,18],[3,0,4,18],[5,0,5,18],[6,0,7,18],[8,0,8,18],[10,0,12,16],[11,20,12,32],[13,0,13,1],[13,20,13,22],[13,23,13,24],[13,25,13,26],[13,27,13,28],[13,29,13,30],[13,31,13,32],[14,0,14,1],[14,20,14,22],[14,23,14,24],[14,25,22,26],[14,27,14,28],[14,29,14,30],[14,31,14,32],[14,59,14,60],[15,0,15,1],[15,20,15,22],[15,23,15,24],[15,27,15,28],[15,29,15,30],[15,31,15,32],[15,42,15,43],[15,59,15,60],[16,0,16,1],[16,20,16,22],[16,23,16,24],[16,27,16,28],[16,29,16,30],[16,31,16,32],[16,42,16,43],[16,59,16,60],[17,0,17,1],[17,20,17,22],[17,23,17,24],[17,27,17,28],[17,29,17,30],[17,31,17,32],[17,42,17,43],[17,59,17,60],[18,0,18,1],[18,20,18,22],[18,23,18,24],[18,27,18,28],[18,29,18,30],[18,31,18,32],[18,42,18,43],[18,59,18,60],[19,0,19,1],[19,20,19,22],[19,23,19,24],[19,27,19,28],[19,29,19,30],[19,31,19,32],[19,42,19,43],[19,59,19,60],[20,0,20,1],[20,20,20,22],[20,23,20,24],[20,27,20,28],[20,29,20,30],[20,31,20,32],[20,42,20,43],[20,59,20,60],[21,0,21,1],[21,20,21,22],[21,23,21,24],[21,27,21,28],[21,29,21,30],[21,31,21,32],[21,42,21,43],[21,59,21,60],[22,20,22,22],[22,23,22,24],[22,27,22,28],[22,29,22,30],[22,31,22,32],[22,42,22,43],[22,59,22,60],[23,3,24,6],[23,7,24,10],[23,29,23,30],[23,31,23,32],[23,37,23,38],[23,42,23,43],[23,59,23,60],[24,42,24,43],[24,59,24,60],[25,42,25,43],[25,59,25,60],[26,24,26,28],[26,42,26,43],[26,59,26,60],[27,0,27,2],[27,26,27,27],[27,42,27,43],[27,59,27,60],[28,0,31,0],[28,1,28,2],[28,26,28,27],[28,42,28,43],[28,59,28,60],[29,1,29,2],[29,26,29,27],[29,35,29,36],[29,42,29,43],[29,59,29,60],[30,1,30,2],[30,26,30,27],[30,42,30,43],[30,59,30,60],[31,1,31,2],[31,26,31,27],[32,0,35,0],[32,1,32,2],[32,26,32,27],[33,1,33,2],[33,26,33,27],[34,1,34,2],[34,26,34,27],[35,1,35,2],[35,26,35,27],[36,0,36,2],[37,0,37,2],[38,0,38,2]]}
["This is The Property of NOR DESIGN SOLUTION"]
[]
[]
[]
[]
["এক্সেল শীট বিষয়ক কিছু জানার থাকলে বা আপডেট নিয়ে কোন পরামর্শ থাকলে আমাদের সাথে যোগাযোগ করুন অথবা ওয়েবসাইটে কমেন্ট করুন"]
["এক্সেল শীট সম্পর্কে যাবতীয় তথ্য বিস্তারিত জানতে ভিজিট করুন আমাদের ইউটিউব চ্যানেলে"]
[]
["Click Here To Watch The Rectanggular Pile Cap Estimate video",{"$nulls":43},"Cement","Sand","Stone","Rod","Casting","Excavation","Sand Filling ","Formwork","Brick Nos","Bricl Flat Soling ","C.c"]
[{"$nulls":44},{"$f":"AB15","v":{"v":0,"d":"0 Bag"}},{"$f":"AB16","v":{"v":0,"d":"0 CFT"}},{"$f":"BK22+Z15*BK22/100","v":{"v":0,"d":"0 Cft"}},{"$f":"AB18","v":{"v":0,"d":"0.000 Ton"}},{"$f":"AB23","v":{"v":0,"d":"0 CFT"}},{"$f":"AB22","v":{"v":0,"d":"0 CFT"}},{"$f":"AB20","v":{"v":0,"d":"0 CFT"}},{"$f":"AB21","v":{"v":0,"d":"0 SFT"}},{"$f":"BK23+Z15*BK23/100","v":{"v":0,"d":"0 Nos"}},{"$f":"AB19","v":{"v":0,"d":"0  Nos"}}]
["Rectangular Pile Cap Estimated"]
[{"$nulls":20},"Rectangular Shap Pile Cap Estimated And Price"]
[]
["Description",null,"Type-1","Type-2","Type-3","Type-4","Type-5","Type-6","Type-7","Type-8","Type-9","Type-10","Type-11","Type-12","Type-13","Type-14","Type-15",{"$nulls":3},"DESCRIPTION",null,null,"Quantity",null,"Wastage Add",null,"Quantity (Wastage Add)",null,"Rate",null,"Amount TK",{"$nulls":12},1,2,3,4,5,6,7,8,9,10,11,12,13,14,15]
["Nos",{"$nulls":19},"Cement ",null,null,{"$f":"BH16+BH18","v":{"v":0,"d":"0 Bag"}},null,{"v":0,"d":"0.0% ADD"},null,{"$f":"X15+$Z$15*X15/100","v":{"v":0,"d":"0 Bag"}},null,{"v":550,"d":"550.00 TK"},null,{"$f":"AB15*AD15","v":{"v":0,"d":"0 TK"}},{"$nulls":27},"Sum"]
["Pile Cap Length,L (ft)",{"$nulls":19},"Sand",null,null,{"$f":"BH17+BH19","v":{"v":0,"d":"0 CFT"}},{"$nulls":3},{"v":0,"d":"0 CFT"},null,{"v":45,"d":"45.00 TK"},null,{"v":0,"d":"0 TK"},{"$nulls":10},"cement",null,{"$f":"IF(C15>0,((AS25*$H$26*1.5)/($K$26*1.25))+1,\"0\")","v":"0"},{"$f":"IF(D15>0,((AT25*$H$26*1.5)/($K$26*1.25))+1,\"0\")","v":"0"},"0","0","0","0","0","0","0","0","0","0","0","0","0",{"$f":"SUM(AS16:BG16)","v":{"v":0,"d":"0.00"}}]
["Pile Cap Breadth,B (ft)",{"$nulls":19},"Stone/Brik Chips",null,null,{"$f":"VLOOKUP(U17,BJ22:BK23,2,0)","v":0},{"$nulls":3},0,null,{"v":100,"d":"100.00 TK"},null,{"v":0,"d":"0 TK"},{"$nulls":10},"sand",null,{"$f":"IF(C15>0,(AS25*$I$26*1.5)/$K$26,\"0\")","v":"0"},{"$f":"IF(D15>0,(AT25*$I$26*1.5)/$K$26,\"0\")","v":"0"},"0","0","0","0","0","0","0","0","0","0","0","0","0",{"$f":"SUM(AS17:BG17)","v":{"v":0,"d":"0.00"}}]
["Casting Thickness, T (inch)",{"$nulls":19},"Rebar",null,null,{"$f":"SUM(BH28:BI31)/1000","v":{"v":0,"d":"0.000 Ton"}},{"$nulls":3},{"v":0,"d":"0.000 Ton"},null,{"v":98000,"d":"98000.00 TK"},null,{"v":0,"d":"0 TK"},{"$nulls":10},"cement",null,{"$f":"IF(C15>0,((AS23*$D$26*1.5)/($G$26*1.25))+1,\"0\")","v":"0"},{"$f":"IF(D15>0,((AT23*$D$26*1.5)/($G$26*1.25))+1,\"0\")","v":"0"},"0","0","0","0","0","0","0","0","0","0","0","0","0",{"$f":"SUM(AS18:BG18)","v":{"v":0,"d":"0.00"}}]
["Excavation Depth, D (ft)",{"$nulls":19},"Brick Flat Soling",null,null,{"$f":"BH26*3","v":{"v":0,"d":"0  Nos"}},{"$nulls":3},{"v":0,"d":"0 Nos"},null,{"v":10,"d":"10.00 TK"},null,{"v":0,"d":"0 TK"},{"$nulls":10},"sand",null,{"$f":"IF(C15>0,(AS23*$E$26*1.5)/$G$26,\"0\")","v":"0"},{"$f":"IF(D15>0,(AT23*$E$26*1.5)/$G$26,\"0\")","v":"0"},"0","0","0","0","0","0","0","0","0","0","0","0","0",{"v":0,"d":"0.00"}]
["Cement Concrete (C.C) inch",{"$nulls":19},"Sand Filling",null,null,{"$f":"BH27","v":{"v":0,"d":"0 CFT"}},{"$nulls":3},{"v":0,"d":"0 CFT"},null,{"v":45,"d":"45.00 TK"},null,{"v":0,"d":"0 TK"},{"$nulls":10},"Stone/Brik Chips",null,{"$f":"IF(C15>0,(AS23*$F$26*1.5)/$G$26,\"0\")","v":"0"},{"$f":"IF(D15>0,(AT23*$F$26*1.5)/$G$26,\"0\")","v":"0"},"0","0","0","0","0","0","0","0","0","0","0","0","0",{"v":0,"d":"0.00"}]
["Brick Flat Soling (inch)",{"$nulls":19},"Formwork",null,null,{"$f":"BH22","v":{"v":0,"d":"0 SFT"}},{"$nulls":3},{"v":0,"d":"0 SFT"},null,{"v":55,"d":"55.00 TK"},null,{"v":0,"d":"0 TK"},{"$nulls":10},"Brick Nos",null,{"$f":"IF(C15>0,AS20*9.5,\"0\")","v":"0"},{"$f":"IF(D15>0,AT20*9.5,\"0\")","v":"0"},"0","0","0","0","0","0","0","0","0","0","0","0","0",{"v":0,"d":"0.00"}]
["Sand Filling (inch)",{"$nulls":19},"Excavation",null,null,{"$f":"BH24","v":{"v":0,"d":"0 CFT"}},{"$nulls":3},{"v":0,"d":"0 CFT"},null,{"v":15,"d":"15.00 TK"},null,{"v":0,"d":"0 TK"},{"$nulls":10},"Framwork",null,{"$f":"IF(C15>0,((C16+C16+C17+C17)*C18/12)*C15,\"0\")","v":"0"},{"$f":"IF(D15>0,((D16+D16+D17+D17)*D18/12)*D15,\"0\")","v":"0"},"0","0","0","0","0","0","0","0","0","0","0","0","0",{"v":0,"d":"0.00"},null,"Stone/Brik Chips",{"$f":"BH20","v":{"v":0,"d":"0 Cft"}}]
[{"$nulls":20},"Total RCC Casting",null,null,{"$f":"BH23","v":{"v":0,"d":"0 CFT"}},{"$nulls":3},{"v":0,"d":"0 CFT"},null,{"v":16,"d":"16.00 TK"},null,{"$f":"AB23*AD23","v":{"v":0,"d":"0 TK"}},{"$nulls":10},"Casting ",null,{"$f":"IF(C15>0,IF(C18>0,((C16*C17*(C18/12)*C15)),\"\"),\"0\")","v":"0"},{"$f":"IF(D15>0,IF(D18>0,((D16*D17*(D18/12)*D15)),\"\"),\"0\")","v":"0"},"0","0","0","0","0","0","0","0","0","0","0","0","0",{"v":0,"d":"0.00"},null,"Brrick Nos",{"$f":"BH21","v":{"v":0,"d":"0 Nos"}}]
[{"$nulls":3},"Rcc casting Ratio",{"$nulls":3},"C.C casting Ratio",{"$nulls":21},"Total Cost=",null,{"$f":"SUM(AF15:AG23)","v":{"v":0,"d":"0 TK"}},{"$nulls":10},"Excavation",null,{"$f":"IF(C15>0,IF(C19>0,((C16*C17*C19)*C15),\"0\"),\"0\")","v":"0"},{"$f":"IF(D15>0,IF(D19>0,((D16*D17*D19)*D15),\"0\"),\"0\")","v":"0"},"0","0","0","0","0","0","0","0","0","0","0","0","0",{"v":0,"d":"0.00"}]
[{"$nulls":42},"C.C",null,{"$f":"IF(C15>0,(IF(C20>0,((C16*C17*(C20/12))*C15),\"0\")),\"0\")","v":"0"},{"$f":"IF(D15>0,(IF(D20>0,((D16*D17*(D20/12))*D15),\"0\")),\"0\")","v":"0"},"0","0","0","0","0","0","0","0","0","0","0","0","0",{"v":0,"d":"0.00"}]
[{"$nulls":3},1,1.5,3,{"$f":"SUM(D26:F26)","v":5.5},{"$nulls":3},{"$f":"SUM(H26:J26)","v":{"v":0,"d":"0.0"}},{"$nulls":31},"Soling ",null,{"$f":"IF(C15>0,IF(C21>0,(C16*C17)*C15,\"0\"),\"0\")","v":"0"},{"$f":"IF(D15>0,IF(D21>0,(D16*D17)*D15,\"0\"),\"0\")","v":"0"},"0","0","0","0","0","0","0","0","0","0","0","0","0",{"v":0,"d":"0.00"}]
[{"$nulls":24}," Reinforcement ",{"$nulls":17},"Sand Filling ",null,{"$f":"IF(C15>0,(IF(C22>0,((C16*C17*(C22/12))*C15),\"0\")),\"0\")","v":"0"},{"$f":"IF(D15>0,(IF(D22>0,((D16*D17*(D22/12))*D15),\"0\")),\"0\")","v":"0"},"0","0","0","0","0","0","0","0","0","0","0","0","0",{"v":0,"d":"0.00"}]
["Pile Cap Rebar Calculation",null,null,"Type-1","Type-2","Type-3","Type-4","Type-5","Type-6","Type-7","Type-8","Type-9","Type-10","Type-11","Type-12","Type-13","Type-14","Type-15",{"$nulls":8},{"$f":"IF(Z28>0,SUMIF($AS$35:$BG$38,Z28,$BI$35:$BW$38),\"\")","v":""},{"$nulls":15},"long direction ",null,{"$f":"IF(C15>0,IF(D30>0,(((C17*12-D38-D38)/D30+1))*(D29^2/532)*(C16-((D38/12+D38/12-D37/12-D37/12)))*C15,\"0\"),\"0\")","v":"0"},{"$f":"IF(D15>0,IF(E30>0,(((D17*12-E38-E38)/E30+1))*(E29^2/532)*(D16-((E38/12+E38/12-E37/12-E37/12)))*D15,\"0\"),\"0\")","v":"0"},"0","0","0","0","0","0","0","0","0","0","0","0","0",{"v":0,"d":"0.00"}]
["Bottom layer","long direction Dia (mm)",{"$nulls":24},{"$f":"IF(Z29>0,SUMIF($AS$35:$BG$38,Z29,$BI$35:$BW$38),\"\")","v":""},{"$nulls":15},"Short direction  ",null,{"$f":"IF(C15>0,IF(D32>0,(((C16*12-D38-D38)/D32+1))*(D31^2/532)*(C17-((D38/12+D38/12-D37/12-D37/12)))*C15,\"0\"),\"0\")","v":"0"},{"$f":"IF(D15>0,IF(E32>0,(((D16*12-E38-E38)/E32+1))*(E31^2/532)*(D17-((E38/12+E38/12-E37/12-E37/12)))*D15,\"0\"),\"0\")","v":"0"},"0","0","0","0","0","0","0","0","0","0","0","0","0",{"v":0,"d":"0.00"}]
[null,"Specing(inh)",{"$nulls":24},"",{"$nulls":15},"long direction",null,{"$f":"IF(C15>0,IF(D34>0,(((C17*12-D38-D38)/D34+1))*(D33^2/532)*(C16-((D38/12+D38/12-D37/12-D37/12)))*C15,\"0\"),\"0\")","v":"0"},{"$f":"IF(D15>0,IF(E34>0,(((D17*12-E38-E38)/E34+1))*(E33^2/532)*(D16-((E38/12+E38/12-E37/12-E37/12)))*D15,\"0\"),\"0\")","v":"0"},"0","0","0","0","0","0","0","0","0","0","0","0","0",{"v":0,"d":"0.00"}]
[null,"Short direction  Dia (mm)",{"$nulls":24},"",{"$nulls":15},"Short direction",null,{"$f":"IF(C15>0,IF(D36>0,(((C16*12-D38-D38)/D36+1))*(D35^2/532)*(C17-((D38/12+D38/12-D37/12-D37/12)))*C15,\"0\"),\"0\")","v":"0"},{"$f":"IF(D15>0,IF(E36>0,(((D16*12-E38-E38)/E36+1))*(E35^2/532)*(D17-((E38/12+E38/12-E37/12-E37/12)))*D15,\"0\"),\"0\")","v":"0"},"0","0","0","0","0","0","0","0","0","0","0","0","0",{"v":0,"d":"0.00"}]
[null,"Specing(inh)",{"$nulls":24},"",{"$nulls":33},1]
["Top layer","long direction Dia (mm)",{"$nulls":24},""]
[null,"Specing(inh)",{"$nulls":24},"",{"$nulls":17},1,2,3,4,5,6,7,8,9,10,11,12,13,14,15]
[null,"Short direction  Dia (mm)",{"$nulls":24},"",{"$nulls":17},{"$f":"D29","v":{"v":0,"d":"0 MM"}},{"$f":"E29","v":{"v":0,"d":"0 MM"}},{"v":0,"d":"0 MM"},{"v":0,"d":"0 MM"},{"v":0,"d":"0 MM"},{"v":0,"d":"0 MM"},{"v":0,"d":"0 MM"},{"v":0,"d":"0 MM"},{"v":0,"d":"0 MM"},{"v":0,"d":"0 MM"},{"v":0,"d":"0 MM"},{"v":0,"d":"0 MM"},{"v":0,"d":"0 MM"},{"v":0,"d":"0 MM"},{"v":0,"d":"0 MM"},null,{"$f":"IF(C15>0,AS28+$Z$15*AS28/100,\"\")","v":""},{"$f":"IF(D15>0,AT28+$Z$15*AT28/100,\"\")","v":""},"","","","","","","","","","","","",""]
[null,"Specing (inh)",{"$nulls":24},"",{"$nulls":17},{"$f":"D31","v":{"v":0,"d":"0 MM"}},{"$f":"E31","v":{"v":0,"d":"0 MM"}},{"v":0,"d":"0 MM"},{"v":0,"d":"0 MM"},{"v":0,"d":"0 MM"},{"v":0,"d":"0 MM"},{"v":0,"d":"0 MM"},{"v":0,"d":"0 MM"},{"v":0,"d":"0 MM"},{"v":0,"d":"0 MM"},{"v":0,"d":"0 MM"},{"v":0,"d":"0 MM"},{"v":0,"d":"0 MM"},{"v":0,"d":"0 MM"},{"v":0,"d":"0 MM"},null,{"$f":"IF(C15>0,AS29+$Z$15*AS29/100,\"\")","v":""},{"$f":"IF(D15>0,AT29+$Z$15*AT29/100,\"\")","v":""},"","","","","","","","","","","","",""]
["Development length (inh)",{"$nulls":43},{"$f":"D33","v":{"v":0,"d":"0 MM"}},{"$f":"E33","v":{"v":0,"d":"0 MM"}},{"v":0,"d":"0 MM"},{"v":0,"d":"0 MM"},{"v":0,"d":"0 MM"},{"v":0,"d":"0 MM"},{"v":0,"d":"0 MM"},{"v":0,"d":"0 MM"},{"v":0,"d":"0 MM"},{"v":0,"d":"0 MM"},{"v":0,"d":"0 MM"},{"v":0,"d":"0 MM"},{"v":0,"d":"0 MM"},{"v":0,"d":"0 MM"},{"v":0,"d":"0 MM"},null,{"$f":"IF(C15>0,AS30+$Z$15*AS30/100,\"\")","v":""},{"$f":"IF(D15>0,AT30+$Z$15*AT30/100,\"\")","v":""},"","","","","","","","","","","","",""]
["Clear Cover (inh)",{"$nulls":43},{"$f":"D35","v":{"v":0,"d":"0 MM"}},{"$f":"E35","v":{"v":0,"d":"0 MM"}},{"v":0,"d":"0 MM"},{"v":0,"d":"0 MM"},{"v":0,"d":"0 MM"},{"v":0,"d":"0 MM"},{"v":0,"d":"0 MM"},{"v":0,"d":"0 MM"},{"v":0,"d":"0 MM"},{"v":0,"d":"0 MM"},{"v":0,"d":"0 MM"},{"v":0,"d":"0 MM"},{"v":0,"d":"0 MM"},{"v":0,"d":"0 MM"},{"v":0,"d":"0 MM"},null,{"$f":"IF(C15>0,AS31+$Z$15*AS31/100,\"\")","v":""},{"$f":"IF(D15>0,AT31+$Z$15*AT31/100,\"\")","v":""},"","","","","","","","","","","","",""]
[]
[{"$nulls":60},1,2,3,4,5,6,7,8,9,10,11,12,13,14,15]

{"sheet":"Trapezoidal Pile Cap ","index":2,"n_rows":41,"n_cols":88,"rows_kept":41,"hidden":true,"merged":[[1,0,2,20],[3,0,4,20],[5,0,5,20],[6,0,7,20],[8,0,8,20],[12,0,13,16],[12,20,13,32],[14,0,14,1],[14,20,14,23],[14,24,14,25],[14,27,14,28],[14,29,14,30],[14,31,14,32],[14,72,14,73],[15,0,15,1],[15,20,15,23],[15,24,15,25],[15,26,23,26],[15,27,15,28],[15,29,15,30],[15,31,15,32],[15,55,15,56],[15,72,15,73],[16,0,16,1],[16,20,16,23],[16,24,16,25],[16,27,16,28],[16,29,16,30],[16,31,16,32],[16,55,16,56],[16,72,16,73],[17,0,17,1],[17,20,17,23],[17,24,17,25],[17,27,17,28],[17,29,17,30],[17,31,17,32],[17,55,17,56],[17,72,17,73],[18,0,18,1],[18,20,18,23],[18,24,18,25],[18,27,18,28],[18,29,18,30],[18,31,18,32],[18,55,18,56],[18,72,18,73],[19,0,19,1],[19,20,19,23],[19,24,19,25],[19,27,19,28],[19,29,19,30],[19,31,19,32],[19,55,19,56],[19,72,19,73],[20,0,20,1],[20,20,20,23],[20,24,20,25],[20,27,20,28],[20,29,20,30],[20,31,20,32],[20,55,20,56],[20,72,20,73],[21,0,21,1],[21,20,21,23],[21,24,21,25],[21,27,21,28],[21,29,21,30],[21,31,21,32],[21,55,21,56],[21,72,21,73],[22,0,22,1],[22,20,22,23],[22,24,22,25],[22,27,22,28],[22,29,22,30],[22,31,22,32],[22,55,22,56],[22,72,22,73],[23,0,23,1],[23,20,23,23],[23,24,23,25],[23,27,23,28],[23,29,23,30],[23,31,23,32],[23,55,23,56],[23,72,23,73],[24,0,24,1],[24,29,24,30],[24,31,24,32],[24,55,24,56],[24,72,24,73],[25,38,25,39],[25,55,25,56],[25,72,25,73],[26,3,27,6],[26,7,27,10],[26,55,26,56],[26,72,26,73],[27,25,27,29],[27,55,27,56],[27,72,27,73],[28,27,28,28],[28,55,28,56],[28,72,28,73],[29,27,29,28],[29,37,29,38],[29,55,29,56],[29,72,29,73],[30,0,30,2],[30,27,30,28],[30,55,30,56],[30,72,30,73],[31,0,34,0],[31,1,31,2],[31,27,31,28],[32,1,32,2],[32,27,32,28],[33,1,33,2],[33,27,33,28],[33,55,33,56],[34,1,34,2],[34,27,34,28],[34,55,34,56],[35,0,38,0],[35,1,35,2],[35,27,35,28],[35,55,35,56],[36,1,36,2],[36,27,36,28],[36,55,36,56],[37,1,37,2],[37,24,37,25],[38,1,38,2],[39,0,39,2],[40,0,40,2]]}
[]
["This is The Property of NOR DESIGN SOLUTION"]
[]
[]
[]
["এক্সেল শীট বিষয়ক কিছু জানার থাকলে বা আপডেট নিয়ে কোন পরামর্শ থাকলে আমাদের সাথে যোগাযোগ করুন অথবা ওয়েবসাইটে কমেন্ট করুন"]
["এক্সেল শীট সম্পর্কে যাবতীয় তথ্য বিস্তারিত জানতে ভিজিট করুন আমাদের ইউটিউব চ্যানেলে"]
[]
["Click Here To Watch The Trapezoidal Pile Cap Estimate video"]
[]
[]
[]
["Trapezoidal Pile Cap",{"$nulls":19},"Trapezoidal Shap Pile Cap Estimated And Price",{"$nulls":20},"L-1",{"$nulls":15},"Cement","Sand","Stone","Rod","Casting","Excavation","Sand Filling ","Formwork","Brick Nos","Bricl Flat Soling ","C.c"]
[{"$nulls":57},{"$f":"AB16","v":{"v":0,"d":"0 Bag"}},{"$f":"AB17","v":{"v":0,"d":"0 CFT"}},{"$f":"BZ20+AA16*BZ20/100","v":0},{"$f":"AB19","v":{"v":0,"d":"0.000 Ton"}},{"$f":"AB24","v":{"v":0,"d":"0 CFT"}},{"$f":"AB20","v":{"v":0,"d":"0 CFT"}},{"$f":"Y22","v":{"v":0,"d":"0 CFT"}},{"$f":"Y23","v":{"v":0,"d":"0 SFT"}},{"$f":"BZ21+AA16*BZ21/100","v":0},{"$f":"Y21","v":{"v":0,"d":"0 Nos"}}]
["Description",null,"Type-1","Type-2","Type-3","Type-4","Type-5","Type-6","Type-7","Type-8","Type-9","Type-10","Type-11","Type-12","Type-13","Type-14","Type-15",{"$nulls":3},"DESCRIPTION",{"$nulls":3},"Total Quantity",null,"Wastage Add","Quantity (Wastage Add) ",null,"Rate",null,"Amount TK",{"$nulls":11},"L-4",{"$nulls":28},"Sum"]
["Nos",{"$nulls":19},"Cement ",{"$nulls":3},{"$f":"BU16+BU18","v":{"v":0,"d":"0 Bag"}},null,{"v":0,"d":"0 % ADD"},{"$f":"Y16+$AA$16*Y16/100","v":{"v":0,"d":"0 Bag"}},null,{"v":550,"d":"550.00 TK"},null,{"$f":"AD16*AB16","v":{"v":0,"d":"0 TK"}},{"$nulls":23},"Cement ",null,{"$f":"IF(C16>0,(BF24*$H$29*1.54)/($K$29*1.25),\"\")","v":""},{"$f":"IF(D16>0,(BG24*$H$29*1.54)/($K$29*1.25),\"\")","v":""},{"$f":"IF(E16>0,(BH24*$H$29*1.54)/($K$29*1.25),\"\")","v":""},{"$f":"IF(F16>0,(BI24*$H$29*1.54)/($K$29*1.25),\"\")","v":""},{"$f":"IF(G16>0,(BJ24*$H$29*1.54)/($K$29*1.25),\"\")","v":""},{"$f":"IF(H16>0,(BK24*$H$29*1.54)/($K$29*1.25),\"\")","v":""},{"$f":"IF(I16>0,(BL24*$H$29*1.54)/($K$29*1.25),\"\")","v":""},{"$f":"IF(J16>0,(BM24*$H$29*1.54)/($K$29*1.25),\"\")","v":""},{"$f":"IF(K16>0,(BN24*$H$29*1.54)/($K$29*1.25),\"\")","v":""},{"$f":"IF(L16>0,(BO24*$H$29*1.54)/($K$29*1.25),\"\")","v":""},{"$f":"IF(M16>0,(BP24*$H$29*1.54)/($K$29*1.25),\"\")","v":""},{"$f":"IF(N16>0,(BQ24*$H$29*1.54)/($K$29*1.25),\"\")","v":""},{"$f":"IF(O16>0,(BR24*$H$29*1.54)/($K$29*1.25),\"\")","v":""},{"$f":"IF(P16>0,(BS24*$H$29*1.54)/($K$29*1.25),\"\")","v":""},{"$f":"IF(Q16>0,(BT24*$H$29*1.54)/($K$29*1.25),\"\")","v":""},{"$f":"SUM(BF16:BT16)","v":{"v":0,"d":"0.00"}}]
["Length-1 (ft)",{"$nulls":19},"Sand",{"$nulls":3},{"$f":"BU17+BU19","v":{"v":0,"d":"0 CFT"}},null,null,{"$f":"Y17+$AA$16*Y17/100","v":{"v":0,"d":"0 CFT"}},null,{"v":45,"d":"45.00 TK"},null,{"v":0,"d":"0 TK"},{"$nulls":23},"Sand ",null,{"$f":"IF(C16>0,(BF24*1.54*$I$29)/$K$29,\"\")","v":""},{"$f":"IF(D16>0,(BG24*1.54*$I$29)/$K$29,\"\")","v":""},{"$f":"IF(E16>0,(BH24*1.54*$I$29)/$K$29,\"\")","v":""},{"$f":"IF(F16>0,(BI24*1.54*$I$29)/$K$29,\"\")","v":""},{"$f":"IF(G16>0,(BJ24*1.54*$I$29)/$K$29,\"\")","v":""},{"$f":"IF(H16>0,(BK24*1.54*$I$29)/$K$29,\"\")","v":""},{"$f":"IF(I16>0,(BL24*1.54*$I$29)/$K$29,\"\")","v":""},{"$f":"IF(J16>0,(BM24*1.54*$I$29)/$K$29,\"\")","v":""},{"$f":"IF(K16>0,(BN24*1.54*$I$29)/$K$29,\"\")","v":""},{"$f":"IF(L16>0,(BO24*1.54*$I$29)/$K$29,\"\")","v":""},{"$f":"IF(M16>0,(BP24*1.54*$I$29)/$K$29,\"\")","v":""},{"$f":"IF(N16>0,(BQ24*1.54*$I$29)/$K$29,\"\")","v":""},{"$f":"IF(O16>0,(BR24*1.54*$I$29)/$K$29,\"\")","v":""},{"$f":"IF(P16>0,(BS24*1.54*$I$29)/$K$29,\"\")","v":""},{"$f":"IF(Q16>0,(BT24*1.54*$I$29)/$K$29,\"\")","v":""},{"$f":"SUM(BF17:BT17)","v":{"v":0,"d":"0.00"}}]
["Length-2 (ft)",{"$nulls":19},"Stone/Brick Chips (CFT)",{"$nulls":3},{"$f":"VLOOKUP(U18,BY20:BZ21,2,0)","v":0},null,null,0,null,{"v":1,"d":"1.00 TK"},null,{"v":0,"d":"0 TK"},{"$nulls":23},"Cement ",null,{"$f":"IF(C16>0,(BF22*$D$29*1.54)/($G$29*1.25),\"\")","v":""},{"$f":"IF(D16>0,(BG22*$D$29*1.54)/($G$29*1.25),\"\")","v":""},{"$f":"IF(E16>0,(BH22*$D$29*1.54)/($G$29*1.25),\"\")","v":""},{"$f":"IF(F16>0,(BI22*$D$29*1.54)/($G$29*1.25),\"\")","v":""},{"$f":"IF(G16>0,(BJ22*$D$29*1.54)/($G$29*1.25),\"\")","v":""},{"$f":"IF(H16>0,(BK22*$D$29*1.54)/($G$29*1.25),\"\")","v":""},{"$f":"IF(I16>0,(BL22*$D$29*1.54)/($G$29*1.25),\"\")","v":""},{"$f":"IF(J16>0,(BM22*$D$29*1.54)/($G$29*1.25),\"\")","v":""},{"$f":"IF(K16>0,(BN22*$D$29*1.54)/($G$29*1.25),\"\")","v":""},{"$f":"IF(L16>0,(BO22*$D$29*1.54)/($G$29*1.25),\"\")","v":""},{"$f":"IF(M16>0,(BP22*$D$29*1.54)/($G$29*1.25),\"\")","v":""},{"$f":"IF(N16>0,(BQ22*$D$29*1.54)/($G$29*1.25),\"\")","v":""},{"$f":"IF(O16>0,(BR22*$D$29*1.54)/($G$29*1.25),\"\")","v":""},{"$f":"IF(P16>0,(BS22*$D$29*1.54)/($G$29*1.25),\"\")","v":""},{"$f":"IF(Q16>0,(BT22*$D$29*1.54)/($G$29*1.25),\"\")","v":""},{"v":0,"d":"0.00"}]
["Length-3 (ft)",{"$nulls":19},"Rod/Rebar",{"$nulls":3},{"$f":"SUM(BU28:BV31)/1000","v":{"v":0,"d":"0.000 Ton"}},null,null,{"v":0,"d":"0.000 Ton"},null,{"v":95000,"d":"95000.00 TK"},null,{"v":0,"d":"0 TK"},{"$nulls":12},"L-3",{"$nulls":10},"Sand ",null,{"$f":"IF(C16>0,(BF22*1.54*$E$29)/$G$29,\"\")","v":""},{"$f":"IF(D16>0,(BG22*1.54*$E$29)/$G$29,\"\")","v":""},{"$f":"IF(E16>0,(BH22*1.54*$E$29)/$G$29,\"\")","v":""},{"$f":"IF(F16>0,(BI22*1.54*$E$29)/$G$29,\"\")","v":""},{"$f":"IF(G16>0,(BJ22*1.54*$E$29)/$G$29,\"\")","v":""},{"$f":"IF(H16>0,(BK22*1.54*$E$29)/$G$29,\"\")","v":""},{"$f":"IF(I16>0,(BL22*1.54*$E$29)/$G$29,\"\")","v":""},{"$f":"IF(J16>0,(BM22*1.54*$E$29)/$G$29,\"\")","v":""},{"$f":"IF(K16>0,(BN22*1.54*$E$29)/$G$29,\"\")","v":""},{"$f":"IF(L16>0,(BO22*1.54*$E$29)/$G$29,\"\")","v":""},{"$f":"IF(M16>0,(BP22*1.54*$E$29)/$G$29,\"\")","v":""},{"$f":"IF(N16>0,(BQ22*1.54*$E$29)/$G$29,\"\")","v":""},{"$f":"IF(O16>0,(BR22*1.54*$E$29)/$G$29,\"\")","v":""},{"$f":"IF(P16>0,(BS22*1.54*$E$29)/$G$29,\"\")","v":""},{"$f":"IF(Q16>0,(BT22*1.54*$E$29)/$G$29,\"\")","v":""},{"v":0,"d":"0.00"}]
["Length-4 (ft)",{"$nulls":19},"Excabation",{"$nulls":3},{"$f":"BU23","v":{"v":0,"d":"0 CFT"}},null,null,{"v":0,"d":"0 CFT"},null,{"v":40,"d":"40.00 TK"},null,{"v":0,"d":"0 TK"},{"$nulls":23},"Stone/Brick Chips",null,{"$f":"IF(C16>0,(BF22*1.54*$F$29)/$G$29,\"\")","v":""},{"$f":"IF(D16>0,(BG22*1.54*$F$29)/$G$29,\"\")","v":""},{"$f":"IF(E16>0,(BH22*1.54*$F$29)/$G$29,\"\")","v":""},{"$f":"IF(F16>0,(BI22*1.54*$F$29)/$G$29,\"\")","v":""},{"$f":"IF(G16>0,(BJ22*1.54*$F$29)/$G$29,\"\")","v":""},{"$f":"IF(H16>0,(BK22*1.54*$F$29)/$G$29,\"\")","v":""},{"$f":"IF(I16>0,(BL22*1.54*$F$29)/$G$29,\"\")","v":""},{"$f":"IF(J16>0,(BM22*1.54*$F$29)/$G$29,\"\")","v":""},{"$f":"IF(K16>0,(BN22*1.54*$F$29)/$G$29,\"\")","v":""},{"$f":"IF(L16>0,(BO22*1.54*$F$29)/$G$29,\"\")","v":""},{"$f":"IF(M16>0,(BP22*1.54*$F$29)/$G$29,\"\")","v":""},{"$f":"IF(N16>0,(BQ22*1.54*$F$29)/$G$29,\"\")","v":""},{"$f":"IF(O16>0,(BR22*1.54*$F$29)/$G$29,\"\")","v":""},{"$f":"IF(P16>0,(BS22*1.54*$F$29)/$G$29,\"\")","v":""},{"$f":"IF(Q16>0,(BT22*1.54*$F$29)/$G$29,\"\")","v":""},{"v":0,"d":"0.00"},{"$nulls":3},"Stone/Brick Chips (CFT)",{"$f":"BU20","v":0}]
["Casting Thickness, T (inch)",{"$nulls":19},"Brick Falt Soling ",{"$nulls":3},{"$f":"BU25*3","v":{"v":0,"d":"0 Nos"}},null,null,{"v":0,"d":"0 Nos"},null,{"v":10,"d":"10.00 TK"},null,{"v":0,"d":"0 TK"},{"$nulls":23},"Brick Non",null,{"$f":"IF(C16>0,BF20*9.5,\"\")","v":""},{"$f":"IF(D16>0,BG20*9.5,\"\")","v":""},{"$f":"IF(E16>0,BH20*9.5,\"\")","v":""},{"$f":"IF(F16>0,BI20*9.5,\"\")","v":""},{"$f":"IF(G16>0,BJ20*9.5,\"\")","v":""},{"$f":"IF(H16>0,BK20*9.5,\"\")","v":""},{"$f":"IF(I16>0,BL20*9.5,\"\")","v":""},{"$f":"IF(J16>0,BM20*9.5,\"\")","v":""},{"$f":"IF(K16>0,BN20*9.5,\"\")","v":""},{"$f":"IF(L16>0,BO20*9.5,\"\")","v":""},{"$f":"IF(M16>0,BP20*9.5,\"\")","v":""},{"$f":"IF(N16>0,BQ20*9.5,\"\")","v":""},{"$f":"IF(O16>0,BR20*9.5,\"\")","v":""},{"$f":"IF(P16>0,BS20*9.5,\"\")","v":""},{"$f":"IF(Q16>0,BT20*9.5,\"\")","v":""},{"v":0,"d":"0.00"},{"$nulls":3},"Brick Non (Nos)",{"$f":"BU21","v":0}]
["Excavation Depth, D (ft)",{"$nulls":19},"Sand Filling",{"$nulls":3},{"$f":"BU26","v":{"v":0,"d":"0 CFT"}},null,null,{"v":0,"d":"0 CFT"},{"$nulls":3},{"v":0,"d":"0 TK"},{"$nulls":9},"L-2",{"$nulls":13}," Casting",null,{"$f":"IF(C16>0,((C18*C19)+(C18+C17)/2*C20)*(C21/12)*C16,\" \")","v":" "},{"$f":"IF(D16>0,((D18*D19)+(D18+D17)/2*D20)*(D21/12)*D16,\" \")","v":" "},{"$f":"IF(E16>0,((E18*E19)+(E18+E17)/2*E20)*(E21/12)*E16,\" \")","v":" "},{"$f":"IF(F16>0,((F18*F19)+(F18+F17)/2*F20)*(F21/12)*F16,\" \")","v":" "},{"$f":"IF(G16>0,((G18*G19)+(G18+G17)/2*G20)*(G21/12)*G16,\" \")","v":" "},{"$f":"IF(H16>0,((H18*H19)+(H18+H17)/2*H20)*(H21/12)*H16,\" \")","v":" "},{"$f":"IF(I16>0,((I18*I19)+(I18+I17)/2*I20)*(I21/12)*I16,\" \")","v":" "},{"$f":"IF(J16>0,((J18*J19)+(J18+J17)/2*J20)*(J21/12)*J16,\" \")","v":" "},{"$f":"IF(K16>0,((K18*K19)+(K18+K17)/2*K20)*(K21/12)*K16,\" \")","v":" "},{"$f":"IF(L16>0,((L18*L19)+(L18+L17)/2*L20)*(L21/12)*L16,\" \")","v":" "},{"$f":"IF(M16>0,((M18*M19)+(M18+M17)/2*M20)*(M21/12)*M16,\" \")","v":" "},{"$f":"IF(N16>0,((N18*N19)+(N18+N17)/2*N20)*(N21/12)*N16,\" \")","v":" "},{"$f":"IF(O16>0,((O18*O19)+(O18+O17)/2*O20)*(O21/12)*O16,\" \")","v":" "},{"$f":"IF(P16>0,((P18*P19)+(P18+P17)/2*P20)*(P21/12)*P16,\" \")","v":" "},{"$f":"IF(Q16>0,((Q18*Q19)+(Q18+Q17)/2*Q20)*(Q21/12)*Q16,\" \")","v":" "},{"v":0,"d":"0.00"}]
["Cement Concrete (C.C) inch",{"$nulls":19},"Formwork",{"$nulls":3},{"$f":"BU27","v":{"v":0,"d":"0 SFT"}},null,null,{"v":0,"d":"0 SFT"},null,{"v":85,"d":"85.00 TK"},null,{"v":0,"d":"0 TK"},{"$nulls":23},"Excavation Depth, ",null,{"$f":"IF(C16>0,(((C18*C19)+(C18+C17)/2*C20)*C22)*C16,\"\")","v":""},{"$f":"IF(D16>0,(((D18*D19)+(D18+D17)/2*D20)*D22)*D16,\"\")","v":""},{"$f":"IF(E16>0,(((E18*E19)+(E18+E17)/2*E20)*E22)*E16,\"\")","v":""},{"$f":"IF(F16>0,(((F18*F19)+(F18+F17)/2*F20)*F22)*F16,\"\")","v":""},{"$f":"IF(G16>0,(((G18*G19)+(G18+G17)/2*G20)*G22)*G16,\"\")","v":""},{"$f":"IF(H16>0,(((H18*H19)+(H18+H17)/2*H20)*H22)*H16,\"\")","v":""},{"$f":"IF(I16>0,(((I18*I19)+(I18+I17)/2*I20)*I22)*I16,\"\")","v":""},{"$f":"IF(J16>0,(((J18*J19)+(J18+J17)/2*J20)*J22)*J16,\"\")","v":""},{"$f":"IF(K16>0,(((K18*K19)+(K18+K17)/2*K20)*K22)*K16,\"\")","v":""},{"$f":"IF(L16>0,(((L18*L19)+(L18+L17)/2*L20)*L22)*L16,\"\")","v":""},{"$f":"IF(M16>0,(((M18*M19)+(M18+M17)/2*M20)*M22)*M16,\"\")","v":""},{"$f":"IF(N16>0,(((N18*N19)+(N18+N17)/2*N20)*N22)*N16,\"\")","v":""},{"$f":"IF(O16>0,(((O18*O19)+(O18+O17)/2*O20)*O22)*O16,\"\")","v":""},{"$f":"IF(P16>0,(((P18*P19)+(P18+P17)/2*P20)*P22)*P16,\"\")","v":""},{"$f":"IF(Q16>0,(((Q18*Q19)+(Q18+Q17)/2*Q20)*Q22)*Q16,\"\")","v":""},{"v":0,"d":"0.00"}]
["Brick Flat SOLING (inch)",{"$nulls":19},"Total Casting/RCC",{"$nulls":3},{"$f":"BU22","v":{"v":0,"d":"0 CFT"}},null,null,{"v":0,"d":"0 CFT"},null,{"v":86,"d":"86.00 TK"},null,{"$f":"AD24*AB24","v":{"v":0,"d":"0 TK"}},{"$nulls":23},"C.C ",null,{"$f":"IF(C16>0,((C18*C19)+(C18+C17)/2*C20)*(C23/12)*C16,\"\")","v":""},{"$f":"IF(D16>0,((D18*D19)+(D18+D17)/2*D20)*(D23/12)*D16,\"\")","v":""},{"$f":"IF(E16>0,((E18*E19)+(E18+E17)/2*E20)*(E23/12)*E16,\"\")","v":""},{"$f":"IF(F16>0,((F18*F19)+(F18+F17)/2*F20)*(F23/12)*F16,\"\")","v":""},{"$f":"IF(G16>0,((G18*G19)+(G18+G17)/2*G20)*(G23/12)*G16,\"\")","v":""},{"$f":"IF(H16>0,((H18*H19)+(H18+H17)/2*H20)*(H23/12)*H16,\"\")","v":""},{"$f":"IF(I16>0,((I18*I19)+(I18+I17)/2*I20)*(I23/12)*I16,\"\")","v":""},{"$f":"IF(J16>0,((J18*J19)+(J18+J17)/2*J20)*(J23/12)*J16,\"\")","v":""},{"$f":"IF(K16>0,((K18*K19)+(K18+K17)/2*K20)*(K23/12)*K16,\"\")","v":""},{"$f":"IF(L16>0,((L18*L19)+(L18+L17)/2*L20)*(L23/12)*L16,\"\")","v":""},{"$f":"IF(M16>0,((M18*M19)+(M18+M17)/2*M20)*(M23/12)*M16,\"\")","v":""},{"$f":"IF(N16>0,((N18*N19)+(N18+N17)/2*N20)*(N23/12)*N16,\"\")","v":""},{"$f":"IF(O16>0,((O18*O19)+(O18+O17)/2*O20)*(O23/12)*O16,\"\")","v":""},{"$f":"IF(P16>0,((P18*P19)+(P18+P17)/2*P20)*(P23/12)*P16,\"\")","v":""},{"$f":"IF(Q16>0,((Q18*Q19)+(Q18+Q17)/2*Q20)*(Q23/12)*Q16,\"\")","v":""},{"v":0,"d":"0.00"}]
["Sand Filling (inch)",{"$nulls":28},"Total Cost=",null,{"$f":"SUM(AF16:AG24)","v":{"v":0,"d":"0 TK"}},{"$nulls":23},"Brick Falt Soling ",null,{"$f":"IF(AND(C16>0,C24>0),(C18*C19+(C18+C17)/2*C20)*C16,\"\")","v":""},{"$f":"IF(AND(D16>0,D24>0),(D18*D19+(D18+D17)/2*D20)*D16,\"\")","v":""},"","","","","","","","","","","","","",{"v":0,"d":"0.00"}]
[{"$nulls":55},"Sand Filling ",null,{"$f":"IF(AND(C16>0,C25>0),((C18*C19)+(C18+C17)/2*C20)*(C25/12)*C16,\"\")","v":""},{"$f":"IF(AND(D16>0,D25>0),((D18*D19)+(D18+D17)/2*D20)*(D25/12)*D16,\"\")","v":""},"","","","","","","","","","","","","",{"v":0,"d":"0.00"}]
[{"$nulls":3},"Rcc casting Ratio",{"$nulls":3},"C.C casting Ratio",{"$nulls":47}," Formwork ",null,{"$f":"IF(C16>0,((C18+C19+(IF(C16>0,SQRT((((C18-C17)/2))^2+C20^2),\"\"))+C17+(IF(C16>0,SQRT((((C18-C17)/2))^2+C20^2),\"\"))+C19)*C21/12)*C16,\"\")","v":""},{"$f":"IF(D16>0,((D18+D19+(IF(D16>0,SQRT((((D18-D17)/2))^2+D20^2),\"\"))+D17+(IF(D16>0,SQRT((((D18-D17)/2))^2+D20^2),\"\"))+D19)*D21/12)*D16,\"\")","v":""},{"$f":"IF(E16>0,((E18+E19+(IF(E16>0,SQRT((((E18-E17)/2))^2+E20^2),\"\"))+E17+(IF(E16>0,SQRT((((E18-E17)/2))^2+E20^2),\"\"))+E19)*E21/12)*E16,\"\")","v":""},{"$f":"IF(F16>0,((F18+F19+(IF(F16>0,SQRT((((F18-F17)/2))^2+F20^2),\"\"))+F17+(IF(F16>0,SQRT((((F18-F17)/2))^2+F20^2),\"\"))+F19)*F21/12)*F16,\"\")","v":""},{"$f":"IF(G16>0,((G18+G19+(IF(G16>0,SQRT((((G18-G17)/2))^2+G20^2),\"\"))+G17+(IF(G16>0,SQRT((((G18-G17)/2))^2+G20^2),\"\"))+G19)*G21/12)*G16,\"\")","v":""},{"$f":"IF(H16>0,((H18+H19+(IF(H16>0,SQRT((((H18-H17)/2))^2+H20^2),\"\"))+H17+(IF(H16>0,SQRT((((H18-H17)/2))^2+H20^2),\"\"))+H19)*H21/12)*H16,\"\")","v":""},{"$f":"IF(I16>0,((I18+I19+(IF(I16>0,SQRT((((I18-I17)/2))^2+I20^2),\"\"))+I17+(IF(I16>0,SQRT((((I18-I17)/2))^2+I20^2),\"\"))+I19)*I21/12)*I16,\"\")","v":""},{"$f":"IF(J16>0,((J18+J19+(IF(J16>0,SQRT((((J18-J17)/2))^2+J20^2),\"\"))+J17+(IF(J16>0,SQRT((((J18-J17)/2))^2+J20^2),\"\"))+J19)*J21/12)*J16,\"\")","v":""},{"$f":"IF(K16>0,((K18+K19+(IF(K16>0,SQRT((((K18-K17)/2))^2+K20^2),\"\"))+K17+(IF(K16>0,SQRT((((K18-K17)/2))^2+K20^2),\"\"))+K19)*K21/12)*K16,\"\")","v":""},{"$f":"IF(L16>0,((L18+L19+(IF(L16>0,SQRT((((L18-L17)/2))^2+L20^2),\"\"))+L17+(IF(L16>0,SQRT((((L18-L17)/2))^2+L20^2),\"\"))+L19)*L21/12)*L16,\"\")","v":""},{"$f":"IF(M16>0,((M18+M19+(IF(M16>0,SQRT((((M18-M17)/2))^2+M20^2),\"\"))+M17+(IF(M16>0,SQRT((((M18-M17)/2))^2+M20^2),\"\"))+M19)*M21/12)*M16,\"\")","v":""},{"$f":"IF(N16>0,((N18+N19+(IF(N16>0,SQRT((((N18-N17)/2))^2+N20^2),\"\"))+N17+(IF(N16>0,SQRT((((N18-N17)/2))^2+N20^2),\"\"))+N19)*N21/12)*N16,\"\")","v":""},{"$f":"IF(O16>0,((O18+O19+(IF(O16>0,SQRT((((O18-O17)/2))^2+O20^2),\"\"))+O17+(IF(O16>0,SQRT((((O18-O17)/2))^2+O20^2),\"\"))+O19)*O21/12)*O16,\"\")","v":""},{"$f":"IF(P16>0,((P18+P19+(IF(P16>0,SQRT((((P18-P17)/2))^2+P20^2),\"\"))+P17+(IF(P16>0,SQRT((((P18-P17)/2))^2+P20^2),\"\"))+P19)*P21/12)*P16,\"\")","v":""},{"$f":"IF(Q16>0,((Q18+Q19+(IF(Q16>0,SQRT((((Q18-Q17)/2))^2+Q20^2),\"\"))+Q17+(IF(Q16>0,SQRT((((Q18-Q17)/2))^2+Q20^2),\"\"))+Q19)*Q21/12)*Q16,\"\")","v":""},{"v":0,"d":"0.00"}]
[{"$nulls":25}," Reinforcement ",{"$nulls":29},"Bottom long direction",null,{"$f":"IF(AND(C16>0,D32>0),(((C19+C20)*12-D41-D41)/D33+2)*(((C18+C17)-D41/12-D41/12)/2+D40/12+D40/12)*((D32^2/532)*C16),\"\")","v":""},{"$f":"IF(AND(D16>0,E32>0),(((D19+D20)*12-E41-E41)/E33+2)*(((D18+D17)-E41/12-E41/12)/2+E40/12+E40/12)*((E32^2/532)*D16),\"\")","v":""},"","","","","","","","","","","","","",{"v":0,"d":"0.00"}]
[{"$nulls":3},1,1.5,3,{"$f":"SUM(D29:F29)","v":5.5},{"$nulls":3},{"$f":"SUM(H29:J29)","v":{"v":0,"d":"0.0"}},{"$nulls":15},20,{"$f":"IF(AA29>0,SUMIF($BF$34:$BT$37,AA29,$BV$34:$CJ$37),\"\")","v":{"v":0,"d":"0 KG"}},{"$nulls":27},"Bottom Short direct",null,{"$f":"IF(AND(C16>0,D34>0),((C18*12-D41-D41)/D35+1)*((((C19+C20)+C19-D41/12-D41/12)/2)+(D40/12+D40/12))*((D34^2/532)*C16),\"\")","v":""},{"$f":"IF(AND(D16>0,E34>0),((D18*12-E41-E41)/E35+1)*((((D19+D20)+D19-E41/12-E41/12)/2)+(E40/12+E40/12))*((E34^2/532)*D16),\"\")","v":""},"","","","","","","","","","","","","",{"v":0,"d":"0.00"}]
[{"$nulls":26},16,{"$f":"IF(AA30>0,SUMIF($BF$34:$BT$37,AA30,$BV$34:$CJ$37),\"\")","v":{"v":0,"d":"0 KG"}},{"$nulls":27},"Top long direction",null,{"$f":"IF(C16>0,IF(D36>0,(((C19+C20)*12-D41-D41)/D37+2)*(((C18+C17)-D41/12-D41/12)/2+D40/12+D40/12)*((D36^2/532)*C16),\"\"),\"\")","v":""},{"$f":"IF(D16>0,IF(E36>0,(((D19+D20)*12-E41-E41)/E37+2)*(((D18+D17)-E41/12-E41/12)/2+E40/12+E40/12)*((E36^2/532)*D16),\"\"),\"\")","v":""},"","","","","","","","","","","","","",{"v":0,"d":"0.00"}]
["Pile Cap Rebar Calculation",null,null,"Type-1","Type-2","Type-3","Type-4","Type-5","Type-6","Type-7","Type-8","Type-9","Type-10","Type-11","Type-12","Type-13","Type-14","Type-15",{"$nulls":8},10,{"v":0,"d":"0 KG"},{"$nulls":27},"Top  Short direction  ",null,{"$f":"IF(C16>0,IF(D38>0,((C18*12-D41-D41)/D39+1)*((((C19+C20)+C19-D41/12-D41/12)/2)+(D40/12+D40/12))*((D38^2/532)*C16),\"\"),\"\")","v":""},{"$f":"IF(D16>0,IF(E38>0,((D18*12-E41-E41)/E39+1)*((((D19+D20)+D19-E41/12-E41/12)/2)+(E40/12+E40/12))*((E38^2/532)*D16),\"\"),\"\")","v":""},"","","","","","","","","","","","","",{"v":0,"d":"0.00"}]
["Bottom layer","long direction Dia (mm)",{"$nulls":25},""]
[null,"Specing(inh)",{"$nulls":25},"",{"$nulls":45},1,2,3,4,5,6,7,8,9,10,11,12,13,14,15]
[null,"Short direction  Dia (mm)",{"$nulls":25},"",{"$nulls":27},"Bottom long direction",null,{"$f":"D32","v":{"v":0,"d":"0 MM"}},{"$f":"E32","v":{"v":0,"d":"0 MM"}},{"$f":"F32","v":{"v":0,"d":"0 MM"}},{"$f":"G32","v":{"v":0,"d":"0 MM"}},{"$f":"H32","v":{"v":0,"d":"0 MM"}},{"$f":"I32","v":{"v":0,"d":"0 MM"}},{"$f":"J32","v":{"v":0,"d":"0 MM"}},{"$f":"K32","v":{"v":0,"d":"0 MM"}},{"$f":"L32","v":{"v":0,"d":"0 MM"}},{"$f":"M32","v":{"v":0,"d":"0 MM"}},{"$f":"N32","v":{"v":0,"d":"0 MM"}},{"$f":"O32","v":{"v":0,"d":"0 MM"}},{"$f":"P32","v":{"v":0,"d":"0 MM"}},{"$f":"Q32","v":{"v":0,"d":"0 MM"}},{"$f":"R32","v":{"v":0,"d":"0 MM"}},null,{"$f":"IF(C16>0,BF28+$AA$16*BF28/100,\"\")","v":""},{"$f":"IF(D16>0,BG28+$AA$16*BG28/100,\"\")","v":""},"","","","","","","","","","","","",""]
[null,"Specing(inh)",{"$nulls":25},"",{"$nulls":27},"Bottom Short direct",null,{"$f":"D34","v":{"v":0,"d":"0 MM"}},{"$f":"E34","v":{"v":0,"d":"0 MM"}},{"$f":"F34","v":{"v":0,"d":"0 MM"}},{"$f":"G34","v":{"v":0,"d":"0 MM"}},{"$f":"H34","v":{"v":0,"d":"0 MM"}},{"$f":"I34","v":{"v":0,"d":"0 MM"}},{"$f":"J34","v":{"v":0,"d":"0 MM"}},{"$f":"K34","v":{"v":0,"d":"0 MM"}},{"$f":"L34","v":{"v":0,"d":"0 MM"}},{"$f":"M34","v":{"v":0,"d":"0 MM"}},{"$f":"N34","v":{"v":0,"d":"0 MM"}},{"$f":"O34","v":{"v":0,"d":"0 MM"}},{"$f":"P34","v":{"v":0,"d":"0 MM"}},{"$f":"Q34","v":{"v":0,"d":"0 MM"}},{"$f":"R34","v":{"v":0,"d":"0 MM"}},null,{"$f":"IF(C16>0,BF29+$AA$16*BF29/100,\"\")","v":""},{"$f":"IF(D16>0,BG29+$AA$16*BG29/100,\"\")","v":""},{"$f":"IF(E16>0,BH29+$AA$16*BH29/100,\"\")","v":""},{"$f":"IF(F16>0,BI29+$AA$16*BI29/100,\"\")","v":""},{"$f":"IF(G16>0,BJ29+$AA$16*BJ29/100,\"\")","v":""},{"$f":"IF(H16>0,BK29+$AA$16*BK29/100,\"\")","v":""},{"$f":"IF(I16>0,BL29+$AA$16*BL29/100,\"\")","v":""},{"$f":"IF(J16>0,BM29+$AA$16*BM29/100,\"\")","v":""},{"$f":"IF(K16>0,BN29+$AA$16*BN29/100,\"\")","v":""},{"$f":"IF(L16>0,BO29+$AA$16*BO29/100,\"\")","v":""},{"$f":"IF(M16>0,BP29+$AA$16*BP29/100,\"\")","v":""},{"$f":"IF(N16>0,BQ29+$AA$16*BQ29/100,\"\")","v":""},{"$f":"IF(O16>0,BR29+$AA$16*BR29/100,\"\")","v":""},{"$f":"IF(P16>0,BS29+$AA$16*BS29/100,\"\")","v":""},{"$f":"IF(Q16>0,BT29+$AA$16*BT29/100,\"\")","v":""}]
["Top layer","long direction Dia (mm)",{"$nulls":25},"",{"$nulls":27},"Top long direction",null,{"$f":"D36","v":{"v":0,"d":"0 MM"}},{"$f":"E36","v":{"v":0,"d":"0 MM"}},{"$f":"F36","v":{"v":0,"d":"0 MM"}},{"$f":"G36","v":{"v":0,"d":"0 MM"}},{"$f":"H36","v":{"v":0,"d":"0 MM"}},{"$f":"I36","v":{"v":0,"d":"0 MM"}},{"$f":"J36","v":{"v":0,"d":"0 MM"}},{"$f":"K36","v":{"v":0,"d":"0 MM"}},{"$f":"L36","v":{"v":0,"d":"0 MM"}},{"$f":"M36","v":{"v":0,"d":"0 MM"}},{"$f":"N36","v":{"v":0,"d":"0 MM"}},{"$f":"O36","v":{"v":0,"d":"0 MM"}},{"$f":"P36","v":{"v":0,"d":"0 MM"}},{"$f":"Q36","v":{"v":0,"d":"0 MM"}},{"$f":"R36","v":{"v":0,"d":"0 MM"}},null,{"$f":"IF(C16>0,BF30+$AA$16*BF30/100,\"\")","v":""},{"$f":"IF(D16>0,BG30+$AA$16*BG30/100,\"\")","v":""},"","","","","","","","","","","","",""]
[null,"Specing(inh)",{"$nulls":25},"",{"$nulls":27},"Top  Short direction  ",null,{"$f":"D38","v":{"v":0,"d":"0 MM"}},{"$f":"E38","v":{"v":0,"d":"0 MM"}},{"$f":"F38","v":{"v":0,"d":"0 MM"}},{"$f":"G38","v":{"v":0,"d":"0 MM"}},{"$f":"H38","v":{"v":0,"d":"0 MM"}},{"$f":"I38","v":{"v":0,"d":"0 MM"}},{"$f":"J38","v":{"v":0,"d":"0 MM"}},{"$f":"K38","v":{"v":0,"d":"0 MM"}},{"$f":"L38","v":{"v":0,"d":"0 MM"}},{"$f":"M38","v":{"v":0,"d":"0 MM"}},{"$f":"N38","v":{"v":0,"d":"0 MM"}},{"$f":"O38","v":{"v":0,"d":"0 MM"}},{"$f":"P38","v":{"v":0,"d":"0 MM"}},{"$f":"Q38","v":{"v":0,"d":"0 MM"}},{"$f":"R38","v":{"v":0,"d":"0 MM"}},null,{"$f":"IF(C16>0,BF31+$AA$16*BF31/100,\"\")","v":""},{"$f":"IF(D16>0,BG31+$AA$16*BG31/100,\"\")","v":""},"","","","","","","","","","","","",""]
[null,"hort direction  Dia (mm)"]
[null,"Specing (inh)"]
["Development length (inh)"]
["Clear Cover (inh)"]

{"sheet":"Mat Foundation ","index":3,"n_rows":117,"n_cols":76,"rows_kept":117,"hidden":true,"merged":[[0,0,2,22],[3,0,4,22],[5,0,5,22],[6,0,7,22],[8,0,8,22],[11,0,13,11],[12,17,13,28],[13,47,13,48],[14,0,14,1],[14,17,14,19],[14,20,14,21],[14,23,14,24],[14,25,14,26],[14,27,14,28],[14,35,14,36],[14,47,14,48],[15,0,15,1],[15,17,15,19],[15,20,15,21],[15,22,23,22],[15,23,15,24],[15,25,15,26],[15,27,15,28],[15,35,15,36],[15,47,15,48],[16,0,16,1],[16,17,16,19],[16,20,16,21],[16,23,16,24],[16,25,16,26],[16,27,16,28],[16,35,16,36],[16,47,16,48],[16,53,16,54],[17,0,17,1],[17,17,17,19],[17,20,17,21],[17,23,17,24],[17,25,17,26],[17,27,17,28],[17,35,17,36],[17,47,17,48],[17,53,17,54],[18,0,18,1],[18,17,18,19],[18,20,18,21],[18,23,18,24],[18,25,18,26],[18,27,18,28],[18,35,18,36],[18,47,18,48],[18,53,18,54],[19,0,19,1],[19,17,19,19],[19,20,19,21],[19,23,19,24],[19,25,19,26],[19,27,19,28],[19,35,19,36],[19,47,19,48],[19,53,19,54],[20,0,20,1],[20,17,20,19],[20,20,20,21],[20,23,20,24],[20,25,20,26],[20,27,20,28],[20,35,20,36],[20,47,20,48],[20,53,20,54],[21,0,21,1],[21,17,21,19],[21,20,21,21],[21,23,21,24],[21,25,21,26],[21,27,21,28],[21,35,21,36],[21,47,21,48],[22,0,22,1],[22,17,22,19],[22,20,22,21],[22,23,22,24],[22,25,22,26],[22,27,22,28],[22,35,22,36],[22,47,22,48],[23,17,23,19],[23,20,23,21],[23,23,23,24],[23,25,23,26],[23,27,23,28],[23,35,23,36],[23,47,23,48],[24,3,25,6],[24,7,25,10],[24,25,24,26],[24,27,24,28],[24,35,24,36],[24,47,24,48],[25,35,25,36],[25,47,25,48],[26,35,26,36],[26,47,26,48],[27,20,27,24],[27,35,27,36],[27,47,27,48],[28,0,28,2],[28,22,28,23],[28,35,28,36],[28,47,28,48],[29,0,32,0],[29,1,29,2],[29,22,29,23],[29,35,29,36],[29,47,29,48],[30,1,30,2],[30,22,30,23],[30,35,30,36],[30,47,30,48],[31,1,31,2],[31,22,31,23],[32,1,32,2],[32,22,32,23],[33,0,36,0],[33,1,33,2],[33,22,33,23],[34,1,34,2],[34,22,34,23],[35,1,35,2],[35,22,35,23],[36,1,36,2],[36,22,36,23],[37,0,39,0],[37,1,37,2],[38,1,38,2],[39,1,39,2],[40,0,40,2],[41,0,41,2]]}
["This is The Property of NOR DESIGN SOLUTION"]
[]
[]
[]
[]
["এক্সেল শীট বিষয়ক কিছু জানার থাকলে বা আপডেট নিয়ে কোন পরামর্শ থাকলে আমাদের সাথে যোগাযোগ করুন অথবা ওয়েবসাইটে কমেন্ট করুন"]
["এক্সেল শীট সম্পর্কে যাবতীয় তথ্য বিস্তারিত জানতে ভিজিট করুন আমাদের ইউটিউব চ্যানেলে"]
[]
["Click Here To Watch The Mat Foundation Estimate video"]
[]
[]
["Mat Foundation",{"$nulls":35},"Cement","Sand","Stone","Rod","Casting","Excavation","Sand Filling ","Formwork","Brick Nos","Bricl Flat Soling ","C.c"]
[{"$nulls":17},"Mat Foundation Estimated And Price",{"$nulls":18},{"$f":"X16","v":{"v":0,"d":"0 Bag"}},{"$f":"X17","v":{"v":0,"d":"0 CFT"}},{"$f":"AZ20+W16*AZ20/100","v":0},{"$f":"X19","v":0},{"$f":"X24","v":{"v":0,"d":"0 CFT"}},{"$f":"X21","v":{"v":0,"d":"0 CFT"}},{"$f":"X23","v":{"v":0,"d":"0 CFT"}},{"$f":"X20","v":{"v":0,"d":"0 SFT"}},{"$f":"AZ21+W16*AZ21/100","v":0},{"$f":"X22","v":{"v":0,"d":"0 Nos"}}]
[{"$nulls":47},"sum"]
["Description",null,"Type-1","Type-2","Type-3","Type-4","Type-5","Type-6","Type-7","Type-8","Type-9","Type-10",{"$nulls":5},"DESCRIPTION",null,null,"Quantity",null,"Wastage Add","Quantity (Wastage Add)",null,"Rate",null,"Amount TK",{"$nulls":7},"Cement ",null,{"$f":"IF(C16>0,(AL23*$H$27*1.54)/($K$27*1.25),\"\")","v":""},{"$f":"IF(D16>0,(AM23*$H$27*1.54)/($K$27*1.25),\"\")","v":""},{"$f":"IF(E16>0,(AN23*$H$27*1.54)/($K$27*1.25),\"\")","v":""},{"$f":"IF(F16>0,(AO23*$H$27*1.54)/($K$27*1.25),\"\")","v":""},{"$f":"IF(G16>0,(AP23*$H$27*1.54)/($K$27*1.25),\"\")","v":""},{"$f":"IF(H16>0,(AQ23*$H$27*1.54)/($K$27*1.25),\"\")","v":""},{"$f":"IF(I16>0,(AR23*$H$27*1.54)/($K$27*1.25),\"\")","v":""},{"$f":"IF(J16>0,(AS23*$H$27*1.54)/($K$27*1.25),\"\")","v":""},{"$f":"IF(K16>0,(AT23*$H$27*1.54)/($K$27*1.25),\"\")","v":""},{"$f":"IF(L16>0,(AU23*$H$27*1.54)/($K$27*1.25),\"\")","v":""},{"$f":"SUM(AL15:AU15)","v":{"v":0,"d":"0 Bag"}}]
["Nos",{"$nulls":16},"Cement ",null,null,{"$f":"AV15+AV17","v":{"v":0,"d":"0 Bag"}},null,{"v":0,"d":"0 % ADD"},{"$f":"U16+$W$16*U16/100","v":{"v":0,"d":"0 Bag"}},null,{"v":600,"d":"600.00 TK"},null,{"$f":"X16*Z16","v":{"v":0,"d":"0 TK"}},{"$nulls":7},"Sand ",null,{"$f":"IF(C16>0,(AL23*1.54*$I$27)/$K$27,\"\")","v":""},{"$f":"IF(D16>0,(AM23*1.54*$I$27)/$K$27,\"\")","v":""},{"$f":"IF(E16>0,(AN23*1.54*$I$27)/$K$27,\"\")","v":""},{"$f":"IF(F16>0,(AO23*1.54*$I$27)/$K$27,\"\")","v":""},{"$f":"IF(G16>0,(AP23*1.54*$I$27)/$K$27,\"\")","v":""},{"$f":"IF(H16>0,(AQ23*1.54*$I$27)/$K$27,\"\")","v":""},{"$f":"IF(I16>0,(AR23*1.54*$I$27)/$K$27,\"\")","v":""},{"$f":"IF(J16>0,(AS23*1.54*$I$27)/$K$27,\"\")","v":""},{"$f":"IF(K16>0,(AT23*1.54*$I$27)/$K$27,\"\")","v":""},{"$f":"IF(L16>0,(AU23*1.54*$I$27)/$K$27,\"\")","v":""},{"$f":"SUM(AL16:AU16)","v":0},{"$nulls":18},1,2,3,4,5,6,7,8,9,10]
["Length,L (ft)",{"$nulls":16},"Sand",null,null,{"$f":"AV16+AV18","v":{"v":0,"d":"0 CFT"}},null,null,{"v":0,"d":"0 CFT"},null,{"v":45,"d":"45.00 TK"},null,{"v":0,"d":"0 TK"},{"$nulls":7},"Cement ",null,{"$f":"IF(C16>0,(AL21*$D$27*1.54)/($G$27*1.25)*C16,\"\")","v":""},{"$f":"IF(D16>0,(AM21*$D$27*1.54)/($G$27*1.25)*D16,\"\")","v":""},{"$f":"IF(E16>0,(AN21*$D$27*1.54)/($G$27*1.25)*E16,\"\")","v":""},{"$f":"IF(F16>0,(AO21*$D$27*1.54)/($G$27*1.25)*F16,\"\")","v":""},{"$f":"IF(G16>0,(AP21*$D$27*1.54)/($G$27*1.25)*G16,\"\")","v":""},{"$f":"IF(H16>0,(AQ21*$D$27*1.54)/($G$27*1.25)*H16,\"\")","v":""},{"$f":"IF(I16>0,(AR21*$D$27*1.54)/($G$27*1.25)*I16,\"\")","v":""},{"$f":"IF(J16>0,(AS21*$D$27*1.54)/($G$27*1.25)*J16,\"\")","v":""},{"$f":"IF(K16>0,(AT21*$D$27*1.54)/($G$27*1.25)*K16,\"\")","v":""},{"$f":"IF(L16>0,(AU21*$D$27*1.54)/($G$27*1.25)*L16,\"\")","v":""},0,{"$nulls":5},"Bottom long direction",null,{"$f":"D30","v":{"v":0,"d":"0 MM"}},{"v":0,"d":"0 MM"},{"v":0,"d":"0 MM"},{"v":0,"d":"0 MM"},{"v":0,"d":"0 MM"},{"v":0,"d":"0 MM"},{"v":0,"d":"0 MM"},{"v":0,"d":"0 MM"},{"v":0,"d":"0 MM"},{"v":0,"d":"0 MM"},null,{"$f":"IF(C16>0,AL27+$W$16*AL27/100,\"\")","v":""},{"$f":"IF(D16>0,AM27+$W$16*AM27/100,\"\")","v":""},"","","","","","","",""]
["Breadth,B (ft)",{"$nulls":16},"Ston/Brick Chips (CFT)",null,null,{"$f":"VLOOKUP(R18,AY20:AZ21,2,0)","v":0},null,null,0,null,{"v":120,"d":"120.00 TK"},null,{"v":0,"d":"0 TK"},{"$nulls":7},"Sand ",null,{"$f":"IF(C16>0,(AL21*1.54*$E$27)/$G$27,\"\")","v":""},{"$f":"IF(D16>0,(AM21*1.54*$E$27)/$G$27,\"\")","v":""},{"$f":"IF(E16>0,(AN21*1.54*$E$27)/$G$27,\"\")","v":""},{"$f":"IF(F16>0,(AO21*1.54*$E$27)/$G$27,\"\")","v":""},{"$f":"IF(G16>0,(AP21*1.54*$E$27)/$G$27,\"\")","v":""},{"$f":"IF(H16>0,(AQ21*1.54*$E$27)/$G$27,\"\")","v":""},{"$f":"IF(I16>0,(AR21*1.54*$E$27)/$G$27,\"\")","v":""},{"$f":"IF(J16>0,(AS21*1.54*$E$27)/$G$27,\"\")","v":""},{"$f":"IF(K16>0,(AT21*1.54*$E$27)/$G$27,\"\")","v":""},{"$f":"IF(L16>0,(AU21*1.54*$E$27)/$G$27,\"\")","v":""},0,{"$nulls":5},"Bottom Short direct",null,{"$f":"D32","v":{"v":0,"d":"0 MM"}},{"v":0,"d":"0 MM"},{"v":0,"d":"0 MM"},{"v":0,"d":"0 MM"},{"v":0,"d":"0 MM"},{"v":0,"d":"0 MM"},{"v":0,"d":"0 MM"},{"v":0,"d":"0 MM"},{"v":0,"d":"0 MM"},{"v":0,"d":"0 MM"},null,{"$f":"IF(C16>0,AL28+$W$16*AL28/100,\"\")","v":""},{"$f":"IF(D16>0,AM28+$W$16*AM28/100,\"\")","v":""},"","","","","","","",""]
["Casting Thickness, T (inch)",{"$nulls":16},"Rebar",null,null,{"$f":"SUM(AV27:AW31)/1000","v":{"v":0,"d":"0.000 Ton"}},null,null,{"v":0,"d":"0.000 Ton"},null,{"v":87000,"d":"87000.00 TK"},null,{"v":0,"d":"0 TK"},{"$nulls":7},"Ston/Brick Chips (CFT)",null,{"$f":"IF(C16>0,(AL21*1.54*$F$27)/$G$27,\"\")","v":""},{"$f":"IF(D16>0,(AM21*1.54*$F$27)/$G$27,\"\")","v":""},{"$f":"IF(E16>0,(AN21*1.54*$F$27)/$G$27,\"\")","v":""},{"$f":"IF(F16>0,(AO21*1.54*$F$27)/$G$27,\"\")","v":""},{"$f":"IF(G16>0,(AP21*1.54*$F$27)/$G$27,\"\")","v":""},{"$f":"IF(H16>0,(AQ21*1.54*$F$27)/$G$27,\"\")","v":""},{"$f":"IF(I16>0,(AR21*1.54*$F$27)/$G$27,\"\")","v":""},{"$f":"IF(J16>0,(AS21*1.54*$F$27)/$G$27,\"\")","v":""},{"$f":"IF(K16>0,(AT21*1.54*$F$27)/$G$27,\"\")","v":""},{"$f":"IF(L16>0,(AU21*1.54*$F$27)/$G$27,\"\")","v":""},0,{"$nulls":5},"Top long direction",null,{"$f":"D34","v":{"v":0,"d":"0 MM"}},{"v":0,"d":"0 MM"},{"v":0,"d":"0 MM"},{"v":0,"d":"0 MM"},{"v":0,"d":"0 MM"},{"v":0,"d":"0 MM"},{"v":0,"d":"0 MM"},{"v":0,"d":"0 MM"},{"v":0,"d":"0 MM"},{"v":0,"d":"0 MM"},null,{"$f":"IF(C16>0,AL29+$W$16*AL29/100,\"\")","v":""},{"$f":"IF(D16>0,AM29+$W$16*AM29/100,\"\")","v":""},"","","","","","","",""]
["Excavation Depth, D (ft)",{"$nulls":16},"Formwork",null,null,{"$f":"AV26","v":{"v":0,"d":"0 SFT"}},null,null,{"v":0,"d":"0 SFT"},null,{"v":45,"d":"45.00 TK"},null,{"v":0,"d":"0 TK"},{"$nulls":7},"Brick Nos ",null,{"$f":"IF(C16>0,AL19*9.5,\"\")","v":""},{"$f":"IF(D16>0,AM19*9.5,\"\")","v":""},{"$f":"IF(E16>0,AN19*9.5,\"\")","v":""},{"$f":"IF(F16>0,AO19*9.5,\"\")","v":""},{"$f":"IF(G16>0,AP19*9.5,\"\")","v":""},{"$f":"IF(H16>0,AQ19*9.5,\"\")","v":""},{"$f":"IF(I16>0,AR19*9.5,\"\")","v":""},{"$f":"IF(J16>0,AS19*9.5,\"\")","v":""},{"$f":"IF(K16>0,AT19*9.5,\"\")","v":""},{"$f":"IF(L16>0,AU19*9.5,\"\")","v":""},0,null,null,"Ston/Brick Chips (CFT)",{"$f":"AV19","v":0},null,"Top  Short direction  ",null,{"$f":"D36","v":{"v":0,"d":"0 MM"}},{"v":0,"d":"0 MM"},{"v":0,"d":"0 MM"},{"v":0,"d":"0 MM"},{"v":0,"d":"0 MM"},{"v":0,"d":"0 MM"},{"v":0,"d":"0 MM"},{"v":0,"d":"0 MM"},{"v":0,"d":"0 MM"},{"v":0,"d":"0 MM"},null,{"$f":"IF(C16>0,AL30+$W$16*AL30/100,\"\")","v":""},{"$f":"IF(D16>0,AM30+$W$16*AM30/100,\"\")","v":""},"","","","","","","",""]
["Cement Concrete (C.C) inch",{"$nulls":16},"Excabation",null,null,{"$f":"AV22","v":{"v":0,"d":"0 CFT"}},null,null,{"v":0,"d":"0 CFT"},null,{"v":10,"d":"10.00 TK"},null,{"v":0,"d":"0 TK"},{"$nulls":7},"Casting ",null,{"$f":"IF(C16>0,(C17*C18*C19/12)*C16,\"\")","v":""},{"$f":"IF(D16>0,(D17*D18*D19/12)*D16,\"\")","v":""},{"$f":"IF(E16>0,(E17*E18*E19/12)*E16,\"\")","v":""},{"$f":"IF(F16>0,(F17*F18*F19/12)*F16,\"\")","v":""},{"$f":"IF(G16>0,(G17*G18*G19/12)*G16,\"\")","v":""},{"$f":"IF(H16>0,(H17*H18*H19/12)*H16,\"\")","v":""},{"$f":"IF(I16>0,(I17*I18*I19/12)*I16,\"\")","v":""},{"$f":"IF(J16>0,(J17*J18*J19/12)*J16,\"\")","v":""},{"$f":"IF(K16>0,(K17*K18*K19/12)*K16,\"\")","v":""},{"$f":"IF(L16>0,(L17*L18*L19/12)*L16,\"\")","v":""},0,null,null,"Brick Nos ",{"$f":"AV20","v":0},null,"Chair",null,{"$f":"D38","v":{"v":0,"d":"0 MM"}},{"v":0,"d":"0 MM"},{"v":0,"d":"0 MM"},{"v":0,"d":"0 MM"},{"v":0,"d":"0 MM"},{"v":0,"d":"0 MM"},{"v":0,"d":"0 MM"},{"v":0,"d":"0 MM"},{"v":0,"d":"0 MM"},{"v":0,"d":"0 MM"},null,{"$f":"IF(C16>0,AL31+$W$16*AL31/100,\"\")","v":""},{"$f":"IF(D16>0,AM31+$W$16*AM31/100,\"\")","v":""},"","","","","","","",""]
["Brick Flat SOLING (inch)",{"$nulls":16},"Brick Flat Soling",null,null,{"$f":"AV24*3","v":{"v":0,"d":"0 Nos"}},null,null,{"v":0,"d":"0 Nos"},null,{"v":10,"d":"10.00 TK"},null,{"v":0,"d":"0 TK"},{"$nulls":7},"Excabation ",null,{"$f":"IF(C16>0,C17*C18*C20*C16,\"\")","v":""},{"$f":"IF(D16>0,D17*D18*D20*D16,\"\")","v":""},{"$f":"IF(E16>0,E17*E18*E20*E16,\"\")","v":""},{"$f":"IF(F16>0,F17*F18*F20*F16,\"\")","v":""},{"$f":"IF(G16>0,G17*G18*G20*G16,\"\")","v":""},{"$f":"IF(H16>0,H17*H18*H20*H16,\"\")","v":""},{"$f":"IF(I16>0,I17*I18*I20*I16,\"\")","v":""},{"$f":"IF(J16>0,J17*J18*J20*J16,\"\")","v":""},{"$f":"IF(K16>0,K17*K18*K20*K16,\"\")","v":""},{"$f":"IF(L16>0,L17*L18*L20*L16,\"\")","v":""},0]
["Sand Filling (inch)",{"$nulls":16},"Sand Filling",null,null,{"$f":"AV25","v":{"v":0,"d":"0 CFT"}},null,null,{"v":0,"d":"0 CFT"},null,{"v":2,"d":"2.00 TK"},null,{"v":0,"d":"0 TK"},{"$nulls":7},"C.C",null,{"$f":"IF(C16>0,(C17*C18*C21/12)*C16,\"\")","v":""},{"$f":"IF(D16>0,(D17*D18*D21/12)*D16,\"\")","v":""},{"$f":"IF(E16>0,(E17*E18*E21/12)*E16,\"\")","v":""},{"$f":"IF(F16>0,(F17*F18*F21/12)*F16,\"\")","v":""},{"$f":"IF(G16>0,(G17*G18*G21/12)*G16,\"\")","v":""},{"$f":"IF(H16>0,(H17*H18*H21/12)*H16,\"\")","v":""},{"$f":"IF(I16>0,(I17*I18*I21/12)*I16,\"\")","v":""},{"$f":"IF(J16>0,(J17*J18*J21/12)*J16,\"\")","v":""},{"$f":"IF(K16>0,(K17*K18*K21/12)*K16,\"\")","v":""},{"$f":"IF(L16>0,(L17*L18*L21/12)*L16,\"\")","v":""},0]
[{"$nulls":17},"Total RCC Casting",null,null,{"$f":"AV21","v":{"v":0,"d":"0 CFT"}},null,null,{"v":0,"d":"0 CFT"},null,{"v":3,"d":"3.00 TK"},null,{"$f":"X24*Z24","v":{"v":0,"d":"0 TK"}},{"$nulls":7},"Brick Flat",null,{"$f":"IF(AND(C16>0,C22>0),(C17*C18)*C16,\"0\")","v":"0"},{"$f":"IF(AND(D16>0,D22>0),(D17*D18)*D16,\"0\")","v":"0"},"0","0","0","0","0","0","0","0",0]
[{"$nulls":3},"Rcc casting Ratio",{"$nulls":3},"C.C casting Ratio",{"$nulls":17},"Total Cost=",null,{"$f":"SUM(AB16:AC24)","v":{"v":0,"d":"0 TK"}},{"$nulls":7},"Sand Filling",null,{"$f":"IF(AND(C16>0,C23>0),(C17*C18*C23/12)*C16,\"\")","v":""},{"$f":"IF(AND(D16>0,D23>0),(D17*D18*D23/12)*D16,\"\")","v":""},"","","","","","","","",0]
[{"$nulls":35},"Formwork",null,{"$f":"IF(C16>0,((C17+C18+C18+C17)*C19/12)*C16,\"\")","v":""},{"$f":"IF(D16>0,((D17+D18+D18+D17)*D19/12)*D16,\"\")","v":""},{"$f":"IF(E16>0,((E17+E18+E18+E17)*E19/12)*E16,\"\")","v":""},{"$f":"IF(F16>0,((F17+F18+F18+F17)*F19/12)*F16,\"\")","v":""},{"$f":"IF(G16>0,((G17+G18+G18+G17)*G19/12)*G16,\"\")","v":""},{"$f":"IF(H16>0,((H17+H18+H18+H17)*H19/12)*H16,\"\")","v":""},{"$f":"IF(I16>0,((I17+I18+I18+I17)*I19/12)*I16,\"\")","v":""},{"$f":"IF(J16>0,((J17+J18+J18+J17)*J19/12)*J16,\"\")","v":""},{"$f":"IF(K16>0,((K17+K18+K18+K17)*K19/12)*K16,\"\")","v":""},{"$f":"IF(L16>0,((L17+L18+L18+L17)*L19/12)*L16,\"\")","v":""},0]
[{"$nulls":3},1,1.5,3,{"$f":"SUM(D27:F27)","v":5.5},{"$nulls":3},{"$f":"SUM(H27:J27)","v":0},{"$nulls":24},"Bottom long ",null,{"$f":"IF(AND(C16>0,D30>0),(((C18*12-D42-D42)/D31+1)*(D30^2/532)*(C17-(D42/12+D42/12-D41/12-D41/12)))*C16,\"\")","v":""},{"$f":"IF(AND(D16>0,E30>0),(((D18*12-E42-E42)/E31+1)*(E30^2/532)*(D17-(E42/12+E42/12-E41/12-E41/12)))*D16,\"\")","v":""},"","","","","","","","",0]
[{"$nulls":20}," Reinforcement ",{"$nulls":14},"Bottom short ",null,{"$f":"IF(AND(C16>0,D32>0),(((C17*12-D42-D42)/D33+1)*(D32^2/532)*(C18-(D42/12+D42/12-D41/12-D41/12)))*C16,\"\")","v":""},{"$f":"IF(AND(D16>0,E32>0),(((D17*12-E42-E42)/E33+1)*(E32^2/532)*(D18-(E42/12+E42/12-E41/12-E41/12)))*D16,\"\")","v":""},"","","","","","","","",0]
["Rebar Calculation",null,null,"Type-1","Type-2",{"$nulls":17},{"$f":"IF(V29>0,SUMIF($BD$17:$BM$21,V29,$BO$17:$BX$21),\"\")","v":""},{"$nulls":12},"top long ",null,{"$f":"IF(AND(C16>0,D34>0),(((C18*12-D42-D42)/D35+1)*(D34^2/532)*(C17-(D42/12+D42/12-D41/12-D41/12)))*C16,\"\")","v":""},{"$f":"IF(AND(D16>0,E34>0),(((D18*12-E42-E42)/E35+1)*(E34^2/532)*(D17-(E42/12+E42/12-E41/12-E41/12)))*D16,\"\")","v":""},"","","","","","","","",0]
["Bottom layer","long direction Dia (mm)",{"$nulls":20},{"$f":"IF(V30>0,SUMIF($BD$17:$BM$21,V30,$BO$17:$BX$21),\"\")","v":""},{"$nulls":12},"top short ",null,{"$f":"IF(AND(C16>0,D36>0),(((C17*12-D42-D42)/D37+1)*(D36^2/532)*(C18-(D42/12+D42/12-D41/12-D41/12)))*C16,\"\")","v":""},{"$f":"IF(AND(D16>0,E36>0),(((D17*12-E42-E42)/E37+1)*(E36^2/532)*(D18-(E42/12+E42/12-E41/12-E41/12)))*D16,\"\")","v":""},"","","","","","","","",0]
[null,"Specing(inh)",{"$nulls":20},"",{"$nulls":12},"Chair rebar",null,{"$f":"IF(C16>0,(D38^2/532)*D39*D40*C16,\"\")","v":""},{"$f":"IF(D16>0,(E38^2/532)*E39*E40*D16,\"\")","v":""},{"$f":"IF(E16>0,(F38^2/532)*F39*F40*E16,\"\")","v":""},{"$f":"IF(F16>0,(G38^2/532)*G39*G40*F16,\"\")","v":""},{"$f":"IF(G16>0,(H38^2/532)*H39*H40*G16,\"\")","v":""},{"$f":"IF(H16>0,(I38^2/532)*I39*I40*H16,\"\")","v":""},{"$f":"IF(I16>0,(J38^2/532)*J39*J40*I16,\"\")","v":""},{"$f":"IF(J16>0,(K38^2/532)*K39*K40*J16,\"\")","v":""},{"$f":"IF(K16>0,(L38^2/532)*L39*L40*K16,\"\")","v":""},{"$f":"IF(L16>0,(M38^2/532)*M39*M40*L16,\"\")","v":""},0]
[null,"Short direction  Dia (mm)",{"$nulls":20},""]
[null,"Specing(inh)",{"$nulls":20},""]
["Top layer","long direction Dia (mm)",{"$nulls":20},""]
[null,"Specing(inh)",{"$nulls":20},""]
[null,"hort direction  Dia (mm)",{"$nulls":20},""]
[null,"Specing (inh)",{"$nulls":20},""]
["Chair","Rebar Dia (mm)"]
[null,"Rebar Length (ft)"]
[null,"Rebar Nos "]
["Development length (inh)"]
["Clear Cover (inh)"]
{"$rows_empty":73}
[{"$nulls":69},"Stone/Brick Chips (CFT)",{"$f":"#REF!","v":{"$error":"#REF!"}},null,"Stone/Brick Chips (CFT)",{"$f":"IF(#REF!>0,BS116+(BS116*#REF!)/100,\"\")","v":{"$error":"#REF!"}}]
[{"$nulls":69},"Brick Nos",{"$f":"#REF!","v":{"$error":"#REF!"}},null,"Brick Nos",{"$f":"IF(#REF!>0,BS117+(BS117*#REF!)/100,\"\")","v":{"$error":"#REF!"}}]

{"sheet":"Footing Estimate","index":4,"n_rows":41,"n_cols":93,"rows_kept":41,"hidden":true,"merged":[[0,0,1,17],[2,0,3,17],[4,0,4,17],[5,0,6,17],[6,49,6,51],[7,0,7,17],[10,0,11,16],[10,29,11,42],[11,76,11,77],[12,0,12,1],[12,29,12,33],[12,34,12,35],[12,37,12,38],[12,39,12,40],[12,41,12,42],[12,59,12,60],[12,76,12,77],[13,0,13,1],[13,29,13,33],[13,34,13,35],[13,36,21,36],[13,37,13,38],[13,39,13,40],[13,41,13,42],[13,59,13,60],[13,76,13,77],[14,0,14,1],[14,29,14,33],[14,34,14,35],[14,37,14,38],[14,39,14,40],[14,41,14,42],[14,59,14,60],[14,76,14,77],[15,0,15,1],[15,29,15,33],[15,34,15,35],[15,37,15,38],[15,39,15,40],[15,41,15,42],[15,59,15,60],[15,76,15,77],[16,0,16,1],[16,29,16,33],[16,34,16,35],[16,37,16,38],[16,39,16,40],[16,41,16,42],[16,59,16,60],[16,76,16,77],[17,0,17,1],[17,29,17,33],[17,34,17,35],[17,37,17,38],[17,39,17,40],[17,41,17,42],[17,59,17,60],[17,76,17,77],[18,0,18,1],[18,29,18,33],[18,34,18,35],[18,37,18,38],[18,39,18,40],[18,41,18,42],[18,59,18,60],[18,76,18,77],[19,0,19,1],[19,29,19,33],[19,34,19,35],[19,37,19,38],[19,39,19,40],[19,41,19,42],[19,59,19,60],[19,76,19,77],[20,0,20,1],[20,29,20,33],[20,34,20,35],[20,37,20,38],[20,39,20,40],[20,41,20,42],[20,59,20,60],[20,76,20,77],[21,0,21,1],[21,29,21,33],[21,34,21,35],[21,37,21,38],[21,39,21,40],[21,41,21,42],[21,59,21,60],[21,76,21,77],[22,0,22,1],[22,19,22,20],[22,39,22,40],[22,41,22,42],[22,59,22,60],[22,76,22,77],[23,0,23,1],[23,59,23,60],[23,76,23,77],[24,59,24,60],[24,76,24,77],[25,3,26,6],[25,7,26,10],[25,20,25,21],[25,33,25,37],[25,59,25,60],[25,76,25,77],[26,20,26,21],[26,35,26,36],[26,59,26,60],[26,76,26,77],[27,35,27,36],[27,59,27,60],[27,76,27,77],[28,35,28,36],[28,59,28,60],[28,76,28,77],[29,35,29,36],[30,0,30,2],[30,35,30,36],[31,0,35,0],[31,1,31,2],[31,20,32,25],[31,35,31,36],[31,60,31,61],[32,1,32,2],[32,35,32,36],[32,60,32,61],[33,1,33,2],[33,35,33,36],[33,60,33,61],[34,1,34,2],[34,35,34,36],[34,60,34,61],[35,1,35,2],[36,0,40,0],[36,1,36,2],[37,1,37,2],[38,1,38,2],[39,1,39,2],[40,1,40,2]]}
["This is The Property of NOR DESIGN SOLUTION"]
[]
[]
[]
["এক্সেল শীট বিষয়ক কিছু জানার থাকলে বা আপডেট নিয়ে কোন পরামর্শ থাকলে আমাদের সাথে যোগাযোগ করুন অথবা ওয়েবসাইটে কমেন্ট করুন"]
["এক্সেল শীট সম্পর্কে যাবতীয় তথ্য বিস্তারিত জানতে ভিজিট করুন আমাদের ইউটিউব চ্যানেলে"]
[]
["Click Here To Watch The Footing Estimate video"]
[{"$nulls":59},"Cement","Sand","Stone","Rod","Casting","Excavation","Sand Filling ","Formwork","Brick Nos","Bricl Flat Soling ","C.c"]
[{"$nulls":59},{"$f":"AL14","v":{"v":0,"d":"0 Bag"}},{"$f":"AL15","v":{"v":0,"d":"0 CFT"}},{"$f":"CE18+AK14*CE18/100","v":0},{"$f":"AL17","v":{"v":0,"d":"0.000 Ton"}},{"$f":"AL22","v":{"v":0,"d":"0 CFT"}},{"$f":"AL18","v":{"v":0,"d":"0 CFT"}},{"$f":"AL19","v":{"v":0,"d":"0 CFT"}},{"$f":"AL21","v":{"v":0,"d":"0 SFT"}},{"$f":"CE19+AK14*CE19/100","v":0},{"$f":"AL20","v":{"v":0,"d":"0 Nos"}}]
["Footing Estimate",{"$nulls":28},"Footing Estimate And Costing"]
[{"$nulls":76},"sum"]
["Description",null,"Type-1","Type-2","Type-3","Type-4","Type-5","Type-6","Type-7","Type-8","Type-9","Type-10","Type-11","Type-12","Type-13","Type-14","Type-15",{"$nulls":12},"DESCRIPTION",{"$nulls":4},"Quantity",null,"Wastage Add","Quantity (Wastage Add)",null,"Rate",null,"Amount TK",{"$nulls":17},"Stone/Brick Chips",null,{"$f":"IF(C14>0,(BJ22*1.54*$J$28)/$K$28,\"\")","v":""},{"$f":"IF(D14>0,(BK22*1.54*$J$28)/$K$28,\"\")","v":""},"","","","","","","","","","","","","",{"$f":"SUM(BJ13:BX13)","v":{"v":0,"d":"0 CFT"}}]
["Nos",{"$nulls":28},"Cement ",{"$nulls":4},{"$f":"BY14+BY16","v":{"v":0,"d":"0 Bag"}},null,{"v":0,"d":"0 % ADD"},{"$f":"AI14+$AK$14*AI14/100","v":{"v":0,"d":"0 Bag"}},null,{"v":550,"d":"550.00 TK"},null,{"$f":"AL14*AN14","v":{"v":0,"d":"0 TK"}},{"$nulls":17},"Cement ",null,{"$f":"IF(C14>0,(BJ22*$H$28*1.54)/($K$28*1.25),\"\")","v":""},{"$f":"IF(D14>0,(BK22*$H$28*1.54)/($K$28*1.25),\"\")","v":""},{"$f":"IF(E14>0,(BL22*$H$28*1.54)/($K$28*1.25),\"\")","v":""},{"$f":"IF(F14>0,(BM22*$H$28*1.54)/($K$28*1.25),\"\")","v":""},{"$f":"IF(G14>0,(BN22*$H$28*1.54)/($K$28*1.25),\"\")","v":""},{"$f":"IF(H14>0,(BO22*$H$28*1.54)/($K$28*1.25),\"\")","v":""},{"$f":"IF(I14>0,(BP22*$H$28*1.54)/($K$28*1.25),\"\")","v":""},{"$f":"IF(J14>0,(BQ22*$H$28*1.54)/($K$28*1.25),\"\")","v":""},{"$f":"IF(K14>0,(BR22*$H$28*1.54)/($K$28*1.25),\"\")","v":""},{"$f":"IF(L14>0,(BS22*$H$28*1.54)/($K$28*1.25),\"\")","v":""},{"$f":"IF(M14>0,(BT22*$H$28*1.54)/($K$28*1.25),\"\")","v":""},{"$f":"IF(N14>0,(BU22*$H$28*1.54)/($K$28*1.25),\"\")","v":""},{"$f":"IF(O14>0,(BV22*$H$28*1.54)/($K$28*1.25),\"\")","v":""},{"$f":"IF(P14>0,(BW22*$H$28*1.54)/($K$28*1.25),\"\")","v":""},{"$f":"IF(Q14>0,(BX22*$H$28*1.54)/($K$28*1.25),\"\")","v":""},{"$f":"SUM(BJ14:BX14)","v":{"v":0,"d":"0 Bag"}}]
["Length,L (ft)",{"$nulls":19},"E.G.L",{"$nulls":8},"Sand",{"$nulls":4},{"$f":"BY17+BY15","v":{"v":0,"d":"0 CFT"}},null,null,{"v":0,"d":"0 CFT"},null,{"v":45,"d":"45.00 TK"},null,{"v":0,"d":"0 TK"},{"$nulls":17},"Sand ",null,{"$f":"IF(C14>0,(BJ22*1.54*$I$28)/$K$28,\"\")","v":""},{"$f":"IF(D14>0,(BK22*1.54*$I$28)/$K$28,\"\")","v":""},{"$f":"IF(E14>0,(BL22*1.54*$I$28)/$K$28,\"\")","v":""},{"$f":"IF(F14>0,(BM22*1.54*$I$28)/$K$28,\"\")","v":""},{"$f":"IF(G14>0,(BN22*1.54*$I$28)/$K$28,\"\")","v":""},{"$f":"IF(H14>0,(BO22*1.54*$I$28)/$K$28,\"\")","v":""},{"$f":"IF(I14>0,(BP22*1.54*$I$28)/$K$28,\"\")","v":""},{"$f":"IF(J14>0,(BQ22*1.54*$I$28)/$K$28,\"\")","v":""},{"$f":"IF(K14>0,(BR22*1.54*$I$28)/$K$28,\"\")","v":""},{"$f":"IF(L14>0,(BS22*1.54*$I$28)/$K$28,\"\")","v":""},{"$f":"IF(M14>0,(BT22*1.54*$I$28)/$K$28,\"\")","v":""},{"$f":"IF(N14>0,(BU22*1.54*$I$28)/$K$28,\"\")","v":""},{"$f":"IF(O14>0,(BV22*1.54*$I$28)/$K$28,\"\")","v":""},{"$f":"IF(P14>0,(BW22*1.54*$I$28)/$K$28,\"\")","v":""},{"$f":"IF(Q14>0,(BX22*1.54*$I$28)/$K$28,\"\")","v":""},{"$f":"SUM(BJ15:BX15)","v":{"v":0,"d":"0.00"}}]
["Breadth,B (ft)",{"$nulls":22},"GB",{"$nulls":5},"Stone/Brick Chips",{"$nulls":4},{"$f":"VLOOKUP(AD16,CD18:CE19,2,0)","v":0},null,null,0,null,{"v":100,"d":"100.00 TK"},null,{"v":0,"d":"0 TK"},{"$nulls":17},"Cement ",null,{"$f":"IF(C14>0,(BJ20*$D$28*1.54)/($G$28*1.25),\"\")","v":""},{"$f":"IF(D14>0,(BK20*$D$28*1.54)/($G$28*1.25),\"\")","v":""},{"$f":"IF(E14>0,(BL20*$D$28*1.54)/($G$28*1.25),\"\")","v":""},{"$f":"IF(F14>0,(BM20*$D$28*1.54)/($G$28*1.25),\"\")","v":""},{"$f":"IF(G14>0,(BN20*$D$28*1.54)/($G$28*1.25),\"\")","v":""},{"$f":"IF(H14>0,(BO20*$D$28*1.54)/($G$28*1.25),\"\")","v":""},{"$f":"IF(I14>0,(BP20*$D$28*1.54)/($G$28*1.25),\"\")","v":""},{"$f":"IF(J14>0,(BQ20*$D$28*1.54)/($G$28*1.25),\"\")","v":""},{"$f":"IF(K14>0,(BR20*$D$28*1.54)/($G$28*1.25),\"\")","v":""},{"$f":"IF(L14>0,(BS20*$D$28*1.54)/($G$28*1.25),\"\")","v":""},{"$f":"IF(M14>0,(BT20*$D$28*1.54)/($G$28*1.25),\"\")","v":""},{"$f":"IF(N14>0,(BU20*$D$28*1.54)/($G$28*1.25),\"\")","v":""},{"$f":"IF(O14>0,(BV20*$D$28*1.54)/($G$28*1.25),\"\")","v":""},{"$f":"IF(P14>0,(BW20*$D$28*1.54)/($G$28*1.25),\"\")","v":""},{"$f":"IF(Q14>0,(BX20*$D$28*1.54)/($G$28*1.25),\"\")","v":""},{"v":0,"d":"0.00"}]
["Excavation Depth, D (ft)",{"$nulls":28},"Rebar",{"$nulls":4},{"$f":"SUM(BY26:BZ29)/1000","v":{"v":0,"d":"0.000 Ton"}},null,null,{"v":0,"d":"0.000 Ton"},null,{"v":98000,"d":"98000.00 TK"},null,{"v":0,"d":"0 TK"},{"$nulls":17},"Sand ",null,{"$f":"IF(C14>0,(BJ20*1.54*$E$28)/$G$28,\"\")","v":""},{"$f":"IF(D14>0,(BK20*1.54*$E$28)/$G$28,\"\")","v":""},{"$f":"IF(E14>0,(BL20*1.54*$E$28)/$G$28,\"\")","v":""},{"$f":"IF(F14>0,(BM20*1.54*$E$28)/$G$28,\"\")","v":""},{"$f":"IF(G14>0,(BN20*1.54*$E$28)/$G$28,\"\")","v":""},{"$f":"IF(H14>0,(BO20*1.54*$E$28)/$G$28,\"\")","v":""},{"$f":"IF(I14>0,(BP20*1.54*$E$28)/$G$28,\"\")","v":""},{"$f":"IF(J14>0,(BQ20*1.54*$E$28)/$G$28,\"\")","v":""},{"$f":"IF(K14>0,(BR20*1.54*$E$28)/$G$28,\"\")","v":""},{"$f":"IF(L14>0,(BS20*1.54*$E$28)/$G$28,\"\")","v":""},{"$f":"IF(M14>0,(BT20*1.54*$E$28)/$G$28,\"\")","v":""},{"$f":"IF(N14>0,(BU20*1.54*$E$28)/$G$28,\"\")","v":""},{"$f":"IF(O14>0,(BV20*1.54*$E$28)/$G$28,\"\")","v":""},{"$f":"IF(P14>0,(BW20*1.54*$E$28)/$G$28,\"\")","v":""},{"$f":"IF(Q14>0,(BX20*1.54*$E$28)/$G$28,\"\")","v":""},{"v":0,"d":"0.00"}]
["Footing Thickness, T (inch)",{"$nulls":28},"Excabation",{"$nulls":4},{"$f":"BY21","v":{"v":0,"d":"0 CFT"}},null,null,{"v":0,"d":"0 CFT"},null,{"v":15,"d":"15.00 TK"},null,{"v":0,"d":"0 TK"},{"$nulls":17},"Stone/Brick Chips",null,{"$f":"IF(C14>0,(BJ20*1.54*$F$28)/$G$28,\"\")","v":""},{"$f":"IF(D14>0,(BK20*1.54*$F$28)/$G$28,\"\")","v":""},{"$f":"IF(E14>0,(BL20*1.54*$F$28)/$G$28,\"\")","v":""},{"$f":"IF(F14>0,(BM20*1.54*$F$28)/$G$28,\"\")","v":""},{"$f":"IF(G14>0,(BN20*1.54*$F$28)/$G$28,\"\")","v":""},{"$f":"IF(H14>0,(BO20*1.54*$F$28)/$G$28,\"\")","v":""},{"$f":"IF(I14>0,(BP20*1.54*$F$28)/$G$28,\"\")","v":""},{"$f":"IF(J14>0,(BQ20*1.54*$F$28)/$G$28,\"\")","v":""},{"$f":"IF(K14>0,(BR20*1.54*$F$28)/$G$28,\"\")","v":""},{"$f":"IF(L14>0,(BS20*1.54*$F$28)/$G$28,\"\")","v":""},{"$f":"IF(M14>0,(BT20*1.54*$F$28)/$G$28,\"\")","v":""},{"$f":"IF(N14>0,(BU20*1.54*$F$28)/$G$28,\"\")","v":""},{"$f":"IF(O14>0,(BV20*1.54*$F$28)/$G$28,\"\")","v":""},{"$f":"IF(P14>0,(BW20*1.54*$F$28)/$G$28,\"\")","v":""},{"$f":"IF(Q14>0,(BX20*1.54*$F$28)/$G$28,\"\")","v":""},{"v":0,"d":"0.00"},{"$nulls":4},"Stone/Brick Chips",{"$f":"BY18+BY13","v":0}]
["t (inch)",{"$nulls":28},"Sand Filling ",{"$nulls":4},{"$f":"BY24","v":{"v":0,"d":"0 CFT"}},null,null,{"v":0,"d":"0 CFT"},null,{"v":45,"d":"45.00 TK"},null,{"v":0,"d":"0 TK"},{"$nulls":17},"Brick Nos",null,{"$f":"IF(C14>0,BJ18*9.5,\"\")","v":""},{"$f":"IF(D14>0,BK18*9.5,\"\")","v":""},{"$f":"IF(E14>0,BL18*9.5,\"\")","v":""},{"$f":"IF(F14>0,BM18*9.5,\"\")","v":""},{"$f":"IF(G14>0,BN18*9.5,\"\")","v":""},{"$f":"IF(H14>0,BO18*9.5,\"\")","v":""},{"$f":"IF(I14>0,BP18*9.5,\"\")","v":""},{"$f":"IF(J14>0,BQ18*9.5,\"\")","v":""},{"$f":"IF(K14>0,BR18*9.5,\"\")","v":""},{"$f":"IF(L14>0,BS18*9.5,\"\")","v":""},{"$f":"IF(M14>0,BT18*9.5,\"\")","v":""},{"$f":"IF(N14>0,BU18*9.5,\"\")","v":""},{"$f":"IF(O14>0,BV18*9.5,\"\")","v":""},{"$f":"IF(P14>0,BW18*9.5,\"\")","v":""},{"$f":"IF(Q14>0,BX18*9.5,\"\")","v":""},{"v":0,"d":"0.00"},{"$nulls":4},"Brick Nos",{"$f":"BY19","v":0}]
["S (inch",{"$nulls":28},"Brick Flat Soling",{"$nulls":4},{"$f":"BY23*3","v":{"v":0,"d":"0 Nos"}},null,null,{"v":0,"d":"0 Nos"},null,{"v":10,"d":"10.00 TK"},null,{"v":0,"d":"0 TK"},{"$nulls":17},"Casting",null,{"$f":"IF(C14>0,(C15*C16*C18/12)*C14,\"\")","v":""},{"$f":"IF(D14>0,(D15*D16*D18/12)*D14,\"\")","v":""},{"$f":"IF(E14>0,(E15*E16*E18/12)*E14,\"\")","v":""},{"$f":"IF(F14>0,(F15*F16*F18/12)*F14,\"\")","v":""},{"$f":"IF(G14>0,(G15*G16*G18/12)*G14,\"\")","v":""},{"$f":"IF(H14>0,(H15*H16*H18/12)*H14,\"\")","v":""},{"$f":"IF(I14>0,(I15*I16*I18/12)*I14,\"\")","v":""},{"$f":"IF(J14>0,(J15*J16*J18/12)*J14,\"\")","v":""},{"$f":"IF(K14>0,(K15*K16*K18/12)*K14,\"\")","v":""},{"$f":"IF(L14>0,(L15*L16*L18/12)*L14,\"\")","v":""},{"$f":"IF(M14>0,(M15*M16*M18/12)*M14,\"\")","v":""},{"$f":"IF(N14>0,(N15*N16*N18/12)*N14,\"\")","v":""},{"$f":"IF(O14>0,(O15*O16*O18/12)*O14,\"\")","v":""},{"$f":"IF(P14>0,(P15*P16*P18/12)*P14,\"\")","v":""},{"$f":"IF(Q14>0,(Q15*Q16*Q18/12)*Q14,\"\")","v":""},{"v":0,"d":"0.00"}]
["Cement Concrete (C.C) inch",{"$nulls":28},"Formwork",{"$nulls":4},{"$f":"BY25","v":{"v":0,"d":"0 SFT"}},null,null,{"v":0,"d":"0 SFT"},null,{"v":55,"d":"55.00 TK"},null,{"v":0,"d":"0 TK"},{"$nulls":17},"Excavation",null,{"$f":"IF(C14>0,SUM(C15*C16*C17*C14),\"\")","v":""},{"$f":"IF(D14>0,SUM(D15*D16*D17*D14),\"\")","v":""},{"$f":"IF(E14>0,SUM(E15*E16*E17*E14),\"\")","v":""},{"$f":"IF(F14>0,SUM(F15*F16*F17*F14),\"\")","v":""},{"$f":"IF(G14>0,SUM(G15*G16*G17*G14),\"\")","v":""},{"$f":"IF(H14>0,SUM(H15*H16*H17*H14),\"\")","v":""},{"$f":"IF(I14>0,SUM(I15*I16*I17*I14),\"\")","v":""},{"$f":"IF(J14>0,SUM(J15*J16*J17*J14),\"\")","v":""},{"$f":"IF(K14>0,SUM(K15*K16*K17*K14),\"\")","v":""},{"$f":"IF(L14>0,SUM(L15*L16*L17*L14),\"\")","v":""},{"$f":"IF(M14>0,SUM(M15*M16*M17*M14),\"\")","v":""},{"$f":"IF(N14>0,SUM(N15*N16*N17*N14),\"\")","v":""},{"$f":"IF(O14>0,SUM(O15*O16*O17*O14),\"\")","v":""},{"$f":"IF(P14>0,SUM(P15*P16*P17*P14),\"\")","v":""},{"$f":"IF(Q14>0,SUM(Q15*Q16*Q17*Q14),\"\")","v":""},{"v":0,"d":"0.00"}]
["Brick Flat Soling (inch)",{"$nulls":21},"S",{"$nulls":6},"R.C.C Casting",{"$nulls":4},{"$f":"BY20","v":{"v":0,"d":"0 CFT"}},null,null,{"v":0,"d":"0 CFT"},null,{"v":56,"d":"56.00 TK"},null,{"$f":"AL22*AN22","v":{"v":0,"d":"0 TK"}},{"$nulls":17},"C.C",null,{"$f":"IF(C14>0,(C15*C16*C21/12)*C14,\"\")","v":""},{"$f":"IF(D14>0,(D15*D16*D21/12)*D14,\"\")","v":""},{"$f":"IF(E14>0,(E15*E16*E21/12)*E14,\"\")","v":""},{"$f":"IF(F14>0,(F15*F16*F21/12)*F14,\"\")","v":""},{"$f":"IF(G14>0,(G15*G16*G21/12)*G14,\"\")","v":""},{"$f":"IF(H14>0,(H15*H16*H21/12)*H14,\"\")","v":""},{"$f":"IF(I14>0,(I15*I16*I21/12)*I14,\"\")","v":""},{"$f":"IF(J14>0,(J15*J16*J21/12)*J14,\"\")","v":""},{"$f":"IF(K14>0,(K15*K16*K21/12)*K14,\"\")","v":""},{"$f":"IF(L14>0,(L15*L16*L21/12)*L14,\"\")","v":""},{"$f":"IF(M14>0,(M15*M16*M21/12)*M14,\"\")","v":""},{"$f":"IF(N14>0,(N15*N16*N21/12)*N14,\"\")","v":""},{"$f":"IF(O14>0,(O15*O16*O21/12)*O14,\"\")","v":""},{"$f":"IF(P14>0,(P15*P16*P21/12)*P14,\"\")","v":""},{"$f":"IF(Q14>0,(Q15*Q16*Q21/12)*Q14,\"\")","v":""},{"v":0,"d":"0.00"}]
["Sand Filling (inch)",{"$nulls":18},"D",{"$nulls":5},"t",{"$nulls":13},"Total Cost=",null,{"$f":"SUM(AP14:AQ22)","v":{"v":0,"d":"0 TK"}},{"$nulls":17},"Brick Flat",null,{"$f":"IF(AND(C14>0,C22>0),(C15*C16)*C14,\"0\")","v":"0"},{"$f":"IF(AND(D14>0,D22>0),(D15*D16)*D14,\"0\")","v":"0"},"0","0","0","0","0","0","0","0","0","0","0","0","0",{"v":0,"d":"0.00"}]
["Clear Cover (inh)",{"$nulls":58},"Sand Filling",null,{"$f":"IF(AND(C14>0,C23>0),(C15*C16*C23/12)*C14,\"0\")","v":"0"},{"$f":"IF(AND(D14>0,D23>0),(D15*D16*D23/12)*D14,\"0\")","v":"0"},"0","0","0","0","0","0","0","0","0","0","0","0","0",{"v":0,"d":"0.00"}]
[{"$nulls":59},"Formwork",null,{"$f":"IF(C14>0,((C15+C15+C16+C16)*C18/12)*C14,\"\")","v":""},{"$f":"IF(D14>0,((D15+D15+D16+D16)*D18/12)*D14,\"\")","v":""},{"$f":"IF(E14>0,((E15+E15+E16+E16)*E18/12)*E14,\"\")","v":""},{"$f":"IF(F14>0,((F15+F15+F16+F16)*F18/12)*F14,\"\")","v":""},{"$f":"IF(G14>0,((G15+G15+G16+G16)*G18/12)*G14,\"\")","v":""},{"$f":"IF(H14>0,((H15+H15+H16+H16)*H18/12)*H14,\"\")","v":""},{"$f":"IF(I14>0,((I15+I15+I16+I16)*I18/12)*I14,\"\")","v":""},{"$f":"IF(J14>0,((J15+J15+J16+J16)*J18/12)*J14,\"\")","v":""},{"$f":"IF(K14>0,((K15+K15+K16+K16)*K18/12)*K14,\"\")","v":""},{"$f":"IF(L14>0,((L15+L15+L16+L16)*L18/12)*L14,\"\")","v":""},{"$f":"IF(M14>0,((M15+M15+M16+M16)*M18/12)*M14,\"\")","v":""},{"$f":"IF(N14>0,((N15+N15+N16+N16)*N18/12)*N14,\"\")","v":""},{"$f":"IF(O14>0,((O15+O15+O16+O16)*O18/12)*O14,\"\")","v":""},{"$f":"IF(P14>0,((P15+P15+P16+P16)*P18/12)*P14,\"\")","v":""},{"$f":"IF(Q14>0,((Q15+Q15+Q16+Q16)*Q18/12)*Q14,\"\")","v":""},{"v":0,"d":"0.00"}]
[{"$nulls":3},"Rcc casting Ratio",{"$nulls":3},"C.C casting Ratio",{"$nulls":12},"T",{"$nulls":12}," Reinforcement ",{"$nulls":25},"Bottom long ",null,{"$f":"IF(AND(C14>0,D32>0),((C16*12-C24-C24)/D33+1)*(D32^2/532)*((C15-(C24/12+C24/12-D36/12-D36/12))*C14),\"0\")","v":"0"},{"$f":"IF(AND(D14>0,E32>0),((D16*12-D24-D24)/E33+1)*(E32^2/532)*((D15-(D24/12+D24/12-E36/12-E36/12))*D14),\"0\")","v":"0"},"0","0","0","0","0","0","0","0","0","0","0","0","0",{"v":0,"d":"0.00"}]
[{"$nulls":34},{"v":12,"d":"12 MM"},{"$f":"IF(AI27>0,SUMIF($BK$32:$BY$35,AI27,$CA$32:$CO$35),\"\")","v":{"v":0,"d":"0 KG"}},{"$nulls":23},"Bottom Short",null,{"$f":"IF(AND(C14>0,D34>0),((C15*12-C24-C24)/D35+1)*(D34^2/532)*(C16-(C24/12+C24/12-D36/12-D36/12))*C14,\"\")","v":""},{"$f":"IF(AND(D14>0,E34>0),((D15*12-D24-D24)/E35+1)*(E34^2/532)*(D16-(D24/12+D24/12-E36/12-E36/12))*D14,\"\")","v":""},"","","","","","","","","","","","","",{"v":0,"d":"0.00"}]
[{"$nulls":3},1,1.5,3,{"$f":"SUM(D28:F28)","v":5.5},1,3,6,{"$f":"SUM(H28:J28)","v":10},{"$nulls":23},{"v":16,"d":"16 MM"},{"$f":"IF(AI28>0,SUMIF($BK$32:$BY$35,AI28,$CA$32:$CO$35),\"\")","v":{"v":0,"d":"0 KG"}},{"$nulls":23},"Top long ",null,{"$f":"IF(AND(C14>0,D37>0),((C16*12-C24-C24)/D38+1)*(D37^2/532)*(C15-(C24/12+C24/12-D36/12-D36/12))*C14,\"\")","v":""},{"$f":"IF(AND(D14>0,E37>0),((D16*12-D24-D24)/E38+1)*(E37^2/532)*(D15-(D24/12+D24/12-E36/12-E36/12))*D14,\"\")","v":""},"","","","","","","","","","","","","",{"v":0,"d":"0.00"}]
[{"$nulls":35},"",{"$nulls":23},"Top Short",null,{"$f":"IF(AND(C14>0,D39>0),((C15*12-C24-C24)/D40+1)*(D39^2/532)*(C16-(C24/12+C24/12-D36/12-D36/12))*C14,\"\")","v":""},{"$f":"IF(AND(D14>0,E39>0),((D15*12-D24-D24)/E40+1)*(E39^2/532)*(D16-(D24/12+D24/12-E36/12-E36/12))*D14,\"\")","v":""},"","","","","","","","","","","","","",{"v":0,"d":"0.00"}]
[{"$nulls":35},""]
["Rebar calculation",null,null,"Type-1","Type-2","Type-3","Type-4","Type-5","Type-6","Type-7","Type-8","Type-9","Type-10","Type-11","Type-12","Type-13","Type-14","Type-15",{"$nulls":17},"",{"$nulls":42},1,2,3,4,5,6,7,8,9,10,11,12,13,14,15]
["Bottom layer","long direction Dia (mm)",{"$nulls":18},"Footing Section ",{"$nulls":14},"",{"$nulls":24},"Bottom long direction",null,{"$f":"D32","v":{"v":0,"d":"0 MM"}},{"v":0,"d":"0 MM"},{"v":0,"d":"0 MM"},{"v":0,"d":"0 MM"},{"v":0,"d":"0 MM"},{"v":0,"d":"0 MM"},{"v":0,"d":"0 MM"},{"v":0,"d":"0 MM"},{"v":0,"d":"0 MM"},{"v":0,"d":"0 MM"},{"v":0,"d":"0 MM"},{"v":0,"d":"0 MM"},{"v":0,"d":"0 MM"},{"v":0,"d":"0 MM"},{"v":0,"d":"0 MM"},null,{"$f":"IF(C14>0,BJ26+$AK$14*BJ26/100,\"\")","v":""},{"$f":"IF(D14>0,BK26+$AK$14*BK26/100,\"\")","v":""},"","","","","","","","","","","","",""]
[null,"Specing(inh)",{"$nulls":33},"",{"$nulls":24},"Bottom Short direct",null,{"$f":"D34","v":{"v":0,"d":"0 MM"}},{"v":0,"d":"0 MM"},{"v":0,"d":"0 MM"},{"v":0,"d":"0 MM"},{"v":0,"d":"0 MM"},{"v":0,"d":"0 MM"},{"v":0,"d":"0 MM"},{"v":0,"d":"0 MM"},{"v":0,"d":"0 MM"},{"v":0,"d":"0 MM"},{"v":0,"d":"0 MM"},{"v":0,"d":"0 MM"},{"v":0,"d":"0 MM"},{"v":0,"d":"0 MM"},{"v":0,"d":"0 MM"},null,{"$f":"IF(C14>0,BJ27+$AK$14*BJ27/100,\"\")","v":""},{"$f":"IF(D14>0,BK27+$AK$14*BK27/100,\"\")","v":""},"","","","","","","","","","","","",""]
[null,"Short direction  Dia (mm)",{"$nulls":33},"",{"$nulls":24},"Top long direction",null,{"$f":"D37","v":{"v":0,"d":"0 MM"}},{"v":0,"d":"0 MM"},{"v":0,"d":"0 MM"},{"v":0,"d":"0 MM"},{"v":0,"d":"0 MM"},{"v":0,"d":"0 MM"},{"v":0,"d":"0 MM"},{"v":0,"d":"0 MM"},{"v":0,"d":"0 MM"},{"v":0,"d":"0 MM"},{"$f":"N37","v":{"v":0,"d":"0 MM"}},{"v":0,"d":"0 MM"},{"v":0,"d":"0 MM"},{"v":0,"d":"0 MM"},{"v":0,"d":"0 MM"},null,{"$f":"IF(C14>0,BJ28+$AK$14*BJ28/100,\"\")","v":""},{"$f":"IF(D14>0,BK28+$AK$14*BK28/100,\"\")","v":""},"","","","","","","","","","","","",""]
[null,"Specing (inh)",{"$nulls":33},"",{"$nulls":24},"Top  Short direction  ",null,{"$f":"D39","v":{"v":0,"d":"0 MM"}},{"v":0,"d":"0 MM"},{"v":0,"d":"0 MM"},{"v":0,"d":"0 MM"},{"v":0,"d":"0 MM"},{"v":0,"d":"0 MM"},{"v":0,"d":"0 MM"},{"v":0,"d":"0 MM"},{"v":0,"d":"0 MM"},{"v":0,"d":"0 MM"},{"$f":"N39","v":{"v":0,"d":"0 MM"}},{"v":0,"d":"0 MM"},{"v":0,"d":"0 MM"},{"v":0,"d":"0 MM"},{"v":0,"d":"0 MM"},null,{"$f":"IF(C14>0,BJ29+$AK$14*BJ29/100,\"\")","v":""},{"$f":"IF(D14>0,BK29+$AK$14*BK29/100,\"\")","v":""},"","","","","","","","","","","","",""]
[null,"Development length (inh)"]
["Top layer","long direction Dia (mm)"]
[null,"Specing(inh)"]
[null,"Short direction  Dia (mm)"]
[null,"Specing (inh)"]
[null,"Development length (inh)"]

{"sheet":"Short Tied Column","index":5,"n_rows":84,"n_cols":85,"rows_kept":84,"hidden":true,"merged":[[0,0,1,21],[2,0,3,21],[4,0,4,21],[5,0,6,21],[7,0,7,21],[10,0,11,16],[10,20,11,32],[12,0,12,1],[12,20,12,23],[12,24,12,25],[12,27,12,28],[12,29,12,30],[12,31,12,32],[13,0,13,1],[13,20,13,23],[13,24,13,25],[13,26,18,26],[13,27,13,28],[13,29,13,30],[13,31,13,32],[13,52,13,53],[14,0,14,1],[14,20,14,23],[14,24,14,25],[14,27,14,28],[14,29,14,30],[14,31,14,32],[14,52,14,53],[15,0,15,1],[15,20,15,23],[15,24,15,25],[15,27,15,28],[15,29,15,30],[15,31,15,32],[15,52,15,53],[16,0,16,1],[16,20,16,23],[16,24,16,25],[16,27,16,28],[16,29,16,30],[16,31,16,32],[16,52,16,53],[17,0,17,1],[17,20,17,23],[17,24,17,25],[17,27,17,28],[17,29,17,30],[17,31,17,32],[17,52,17,53],[18,20,18,23],[18,24,18,25],[18,27,18,28],[18,29,18,30],[18,31,18,32],[18,36,18,37],[18,52,18,53],[19,3,20,6],[19,29,19,30],[19,31,19,32],[19,52,19,53],[20,52,20,53],[21,24,21,27],[21,52,21,53],[22,52,22,53],[23,0,23,2],[23,52,23,53],[24,0,25,0],[24,1,24,2],[24,52,24,53],[25,1,25,2],[25,52,25,53],[26,0,27,0],[26,1,26,2],[26,52,26,53],[27,1,27,2],[28,0,28,2],[29,0,31,0],[29,1,29,2],[29,52,29,53],[30,1,30,2],[30,52,30,53],[31,1,31,2],[31,52,31,53],[32,1,32,2],[32,52,32,53],[33,1,33,2],[33,52,33,53]]}
["This is The Property of NOR DESIGN SOLUTION"]
[]
[]
[]
["এক্সেল শীট বিষয়ক কিছু জানার থাকলে বা আপডেট নিয়ে কোন পরামর্শ থাকলে আমাদের সাথে যোগাযোগ করুন অথবা ওয়েবসাইটে কমেন্ট করুন"]
["এক্সেল শীট সম্পর্কে যাবতীয় তথ্য বিস্তারিত জানতে ভিজিট করুন আমাদের ইউটিউব চ্যানেলে"]
[]
["Click Here To Watch The Short Circular Column Estimate video"]
[]
[{"$nulls":54},"Cement","Sand","Stone","Rod","Casting","Excavation","Sand Filling ","Formwork","Brick Nos","Bricl Flat Soling ","C.c"]
["Short Tied Column ",{"$nulls":19}," Short Tied Column Estimated And Price",{"$nulls":33},{"$f":"AB14","v":{"v":0,"d":"0 Bag"}},{"$f":"AB15","v":{"v":0,"d":"0 CFT"}},{"$f":"BR16+AA14*BR16/100","v":0},{"$f":"AB17","v":{"v":0,"d":"0.000 Ton"}},{"$f":"AB19","v":{"v":0,"d":"0 CFT"}},null,null,{"$f":"AB18","v":{"v":0,"d":"0 SFT"}},{"$f":"BR17+AA14*BR17/100","v":0}]
[]
["Description",null,"Type-1","Type-2","Type-3","Type-4","Type-5","Type-6","Type-7","Type-8","Type-9","Type-10","Type-11","Type-12","Type-13","Type-14","Type-15",{"$nulls":3},"DESCRIPTION",{"$nulls":3},"Quantity",null,"Wastage Add","Quantity (Wastage Add)",null,"Rate",null,"Amount TK",{"$nulls":37},"SUM"]
[" Column Nos",{"$nulls":19},"Cement",{"$nulls":3},{"$f":"BR14","v":{"v":0,"d":"0 Bag"}},null,{"v":0,"d":"0.0% ADD"},{"$f":"Y14+$AA$14*Y14/100","v":{"v":0,"d":"0 Bag"}},null,{"v":550,"d":"550.0 TK"},null,{"$f":"AB14*AD14","v":{"v":0,"d":"0 TK"}},{"$nulls":20},"cement",null,{"$f":"IF(C14>0,(BC18*$D$22*1.54)/($G$22*1.25),\"\")","v":""},"","","","","","","","","",{"$f":"IF(M14>0,(BM18*$D$22*1.54)/($G$22*1.25),\"\")","v":""},{"$f":"IF(N14>0,(BN18*$D$22*1.54)/($G$22*1.25),\"\")","v":""},{"$f":"IF(O14>0,(BO18*$D$22*1.54)/($G$22*1.25),\"\")","v":""},{"$f":"IF(P14>0,(BP18*$D$22*1.54)/($G$22*1.25),\"\")","v":""},{"$f":"IF(Q14>0,(BQ18*$D$22*1.54)/($G$22*1.25),\"\")","v":""},{"$f":"SUM(BC14:BQ14)","v":0}]
["Length,L (inh)",{"$nulls":19},"Sand ",{"$nulls":3},{"$f":"BR15","v":{"v":0,"d":"0 CFT"}},null,null,{"v":0,"d":"0 CFT"},null,{"v":45,"d":"45.0 TK"},null,{"v":0,"d":"0 TK"},{"$nulls":20},"sand",null,{"$f":"IF(C14>0,(BC18*1.54*$E$22)/$G$22,\"\")","v":""},"","","","","","","","","",{"$f":"IF(M14>0,(BM18*1.54*$E$22)/$G$22,\"\")","v":""},{"$f":"IF(N14>0,(BN18*1.54*$E$22)/$G$22,\"\")","v":""},{"$f":"IF(O14>0,(BO18*1.54*$E$22)/$G$22,\"\")","v":""},{"$f":"IF(P14>0,(BP18*1.54*$E$22)/$G$22,\"\")","v":""},{"$f":"IF(Q14>0,(BQ18*1.54*$E$22)/$G$22,\"\")","v":""},{"$f":"SUM(BC15:BQ15)","v":0}]
["Breadth,B (inh)",{"$nulls":19},"Stone/Brik Chips (CFT)",{"$nulls":3},{"$f":"VLOOKUP(U16,BT20:BU21,2,0)","v":0},null,null,0,null,{"v":15,"d":"15.0 TK"},null,{"v":0,"d":"0 TK"},{"$nulls":20},"Stone/Brik Chips",null,{"$f":"IF(C14>0,(BC18*1.54*$F$22)/$G$22,\"\")","v":""},"","","","","","","","","",{"$f":"IF(M14>0,(BM18*1.54*$F$22)/$G$22,\"\")","v":""},{"$f":"IF(N14>0,(BN18*1.54*$F$22)/$G$22,\"\")","v":""},{"$f":"IF(O14>0,(BO18*1.54*$F$22)/$G$22,\"\")","v":""},{"$f":"IF(P14>0,(BP18*1.54*$F$22)/$G$22,\"\")","v":""},{"$f":"IF(Q14>0,(BQ18*1.54*$F$22)/$G$22,\"\")","v":""},0]
["Clear Cover (inh)",{"$nulls":19},"Rod/Reber",{"$nulls":3},{"$f":"SUM(BR21:BR25)/1000","v":{"v":0,"d":"0.000 Ton"}},null,null,{"v":0,"d":"0.000 Ton"},null,{"v":95000,"d":"95000.0 TK"},null,{"v":0,"d":"0 TK"},{"$nulls":20},"Brick Nos",null,{"$f":"IF(C14>0,BC16*9.5,\"\")","v":""},"","","","","","","","","",{"$f":"IF(M14>0,BM16*9.5,\"\")","v":""},{"$f":"IF(N14>0,BN16*9.5,\"\")","v":""},{"$f":"IF(O14>0,BO16*9.5,\"\")","v":""},{"$f":"IF(P14>0,BP16*9.5,\"\")","v":""},{"$f":"IF(Q14>0,BQ16*9.5,\"\")","v":""},0]
["Short Column Height, H (ft)",{"$nulls":19},"Formwork ",{"$nulls":3},{"$f":"BR19","v":{"v":0,"d":"0 SFT"}},null,null,{"v":0,"d":"0 SFT"},null,{"v":30,"d":"30.0 TK"},null,{"v":0,"d":"0 TK"},{"$nulls":20},"Casting ",null,{"$f":"IF(C14>0,((C18)*(C15/12*C16/12*C14)),\"\")","v":""},"","","","","","","","","",{"$f":"IF(M14>0,((M18)*(M15/12*M16/12*M14)),\"\")","v":""},{"$f":"IF(N14>0,((N18)*(N15/12*N16/12*N14)),\"\")","v":""},{"$f":"IF(O14>0,((O18)*(O15/12*O16/12*O14)),\"\")","v":""},{"$f":"IF(P14>0,((P18)*(P15/12*P16/12*P14)),\"\")","v":""},{"$f":"IF(Q14>0,((Q18)*(Q15/12*Q16/12*Q14)),\"\")","v":""},0]
[{"$nulls":20},"Casting ",{"$nulls":3},{"$f":"BR18","v":{"v":0,"d":"0 CFT"}},null,null,{"v":0,"d":"0 CFT"},null,{"v":31,"d":"31.0 TK"},null,{"v":0,"d":"0 TK"},{"$nulls":20},"Framwork",null,{"$f":"IF(C14>0,(C18*((C16+C16)/12)*((C15+C15)/12))*C14,\"\")","v":""},"","","","","","","","","",{"$f":"IF(M14>0,(M18*((M16+M16)/12)*((M15+M15)/12))*M14,\"\")","v":""},{"$f":"IF(N14>0,(N18*((N16+N16)/12)*((N15+N15)/12))*N14,\"\")","v":""},{"$f":"IF(O14>0,(O18*((O16+O16)/12)*((O15+O15)/12))*O14,\"\")","v":""},{"$f":"IF(P14>0,(P18*((P16+P16)/12)*((P15+P15)/12))*P14,\"\")","v":""},{"$f":"IF(Q14>0,(Q18*((Q16+Q16)/12)*((Q15+Q15)/12))*Q14,\"\")","v":""},0]
[{"$nulls":3},"Rcc casting Ratio",{"$nulls":25},"Total Cost=",null,{"$f":"SUM(AF14:AG19)","v":{"v":0,"d":"0 TK"}},{"$nulls":20},"Column  (L)",null,{"$f":"IF(C14>0,(C18+(D29/12)),\"\")","v":""},"","","","","","","","","",{"$f":"IF(M14>0,(M18+(N29/12)),\"\")","v":""},{"$f":"IF(N14>0,(N18+(O29/12)),\"\")","v":""},{"$f":"IF(O14>0,(O18+(P29/12)),\"\")","v":""},{"$f":"IF(P14>0,(P18+(Q29/12)),\"\")","v":""},{"$f":"IF(Q14>0,(Q18+(R29/12)),\"\")","v":""},0,null,"Stone/Brik Chips (CFT)",{"$f":"BR16","v":0}]
[{"$nulls":52},"Large dia",null,{"$f":"IF(AND(C14>0,D25>0),(D25^2/532)*D26*BC20*C14,\"0\")","v":"0"},{"$f":"IF(D14>0,(E25^2/532)*E26*BD20*D14,\"\")","v":""},"","","","","","","","",{"$f":"IF(M14>0,(N25^2/532)*N26*BM20*M14,\"\")","v":""},{"$f":"IF(N14>0,(O25^2/532)*O26*BN20*N14,\"\")","v":""},{"$f":"IF(O14>0,(P25^2/532)*P26*BO20*O14,\"\")","v":""},{"$f":"IF(P14>0,(Q25^2/532)*Q26*BP20*P14,\"\")","v":""},{"$f":"IF(Q14>0,(R25^2/532)*R26*BQ20*Q14,\"\")","v":""},0,null,"Brick Nos For Brik Chips",{"$f":"BR17","v":0}]
[{"$nulls":3},1,{"v":2,"d":"2.0"},3,{"$f":"SUM(D22:F22)","v":{"v":6,"d":"6.0"}},{"$nulls":17}," Reinforcement ",{"$nulls":27},"Small Dia",null,{"$f":"IF(AND(C14>0,D27>0),(D27^2/532)*D28*BC20*C14,\"0\")","v":"0"},{"$f":"IF(D14>0,(E27^2/532)*E28*BD20*D14,\"\")","v":""},"","","","","","","","",{"$f":"IF(M14>0,(N27^2/532)*N28*BM20*M14,\"\")","v":""},{"$f":"IF(N14>0,(O27^2/532)*O28*BN20*N14,\"\")","v":""},{"$f":"IF(O14>0,(P27^2/532)*P28*BO20*O14,\"\")","v":""},{"$f":"IF(P14>0,(Q27^2/532)*Q28*BP20*P14,\"\")","v":""},{"$f":"IF(Q14>0,(R27^2/532)*R28*BQ20*Q14,\"\")","v":""},0]
[{"$nulls":25},{"v":10,"d":"10 MM"},{"$f":"IF(Z23>0,SUMIF($BC$30:$BQ$34,Z23,$BS$30:$CG$34)+$AA$14*SUMIF($BC$30:$BQ$34,Z23,$BS$30:$CG$34)/100,\"\")","v":{"v":0,"d":"0 KG"}},{"$nulls":25},"Tie Rod-1",null,{"$f":"IF(AND(C14>0,D30>0),(D30^2/532)*BC26*BC27*C14,\"0\")","v":"0"},{"$f":"IF(D14>0,(E30^2/532)*BD26*BD27*D14,\"\")","v":""},"","","","","","","","",{"$f":"IF(M14>0,(N30^2/532)*BM26*BM27*M14,\"\")","v":""},{"$f":"IF(N14>0,(O30^2/532)*BN26*BN27*N14,\"\")","v":""},{"$f":"IF(O14>0,(P30^2/532)*BO26*BO27*O14,\"\")","v":""},{"$f":"IF(P14>0,(Q30^2/532)*BP26*BP27*P14,\"\")","v":""},{"$f":"IF(Q14>0,(R30^2/532)*BQ26*BQ27*Q14,\"\")","v":""},0]
["Short Column Rebar Calculation",null,null,"Type-1","Type-2","Type-3","Type-4","Type-5","Type-6","Type-7","Type-8","Type-9","Type-10","Type-11","Type-12","Type-13","Type-14","Type-15",{"$nulls":7},{"v":12,"d":"12 MM"},{"$f":"IF(Z24>0,SUMIF($BC$30:$BQ$34,Z24,$BS$30:$CG$34)+$AA$14*SUMIF($BC$30:$BQ$34,Z24,$BS$30:$CG$34)/100,\"\")","v":{"v":0,"d":"0 KG"}},{"$nulls":25},"Tie Rod-2",null,{"$f":"IF(AND(C14>0,D33>0),(D30^2/532)*BC26*D33*C14,\"0\")","v":"0"},{"$f":"IF(D14>0,(E30^2/532)*BD26*E33*D14,\"\")","v":""},"","","","","","","","",{"$f":"IF(M14>0,(N30^2/532)*BM26*N33*M14,\"\")","v":""},{"$f":"IF(N14>0,(O30^2/532)*BN26*O33*N14,\"\")","v":""},{"$f":"IF(O14>0,(P30^2/532)*BO26*P33*O14,\"\")","v":""},{"$f":"IF(P14>0,(Q30^2/532)*BP26*Q33*P14,\"\")","v":""},{"$f":"IF(Q14>0,(R30^2/532)*BQ26*R33*Q14,\"\")","v":""},0]
["Large Dia ","Rebar Size (mm)",{"$nulls":23},{"v":16,"d":"16 MM"},{"v":0,"d":"0 KG"},{"$nulls":25},"Tie Rod-3",null,{"$f":"IF(AND(C14>0,D34>0),(D30^2/532)*BC26*D34*C14,\"0\")","v":"0"},{"$f":"IF(D14>0,(E30^2/532)*BD26*E34*D14,\"\")","v":""},"","","","","","","","",{"$f":"IF(M14>0,(N30^2/532)*BM26*N34*M14,\"\")","v":""},{"$f":"IF(N14>0,(O30^2/532)*BN26*O34*N14,\"\")","v":""},{"$f":"IF(O14>0,(P30^2/532)*BO26*P34*O14,\"\")","v":""},{"$f":"IF(P14>0,(Q30^2/532)*BP26*Q34*P14,\"\")","v":""},{"$f":"IF(Q14>0,(R30^2/532)*BQ26*R34*Q14,\"\")","v":""},0,{"$nulls":8},{"$f":"SUM(BS32:CG34)","v":{"v":0,"d":"0 KG"}}]
[null,"Rebar Nos",{"$nulls":24},"",{"$nulls":25},"Tie Rod nos",null,{"$f":"IF(AND(C14>0,D31>0),(C18/(D31/12))+1,\"0\")","v":"0"},{"$f":"IF(D14>0,(D18/(E31/12))+1,\"\")","v":""},"","","","","","","","",{"$f":"IF(M14>0,(M18/(N31/12))+1,\"\")","v":""},{"$f":"IF(N14>0,(N18/(O31/12))+1,\"\")","v":""},{"$f":"IF(O14>0,(O18/(P31/12))+1,\"\")","v":""},{"$f":"IF(P14>0,(P18/(Q31/12))+1,\"\")","v":""},{"$f":"IF(Q14>0,(Q18/(R31/12))+1,\"\")","v":""},0]
["Small Dia","Rebar Size (mm)",{"$nulls":24},"",{"$nulls":25},"Tie Length",null,{"$f":"IF(C14>0,(((C15*2)-(C17*2))+((C16*2)-(C17*2)))/12,\"\")","v":""},{"$f":"IF(D14>0,(((D15*2)-(D17*2))+((D16*2)-(D17*2)))/12,\"\")","v":""},"","","","","","","","",{"$f":"IF(M14>0,(((M15*2)-(M17*2))+((M16*2)-(M17*2)))/12,\"\")","v":""},{"$f":"IF(N14>0,(((N15*2)-(N17*2))+((N16*2)-(N17*2)))/12,\"\")","v":""},{"$f":"IF(O14>0,(((O15*2)-(O17*2))+((O16*2)-(O17*2)))/12,\"\")","v":""},{"$f":"IF(P14>0,(((P15*2)-(P17*2))+((P16*2)-(P17*2)))/12,\"\")","v":""},{"$f":"IF(Q14>0,(((Q15*2)-(Q17*2))+((Q16*2)-(Q17*2)))/12,\"\")","v":""},0]
[null,"Rebar Nos",{"$nulls":24},""]
["Development length (inh)",{"$nulls":25},""]
["Tie Rod","Rebar Size (mm)",{"$nulls":24},"",{"$nulls":25},"Large dia",null,{"$f":"D25","v":{"v":0,"d":"0 MM"}},{"$f":"E25","v":{"v":0,"d":"0 MM"}},{"v":0,"d":"0 MM"},{"v":0,"d":"0 MM"},{"v":0,"d":"0 MM"},{"v":0,"d":"0 MM"},{"v":0,"d":"0 MM"},{"v":0,"d":"0 MM"},{"v":0,"d":"0 MM"},{"v":0,"d":"0 MM"},{"v":0,"d":"0 MM"},{"v":0,"d":"0 MM"},{"v":0,"d":"0 MM"},{"v":0,"d":"0 MM"},{"v":0,"d":"0 MM"},null,{"$f":"IF(C14>0,BC21+$AA$14*BC21/100,\"\")","v":""},{"$f":"IF(D14>0,BD21+$AA$14*BD21/100,\"\")","v":""},"","","","","","","","","","","","",""]
[null,"Specing (inch)",{"$nulls":24},"",{"$nulls":25},"Small Dia",null,{"$f":"D27","v":{"v":0,"d":"0 MM"}},{"$f":"E27","v":{"v":0,"d":"0 MM"}},{"v":0,"d":"0 MM"},{"v":0,"d":"0 MM"},{"v":0,"d":"0 MM"},{"v":0,"d":"0 MM"},{"v":0,"d":"0 MM"},{"v":0,"d":"0 MM"},{"v":0,"d":"0 MM"},{"v":0,"d":"0 MM"},{"v":0,"d":"0 MM"},{"v":0,"d":"0 MM"},{"v":0,"d":"0 MM"},{"v":0,"d":"0 MM"},{"v":0,"d":"0 MM"},null,{"$f":"IF(C14>0,BC22+$AA$14*BC22/100,\"\")","v":""},{"$f":"IF(D14>0,BD22+$AA$14*BD22/100,\"\")","v":""},"","","","","","","","","","","","",""]
[null,"Houck lenght (inch)",{"$nulls":50},"Tie Rod-1",null,{"$f":"D30","v":{"v":0,"d":"0 MM"}},{"$f":"E30","v":{"v":0,"d":"0 MM"}},{"v":0,"d":"0 MM"},{"v":0,"d":"0 MM"},{"v":0,"d":"0 MM"},{"v":0,"d":"0 MM"},{"v":0,"d":"0 MM"},{"v":0,"d":"0 MM"},{"v":0,"d":"0 MM"},{"v":0,"d":"0 MM"},{"v":0,"d":"0 MM"},{"v":0,"d":"0 MM"},{"v":0,"d":"0 MM"},{"v":0,"d":"0 MM"},{"v":0,"d":"0 MM"},null,{"$f":"IF(C14>0,BC23+$AA$14*BC23/100,\"\")","v":""},{"$f":"IF(D14>0,BD23+$AA$14*BD23/100,\"\")","v":""},"","","","","","","","","","","","",""]
["Extra Tie -1"," lenght (ft)",{"$nulls":50},"Tie Rod-2",null,{"$f":"BC32","v":{"v":0,"d":"0 MM"}},{"$f":"BD32","v":{"v":0,"d":"0 MM"}},{"v":0,"d":"0 MM"},{"v":0,"d":"0 MM"},{"v":0,"d":"0 MM"},{"v":0,"d":"0 MM"},{"v":0,"d":"0 MM"},{"v":0,"d":"0 MM"},{"v":0,"d":"0 MM"},{"v":0,"d":"0 MM"},{"v":0,"d":"0 MM"},{"v":0,"d":"0 MM"},{"v":0,"d":"0 MM"},{"v":0,"d":"0 MM"},{"v":0,"d":"0 MM"},null,{"$f":"IF(C14>0,BC24+$AA$14*BC24/100,\"\")","v":""},{"$f":"IF(D14>0,BD24+$AA$14*BD24/100,\"\")","v":""},"","","","","","","","","","","","",""]
["Extra Tie -2"," lenght (ft)",{"$nulls":50},"Tie Rod-3",null,{"$f":"BC32","v":{"v":0,"d":"0 MM"}},{"$f":"BD32","v":{"v":0,"d":"0 MM"}},{"v":0,"d":"0 MM"},{"v":0,"d":"0 MM"},{"v":0,"d":"0 MM"},{"v":0,"d":"0 MM"},{"v":0,"d":"0 MM"},{"v":0,"d":"0 MM"},{"v":0,"d":"0 MM"},{"v":0,"d":"0 MM"},{"v":0,"d":"0 MM"},{"v":0,"d":"0 MM"},{"v":0,"d":"0 MM"},{"v":0,"d":"0 MM"},{"v":0,"d":"0 MM"},null,{"$f":"IF(C14>0,BC25+$AA$14*BC25/100,\"\")","v":""},{"$f":"IF(D14>0,BD25+$AA$14*BD25/100,\"\")","v":""},"","","","","","","","","","","","",""]
{"$rows_empty":40}
[{"$nulls":56},"Stone/Brick Chips (CFT)",{"$f":"#REF!","v":{"$error":"#REF!"}}]
[{"$nulls":56},"Brick Nos",{"$f":"#REF!","v":{"$error":"#REF!"}}]
[{"$nulls":59},{"$f":"#REF!","v":{"$error":"#REF!"}}]
[{"$nulls":56},"Stone/Brick Chips (CFT)",{"$f":"IF(#REF!>0,BF75+(BF75*#REF!)/100,\"\")","v":{"$error":"#REF!"}}]
[{"$nulls":56},"Brick Nos",{"$f":"IF(#REF!>0,BF76+(BF76*#REF!)/100,\"\")","v":{"$error":"#REF!"}}]
[]
[]
[{"$nulls":58},{"$f":"D25","v":{"v":0,"d":"0 MM"}},{"$f":"IF(D25>0,BC21,\"\")","v":""}]
[{"$nulls":58},{"$f":"D27","v":{"v":0,"d":"0 MM"}},{"$f":"IF(D27>0,BC22,\"\")","v":""}]
[{"$nulls":58},{"$f":"D30","v":{"v":0,"d":"0 MM"}},{"$f":"IF(D30>0,(BC23+BC24+BC25+#REF!),\"\")","v":""}]

{"sheet":" Short Circular Column","index":6,"n_rows":37,"n_cols":74,"rows_kept":37,"hidden":true,"merged":[[0,0,1,16],[2,0,3,16],[4,0,4,16],[5,0,6,16],[7,0,7,16],[11,0,12,16],[11,20,12,32],[13,0,13,1],[13,20,13,23],[13,24,13,25],[13,27,13,28],[13,29,13,30],[13,31,13,32],[14,0,14,1],[14,20,14,23],[14,24,14,25],[14,26,19,26],[14,27,14,28],[14,29,14,30],[14,31,14,32],[15,0,15,1],[15,20,15,23],[15,24,15,25],[15,27,15,28],[15,29,15,30],[15,31,15,32],[15,41,15,42],[16,0,16,1],[16,20,16,23],[16,24,16,25],[16,27,16,28],[16,29,16,30],[16,31,16,32],[16,41,16,42],[17,0,17,1],[17,20,17,23],[17,24,17,25],[17,27,17,28],[17,29,17,30],[17,31,17,32],[17,41,17,42],[18,20,18,23],[18,24,18,25],[18,27,18,28],[18,29,18,30],[18,31,18,32],[18,41,18,42],[19,3,20,6],[19,20,19,23],[19,24,19,25],[19,27,19,28],[19,29,19,30],[19,31,19,32],[19,41,19,42],[20,29,20,30],[20,31,20,32],[20,41,20,42],[21,41,21,42],[22,41,22,42],[23,0,23,2],[23,24,23,28],[23,41,23,42],[24,0,25,0],[24,1,24,2],[24,26,24,27],[24,41,24,42],[25,1,25,2],[25,26,25,27],[25,41,25,42],[26,0,27,0],[26,1,26,2],[26,26,26,27],[26,41,26,42],[27,1,27,2],[27,26,27,27],[27,41,27,42],[28,0,28,2],[28,26,28,27],[28,41,28,42],[29,0,31,0],[29,1,29,2],[29,26,29,27],[30,1,30,2],[30,26,30,27],[31,1,31,2],[31,26,31,27],[32,1,32,2],[32,26,32,27],[32,41,32,42],[33,1,33,2],[33,26,33,27],[33,41,33,42],[34,41,34,42],[35,41,35,42],[36,41,36,42],[72,17,72,18],[73,17,73,18],[74,17,74,18],[75,17,75,18],[76,17,76,18],[77,17,77,18],[78,17,78,18],[79,17,79,18],[80,17,80,18]]}
["This is The Property of NOR DESIGN SOLUTION"]
[]
[]
[{"$nulls":49},{"$f":"SUM(#REF!)","v":{"$error":"#REF!"}}]
["এক্সেল শীট বিষয়ক কিছু জানার থাকলে বা আপডেট নিয়ে কোন পরামর্শ থাকলে আমাদের সাথে যোগাযোগ করুন অথবা ওয়েবসাইটে কমেন্ট করুন"]
["এক্সেল শীট সম্পর্কে যাবতীয় তথ্য বিস্তারিত জানতে ভিজিট করুন আমাদের ইউটিউব চ্যানেলে"]
[]
["Click Here To Watch The Short Circular Column Estimate video"]
[]
[]
[]
[" Short Circular Column ",{"$nulls":19}," Short Circular Column Estimated And Price"]
[{"$nulls":45},"Cement","Sand","Stone","Rod","Casting","Excavation","Sand Filling ","Formwork","Brick Nos","Bricl Flat Soling ","C.c"]
["Description",null,"Type-1","Type-2","Type-3","Type-4","Type-5","Type-6","Type-7","Type-8","Type-9","Type-10","Type-11","Type-12","Type-13","Type-14","Type-15",{"$nulls":3},"DESCRIPTION",{"$nulls":3},"Quantity",null,"Wastage Add","Quantity (Wastage Add)",null,"Rate",null,"Amount TK",{"$nulls":13},{"$f":"AB15","v":{"v":0,"d":"0 Bag"}},{"$f":"AB16","v":{"v":0,"d":"0 CFT"}},{"$f":"BG18+AA15*BG18/100","v":0},{"$f":"AB18","v":{"v":0,"d":"0.000 Ton"}},{"$f":"AB20","v":{"v":0,"d":"0 CFT"}},null,null,{"$f":"AB19","v":{"v":0,"d":"0 SFT"}},{"$f":"BG19+AA15*BG19/100","v":0}]
["Column Nos",{"$nulls":19},"Cement",{"$nulls":3},{"$f":"BG16","v":{"v":0,"d":"0 Bag"}},null,{"v":0,"d":"0 % ADD"},{"$f":"Y15+$AA$15*Y15/100","v":{"v":0,"d":"0 Bag"}},null,{"v":550,"d":"550.00 TK"},null,{"$f":"AB15*AD15","v":{"v":0,"d":"0 TK"}},{"$nulls":26},"sum"]
["Column Dia (inh)",{"$nulls":19},"Sand ",{"$nulls":3},{"$f":"BG17","v":{"v":0,"d":"0 CFT"}},null,null,{"v":0,"d":"0 CFT"},null,{"v":5,"d":"5.00 TK"},null,{"v":0,"d":"0 TK"},{"$nulls":9},"cement",null,{"$f":"IF(C15>0,(AR20*$D$22*1.54)/($G$22*1.25),\"\")","v":""},{"$f":"IF(D15>0,(AS20*$D$22*1.54)/($G$22*1.25),\"\")","v":""},{"$f":"IF(E15>0,(AT20*$D$22*1.54)/($G$22*1.25),\"\")","v":""},{"$f":"IF(F15>0,(AU20*$D$22*1.54)/($G$22*1.25),\"\")","v":""},{"$f":"IF(G15>0,(AV20*$D$22*1.54)/($G$22*1.25),\"\")","v":""},{"$f":"IF(H15>0,(AW20*$D$22*1.54)/($G$22*1.25),\"\")","v":""},{"$f":"IF(I15>0,(AX20*$D$22*1.54)/($G$22*1.25),\"\")","v":""},{"$f":"IF(J15>0,(AY20*$D$22*1.54)/($G$22*1.25),\"\")","v":""},{"$f":"IF(K15>0,(AZ20*$D$22*1.54)/($G$22*1.25),\"\")","v":""},{"$f":"IF(L15>0,(BA20*$D$22*1.54)/($G$22*1.25),\"\")","v":""},{"$f":"IF(M15>0,(BB20*$D$22*1.54)/($G$22*1.25),\"\")","v":""},{"$f":"IF(N15>0,(BC20*$D$22*1.54)/($G$22*1.25),\"\")","v":""},{"$f":"IF(O15>0,(BD20*$D$22*1.54)/($G$22*1.25),\"\")","v":""},{"$f":"IF(P15>0,(BE20*$D$22*1.54)/($G$22*1.25),\"\")","v":""},{"$f":"IF(Q15>0,(BF20*$D$22*1.54)/($G$22*1.25),\"\")","v":""},{"$f":"SUM(AR16:BF16)","v":{"v":0,"d":"0 Bag"}}]
["Clear Cover (inh)",{"$nulls":19},"Stone/Brik Chips (CFT)",{"$nulls":3},{"$f":"VLOOKUP(U17,BI22:BJ23,2,0)","v":0},null,null,0,null,{"v":140,"d":"140.00 TK"},null,{"v":0,"d":"0 TK"},{"$nulls":9},"sand",null,{"$f":"IF(C15>0,(AR20*1.54*$E$22)/$G$22,\"\")","v":""},{"$f":"IF(D15>0,(AS20*1.54*$E$22)/$G$22,\"\")","v":""},{"$f":"IF(E15>0,(AT20*1.54*$E$22)/$G$22,\"\")","v":""},{"$f":"IF(F15>0,(AU20*1.54*$E$22)/$G$22,\"\")","v":""},{"$f":"IF(G15>0,(AV20*1.54*$E$22)/$G$22,\"\")","v":""},{"$f":"IF(H15>0,(AW20*1.54*$E$22)/$G$22,\"\")","v":""},{"$f":"IF(I15>0,(AX20*1.54*$E$22)/$G$22,\"\")","v":""},{"$f":"IF(J15>0,(AY20*1.54*$E$22)/$G$22,\"\")","v":""},{"$f":"IF(K15>0,(AZ20*1.54*$E$22)/$G$22,\"\")","v":""},{"$f":"IF(L15>0,(BA20*1.54*$E$22)/$G$22,\"\")","v":""},{"$f":"IF(M15>0,(BB20*1.54*$E$22)/$G$22,\"\")","v":""},{"$f":"IF(N15>0,(BC20*1.54*$E$22)/$G$22,\"\")","v":""},{"$f":"IF(O15>0,(BD20*1.54*$E$22)/$G$22,\"\")","v":""},{"$f":"IF(P15>0,(BE20*1.54*$E$22)/$G$22,\"\")","v":""},{"$f":"IF(Q15>0,(BF20*1.54*$E$22)/$G$22,\"\")","v":""},{"$f":"SUM(AR17:BF17)","v":0}]
["Short Column Height H (ft)",{"$nulls":19},"Rod/Reber",{"$nulls":3},{"$f":"SUM(BG23:BG27)/1000","v":{"v":0,"d":"0.000 Ton"}},null,null,{"v":0,"d":"0.000 Ton"},null,{"v":780000,"d":"780000.00 TK"},null,{"v":0,"d":"0 TK"},{"$nulls":9},"Stone/Brik Chips",null,{"$f":"IF(C15>0,(AR20*1.54*$F$22)/$G$22,\"\")","v":""},{"$f":"IF(D15>0,(AS20*1.54*$F$22)/$G$22,\"\")","v":""},{"$f":"IF(E15>0,(AT20*1.54*$F$22)/$G$22,\"\")","v":""},{"$f":"IF(F15>0,(AU20*1.54*$F$22)/$G$22,\"\")","v":""},{"$f":"IF(G15>0,(AV20*1.54*$F$22)/$G$22,\"\")","v":""},{"$f":"IF(H15>0,(AW20*1.54*$F$22)/$G$22,\"\")","v":""},{"$f":"IF(I15>0,(AX20*1.54*$F$22)/$G$22,\"\")","v":""},{"$f":"IF(J15>0,(AY20*1.54*$F$22)/$G$22,\"\")","v":""},{"$f":"IF(K15>0,(AZ20*1.54*$F$22)/$G$22,\"\")","v":""},{"$f":"IF(L15>0,(BA20*1.54*$F$22)/$G$22,\"\")","v":""},{"$f":"IF(M15>0,(BB20*1.54*$F$22)/$G$22,\"\")","v":""},{"$f":"IF(N15>0,(BC20*1.54*$F$22)/$G$22,\"\")","v":""},{"$f":"IF(O15>0,(BD20*1.54*$F$22)/$G$22,\"\")","v":""},{"$f":"IF(P15>0,(BE20*1.54*$F$22)/$G$22,\"\")","v":""},{"$f":"IF(Q15>0,(BF20*1.54*$F$22)/$G$22,\"\")","v":""},0]
[{"$nulls":20},"Formwork ",{"$nulls":3},{"$f":"BG21","v":{"v":0,"d":"0 SFT"}},null,null,{"v":0,"d":"0 SFT"},null,{"v":15,"d":"15.00 TK"},null,{"v":0,"d":"0 TK"},{"$nulls":9},"Brick Nos",null,{"$f":"IF(C15>0,AR18*9.5,\"\")","v":""},{"$f":"IF(D15>0,AS18*9.5,\"\")","v":""},{"$f":"IF(E15>0,AT18*9.5,\"\")","v":""},{"$f":"IF(F15>0,AU18*9.5,\"\")","v":""},{"$f":"IF(G15>0,AV18*9.5,\"\")","v":""},{"$f":"IF(H15>0,AW18*9.5,\"\")","v":""},{"$f":"IF(I15>0,AX18*9.5,\"\")","v":""},{"$f":"IF(J15>0,AY18*9.5,\"\")","v":""},{"$f":"IF(K15>0,AZ18*9.5,\"\")","v":""},{"$f":"IF(L15>0,BA18*9.5,\"\")","v":""},{"$f":"IF(M15>0,BB18*9.5,\"\")","v":""},{"$f":"IF(N15>0,BC18*9.5,\"\")","v":""},{"$f":"IF(O15>0,BD18*9.5,\"\")","v":""},{"$f":"IF(P15>0,BE18*9.5,\"\")","v":""},{"$f":"IF(Q15>0,BF18*9.5,\"\")","v":""},0]
[{"$nulls":3},"Rcc casting Ratio",{"$nulls":16},"Casting ",{"$nulls":3},{"$f":"BG20","v":{"v":0,"d":"0 CFT"}},null,null,{"v":0,"d":"0 CFT"},null,{"v":16,"d":"16.00 TK"},null,{"v":0,"d":"0 TK"},{"$nulls":9},"Casting ",null,{"$f":"IF(C15>0,C18*(3.1416*((C16/12)^2)/4)*C15,\"\")","v":""},{"$f":"IF(D15>0,D18*(3.1416*((D16/12)^2)/4)*D15,\"\")","v":""},{"$f":"IF(E15>0,E18*(3.1416*((E16/12)^2)/4)*E15,\"\")","v":""},{"$f":"IF(F15>0,F18*(3.1416*((F16/12)^2)/4)*F15,\"\")","v":""},{"$f":"IF(G15>0,G18*(3.1416*((G16/12)^2)/4)*G15,\"\")","v":""},{"$f":"IF(H15>0,H18*(3.1416*((H16/12)^2)/4)*H15,\"\")","v":""},{"$f":"IF(I15>0,I18*(3.1416*((I16/12)^2)/4)*I15,\"\")","v":""},{"$f":"IF(J15>0,J18*(3.1416*((J16/12)^2)/4)*J15,\"\")","v":""},{"$f":"IF(K15>0,K18*(3.1416*((K16/12)^2)/4)*K15,\"\")","v":""},{"$f":"IF(L15>0,L18*(3.1416*((L16/12)^2)/4)*L15,\"\")","v":""},{"$f":"IF(M15>0,M18*(3.1416*((M16/12)^2)/4)*M15,\"\")","v":""},{"$f":"IF(N15>0,N18*(3.1416*((N16/12)^2)/4)*N15,\"\")","v":""},{"$f":"IF(O15>0,O18*(3.1416*((O16/12)^2)/4)*O15,\"\")","v":""},{"$f":"IF(P15>0,P18*(3.1416*((P16/12)^2)/4)*P15,\"\")","v":""},{"$f":"IF(Q15>0,Q18*(3.1416*((Q16/12)^2)/4)*Q15,\"\")","v":""},0]
[{"$nulls":29},"Total Cost=",null,{"$f":"SUM(AF15:AG20)","v":{"v":0,"d":"0 TK"}},{"$nulls":9},"Framwork",null,{"$f":"IF(C15>0,C18*3.1416*(C16/12),\"\")","v":""},{"$f":"IF(D15>0,D18*3.1416*(D16/12),\"\")","v":""},{"$f":"IF(E15>0,E18*3.1416*(E16/12),\"\")","v":""},{"$f":"IF(F15>0,F18*3.1416*(F16/12),\"\")","v":""},{"$f":"IF(G15>0,G18*3.1416*(G16/12),\"\")","v":""},{"$f":"IF(H15>0,H18*3.1416*(H16/12),\"\")","v":""},{"$f":"IF(I15>0,I18*3.1416*(I16/12),\"\")","v":""},{"$f":"IF(J15>0,J18*3.1416*(J16/12),\"\")","v":""},{"$f":"IF(K15>0,K18*3.1416*(K16/12),\"\")","v":""},{"$f":"IF(L15>0,L18*3.1416*(L16/12),\"\")","v":""},{"$f":"IF(M15>0,M18*3.1416*(M16/12),\"\")","v":""},{"$f":"IF(N15>0,N18*3.1416*(N16/12),\"\")","v":""},{"$f":"IF(O15>0,O18*3.1416*(O16/12),\"\")","v":""},{"$f":"IF(P15>0,P18*3.1416*(P16/12),\"\")","v":""},{"$f":"IF(Q15>0,Q18*3.1416*(Q16/12),\"\")","v":""},0]
[{"$nulls":3},1,1.5,3,{"$f":"SUM(D22:F22)","v":5.5},{"$nulls":34},"Large small (L)",null,{"$f":"IF(C15>0,(C18+D29),\"\")","v":""},{"$f":"IF(D15>0,(D18+E29),\"\")","v":""},{"$f":"IF(E15>0,(E18+F29),\"\")","v":""},{"$f":"IF(F15>0,(F18+G29),\"\")","v":""},{"$f":"IF(G15>0,(G18+H29),\"\")","v":""},{"$f":"IF(H15>0,(H18+I29),\"\")","v":""},{"$f":"IF(I15>0,(I18+J29),\"\")","v":""},{"$f":"IF(J15>0,(J18+K29),\"\")","v":""},{"$f":"IF(K15>0,(K18+L29),\"\")","v":""},{"$f":"IF(L15>0,(L18+M29),\"\")","v":""},{"$f":"IF(M15>0,(M18+N29),\"\")","v":""},{"$f":"IF(N15>0,(N18+O29),\"\")","v":""},{"$f":"IF(O15>0,(O18+P29),\"\")","v":""},{"$f":"IF(P15>0,(P18+Q29),\"\")","v":""},{"$f":"IF(Q15>0,(Q18+R29),\"\")","v":""},0,null,"Stone/Brik Chips (CFT)",{"$f":"BG18","v":0}]
[{"$nulls":41},"Large dia",null,{"$f":"IF(AND(C15>0,D25>0),(D25^2/532)*D26*AR22*C15,\"0\")","v":"0"},{"$f":"IF(AND(D15>0,E25>0),(E25^2/532)*E26*AS22*D15,\"0\")","v":"0"},"0","0","0","0","0","0","0","0","0","0","0","0","0",0,null,"Brick Nos For Brik Chips",{"$f":"BG19","v":0}]
["Short Column Rebar Calculation",null,null,"Type-1","Type-2","Type-3","Type-4","Type-5","Type-6","Type-7","Type-8","Type-9","Type-10","Type-11","Type-12","Type-13","Type-14","Type-15",{"$nulls":6}," Reinforcement ",{"$nulls":16},"Small Dia",null,{"$f":"IF(AND(C15>0,D27>0),(D27^2/532)*D28*AR22*C15,\"0\")","v":"0"},{"$f":"IF(AND(D15>0,E27>0),(E27^2/532)*E28*AS22*D15,\"0\")","v":"0"},"0","0","0","0","0","0","0","0","0","0","0","0","0",0]
["Large Dia ","Rebar Size (mm)",{"$nulls":23},{"v":8,"d":"8 MM"},{"$f":"IF(Z25>0,SUMIF($AR$33:$BF$37,Z25,$BH$33:$BV$37)+$AA$15*SUMIF($AR$33:$BF$37,Z25,$BH$33:$BV$37)/100,\"\")","v":{"v":0,"d":"0 KG"}},{"$nulls":14},"Tie Rod-1",null,{"$f":"IF(AND(C15>0,D30>0),(D30^2/532)*AR28*AR29*C15,\"0\")","v":"0"},{"$f":"IF(AND(D15>0,E30>0),(E30^2/532)*AS28*AS29*D15,\"0\")","v":"0"},"0","0","0","0","0","0","0","0","0","0","0","0","0",0]
[null,"Rebar Nos",{"$nulls":23},{"v":10,"d":"10 MM"},{"$f":"IF(Z26>0,SUMIF($AR$33:$BF$37,Z26,$BH$33:$BV$37)+$AA$15*SUMIF($AR$33:$BF$37,Z26,$BH$33:$BV$37)/100,\"\")","v":{"v":0,"d":"0 KG"}},{"$nulls":14},"Tie Rod-2",null,{"$f":"IF(AND(C15>0,D33>0),(D30^2/532)*AR28*D33*C15,\"0\")","v":"0"},{"$f":"IF(AND(D15>0,E33>0),(E30^2/532)*AS28*E33*D15,\"0\")","v":"0"},"0","0","0","0","0","0","0","0","0","0","0","0","0",0]
["Small Dia","Rebar Size (mm)",{"$nulls":23},{"v":12,"d":"12 MM"},{"v":0,"d":"0 KG"},{"$nulls":14},"Tie Rod-3",null,{"$f":"IF(AND(C15>0,D34>0),(D30^2/532)*AR28*D34*C15,\"0\")","v":"0"},{"$f":"IF(AND(D15>0,E34>0),(E30^2/532)*AS28*E34*D15,\"0\")","v":"0"},"0","0","0","0","0","0","0","0","0","0","0","0","0",0]
[null,"Rebar Nos",{"$nulls":23},{"v":16,"d":"16 MM"},{"v":0,"d":"0 KG"},{"$nulls":14},"Tie Rod nos",null,{"$f":"IF(AND(C15>0,D31>0),(C18/(D31/12))+1,\"0\")","v":"0"},{"$f":"IF(AND(D15>0,E31>0),(D18/(E31/12))+1,\"0\")","v":"0"},"0","0","0","0","0","0","0","0","0","0","0","0","0",0]
["Development length (inh)",{"$nulls":24},{"v":20,"d":"20 MM"},{"v":0,"d":"0 KG"},{"$nulls":14},"Tie Length",null,{"$f":"IF(C15>0,(3.1416*C16-C17-C17+D32+D32)/12,\"\")","v":""},{"$f":"IF(D15>0,(3.1416*D16-D17-D17+E32+E32)/12,\"\")","v":""},{"$f":"IF(E15>0,(3.1416*E16-E17-E17+F32+F32)/12,\"\")","v":""},{"$f":"IF(F15>0,(3.1416*F16-F17-F17+G32+G32)/12,\"\")","v":""},{"$f":"IF(G15>0,(3.1416*G16-G17-G17+H32+H32)/12,\"\")","v":""},{"$f":"IF(H15>0,(3.1416*H16-H17-H17+I32+I32)/12,\"\")","v":""},{"$f":"IF(I15>0,(3.1416*I16-I17-I17+J32+J32)/12,\"\")","v":""},{"$f":"IF(J15>0,(3.1416*J16-J17-J17+K32+K32)/12,\"\")","v":""},{"$f":"IF(K15>0,(3.1416*K16-K17-K17+L32+L32)/12,\"\")","v":""},{"$f":"IF(L15>0,(3.1416*L16-L17-L17+M32+M32)/12,\"\")","v":""},{"$f":"IF(M15>0,(3.1416*M16-M17-M17+N32+N32)/12,\"\")","v":""},{"$f":"IF(N15>0,(3.1416*N16-N17-N17+O32+O32)/12,\"\")","v":""},{"$f":"IF(O15>0,(3.1416*O16-O17-O17+P32+P32)/12,\"\")","v":""},{"$f":"IF(P15>0,(3.1416*P16-P17-P17+Q32+Q32)/12,\"\")","v":""},{"$f":"IF(Q15>0,(3.1416*Q16-Q17-Q17+R32+R32)/12,\"\")","v":""},0]
["Spiral Ring","Rebar Dia (mm)",{"$nulls":23},{"v":22,"d":"22 MM"},{"v":0,"d":"0 KG"}]
[null,"Specing (inch)",{"$nulls":23},{"v":25,"d":"25 MM"},{"v":0,"d":"0 KG"}]
[null,"Houck lenght (inch)",{"$nulls":23},{"v":28,"d":"28 MM"},{"v":0,"d":"0 KG"}]
["Extra Ring-1"," lenght (ft)",{"$nulls":23},{"v":32,"d":"32 MM"},{"v":0,"d":"0 KG"},{"$nulls":14},"Large dia",null,{"$f":"D25","v":{"v":0,"d":"0 MM"}},{"v":0,"d":"0 MM"},{"v":0,"d":"0 MM"},{"v":0,"d":"0 MM"},{"v":0,"d":"0 MM"},{"v":0,"d":"0 MM"},{"v":0,"d":"0 MM"},{"v":0,"d":"0 MM"},{"v":0,"d":"0 MM"},{"v":0,"d":"0 MM"},{"v":0,"d":"0 MM"},{"v":0,"d":"0 MM"},{"v":0,"d":"0 MM"},{"v":0,"d":"0 MM"},{"v":0,"d":"0 MM"},null,{"$f":"IF(C15>0,AR23+$AA$15*AR23/100,\"\")","v":""},{"$f":"IF(D15>0,AS23+$AA$15*AS23/100,\"\")","v":""},"","","","","","","","","","","","",""]
["Extra Ring-2"," lenght (ft)",{"$nulls":39},"Small Dia",null,{"$f":"D27","v":{"v":0,"d":"0 MM"}},{"v":0,"d":"0 MM"},{"v":0,"d":"0 MM"},{"v":0,"d":"0 MM"},{"v":0,"d":"0 MM"},{"v":0,"d":"0 MM"},{"v":0,"d":"0 MM"},{"v":0,"d":"0 MM"},{"v":0,"d":"0 MM"},{"v":0,"d":"0 MM"},{"v":0,"d":"0 MM"},{"v":0,"d":"0 MM"},{"v":0,"d":"0 MM"},{"v":0,"d":"0 MM"},{"v":0,"d":"0 MM"},null,{"$f":"IF(C15>0,AR24+$AA$15*AR24/100,\"\")","v":""},{"$f":"IF(D15>0,AS24+$AA$15*AS24/100,\"\")","v":""},"","","","","","","","","","","","",""]
[{"$nulls":41},"Tie Rod-1",null,{"$f":"D30","v":{"v":0,"d":"0 MM"}},{"v":0,"d":"0 MM"},{"v":0,"d":"0 MM"},{"v":0,"d":"0 MM"},{"v":0,"d":"0 MM"},{"v":0,"d":"0 MM"},{"v":0,"d":"0 MM"},{"v":0,"d":"0 MM"},{"v":0,"d":"0 MM"},{"v":0,"d":"0 MM"},{"v":0,"d":"0 MM"},{"v":0,"d":"0 MM"},{"v":0,"d":"0 MM"},{"v":0,"d":"0 MM"},{"v":0,"d":"0 MM"},null,{"$f":"IF(C15>0,AR25+$AA$15*AR25/100,\"\")","v":""},{"$f":"IF(D15>0,AS25+$AA$15*AS25/100,\"\")","v":""},"","","","","","","","","","","","",""]
[{"$nulls":41},"Tie Rod-2",null,{"$f":"AR35","v":{"v":0,"d":"0 MM"}},{"$f":"AS35","v":{"v":0,"d":"0 MM"}},{"v":0,"d":"0 MM"},{"v":0,"d":"0 MM"},{"v":0,"d":"0 MM"},{"v":0,"d":"0 MM"},{"v":0,"d":"0 MM"},{"v":0,"d":"0 MM"},{"v":0,"d":"0 MM"},{"v":0,"d":"0 MM"},{"$f":"BB35","v":{"v":0,"d":"0 MM"}},{"v":0,"d":"0 MM"},{"v":0,"d":"0 MM"},{"v":0,"d":"0 MM"},{"v":0,"d":"0 MM"},null,{"$f":"IF(C15>0,AR26+$AA$15*AR26/100,\"\")","v":""},{"$f":"IF(D15>0,AS26+$AA$15*AS26/100,\"\")","v":""},"","","","","","","","","","","","",""]
[{"$nulls":41},"Tie Rod-3",null,{"$f":"AR35","v":{"v":0,"d":"0 MM"}},{"$f":"AS35","v":{"v":0,"d":"0 MM"}},{"v":0,"d":"0 MM"},{"v":0,"d":"0 MM"},{"v":0,"d":"0 MM"},{"v":0,"d":"0 MM"},{"v":0,"d":"0 MM"},{"v":0,"d":"0 MM"},{"v":0,"d":"0 MM"},{"v":0,"d":"0 MM"},{"$f":"BB35","v":{"v":0,"d":"0 MM"}},{"v":0,"d":"0 MM"},{"v":0,"d":"0 MM"},{"v":0,"d":"0 MM"},{"v":0,"d":"0 MM"},null,{"$f":"IF(C15>0,AR27+$AA$15*AR27/100,\"\")","v":""},{"$f":"IF(D15>0,AS27+$AA$15*AS27/100,\"\")","v":""},"","","","","","","","","","","","",""]

{"sheet":"Long Tied Column","index":7,"n_rows":38,"n_cols":78,"rows_kept":38,"hidden":true,"merged":[[0,0,2,16],[3,0,4,16],[5,0,5,16],[6,0,7,16],[8,0,8,16],[10,0,11,16],[10,21,11,33],[12,0,12,1],[12,21,12,24],[12,25,12,26],[12,28,12,29],[12,30,12,31],[12,32,12,33],[13,0,13,1],[13,21,13,24],[13,25,13,26],[13,27,18,27],[13,28,13,29],[13,30,13,31],[13,32,13,33],[14,0,14,1],[14,21,14,24],[14,25,14,26],[14,28,14,29],[14,30,14,31],[14,32,14,33],[15,0,15,1],[15,21,15,24],[15,25,15,26],[15,28,15,29],[15,30,15,31],[15,32,15,33],[15,45,15,46],[16,0,16,1],[16,21,16,24],[16,25,16,26],[16,28,16,29],[16,30,16,31],[16,32,16,33],[16,45,16,46],[17,0,17,1],[17,21,17,24],[17,25,17,26],[17,28,17,29],[17,30,17,31],[17,32,17,33],[17,45,17,46],[18,21,18,24],[18,25,18,26],[18,28,18,29],[18,30,18,31],[18,32,18,33],[18,45,18,46],[19,3,20,6],[19,30,19,31],[19,32,19,33],[19,45,19,46],[20,45,20,46],[21,45,21,46],[22,25,22,29],[22,45,22,46],[23,0,23,2],[23,27,23,28],[23,45,23,46],[24,0,26,0],[24,1,24,2],[24,27,24,28],[24,45,24,46],[25,1,25,2],[25,27,25,28],[25,45,25,46],[26,1,26,2],[26,27,26,28],[26,45,26,46],[27,0,29,0],[27,1,27,2],[27,27,27,28],[27,45,27,46],[28,1,28,2],[28,27,28,28],[28,45,28,46],[29,1,29,2],[29,27,29,28],[29,45,29,46],[30,0,33,0],[30,1,30,2],[30,27,30,28],[30,45,30,46],[31,1,31,2],[31,27,31,28],[32,1,32,2],[32,27,32,28],[33,1,33,2],[33,45,33,46],[34,0,35,0],[34,1,34,2],[34,45,34,46],[35,1,35,2],[35,45,35,46],[36,0,37,0],[36,1,36,2],[36,45,36,46],[37,1,37,2],[37,45,37,46],[44,70,44,71]]}
["This is The Property of NOR DESIGN SOLUTION"]
[]
[]
[]
[]
["এক্সেল শীট বিষয়ক কিছু জানার থাকলে বা আপডেট নিয়ে কোন পরামর্শ থাকলে আমাদের সাথে যোগাযোগ করুন অথবা ওয়েবসাইটে কমেন্ট করুন"]
["এক্সেল শীট সম্পর্কে যাবতীয় তথ্য বিস্তারিত জানতে ভিজিট করুন আমাদের ইউটিউব চ্যানেলে"]
[]
["Click Here To Watch The Long Tied Estimate video"]
[]
["Long Tied Column",{"$nulls":20},"Long Tied Column Estimated And Price"]
[{"$nulls":49},"Cement","Sand","Stone","Rod","Casting","Excavation","Sand Filling ","Formwork","Brick Nos","Bricl Flat Soling ","C.c"]
["Description",null,"Type-1","Type-2","Type-3","Type-4","Type-5","Type-6","Type-7","Type-8","Type-9","Type-10","Type-11","Type-12","Type-13","Type-14","Type-15",{"$nulls":4},"DESCRIPTION",{"$nulls":3},"Quantity",null,"Wastage Add","Quantity (Wastage Add)",null,"Rate",null,"Amount TK",{"$nulls":16},{"$f":"AC14","v":{"v":0,"d":"0 Bag"}},{"$f":"AC15","v":{"v":0,"d":"0 Bag"}},{"$f":"BK18+AB14*BK18/100","v":0},{"$f":"AC17","v":{"v":0,"d":"0.000 Ton"}},{"$f":"AC19","v":{"v":0,"d":"0 CFT"}},null,null,{"$f":"AC18","v":{"v":0,"d":"0 SFT"}},{"$f":"BK19+AB14*BK19/100","v":0}]
[" Column Nos",{"$nulls":20},"Cement",{"$nulls":3},{"$f":"BK16","v":{"v":0,"d":"0 Bag"}},null,{"v":0,"d":"0 % ADD"},{"$f":"Z14+$AB$14*Z14/100","v":{"v":0,"d":"0 Bag"}},null,{"v":550,"d":"550.0 TK"},null,{"$f":"AC14*AE14","v":{"v":0,"d":"0 TK"}}]
["Length,L (inh)",{"$nulls":20},"Sand ",{"$nulls":3},{"$f":"BK17","v":{"v":0,"d":"0 CFT"}},null,null,{"v":0,"d":"0 CFT"},null,{"v":45,"d":"45.0 TK"},null,{"v":0,"d":"0 TK"},{"$nulls":29},"Sum"]
["Breadth,B ((inh)",{"$nulls":20},"Stone/Brik Chips (CFT)",{"$nulls":3},{"$f":"VLOOKUP(V16,BN17:BO18,2,0)","v":0},null,null,0,null,{"v":15,"d":"15.0 TK"},null,{"v":0,"d":"0 TK"},{"$nulls":12},"cement",null,{"$f":"IF(C14>0,(AV20*$D$22*1.54)/($G$22*1.25),\"\")","v":""},{"$f":"IF(D14>0,(AW20*$D$22*1.54)/($G$22*1.25),\"\")","v":""},"","","","","","","","","","","","","",{"$f":"SUM(AV16:BJ16)","v":0}]
["Clear Cover (inh)",{"$nulls":20},"Rod/Reber",{"$nulls":3},{"$f":"SUM(BK22:BK26)/1000","v":{"v":0,"d":"0.000 Ton"}},null,null,{"v":0,"d":"0.000 Ton"},null,{"v":95000,"d":"95000.0 TK"},null,{"v":0,"d":"0 TK"},{"$nulls":12},"sand",null,{"$f":"IF(C14>0,(AV20*1.54*$E$22)/$G$22,\"\")","v":""},{"$f":"IF(D14>0,(AW20*1.54*$E$22)/$G$22,\"\")","v":""},"","","","","","","","","","","","","",{"$f":"SUM(AV17:BJ17)","v":0},null,null,"Stone/Brik Chips (CFT)",{"$f":"BK18","v":0}]
["Short Column Height, H (ft)",{"$nulls":20},"Formwork ",{"$nulls":3},{"$f":"BK21","v":{"v":0,"d":"0 SFT"}},null,null,{"v":0,"d":"0 SFT"},null,{"v":30,"d":"30.0 TK"},null,{"v":0,"d":"0 TK"},{"$nulls":12},"Stone/Brik Chips",null,{"$f":"IF(C14>0,(AV20*1.54*$F$22)/$G$22,\"\")","v":""},{"$f":"IF(D14>0,(AW20*1.54*$F$22)/$G$22,\"\")","v":""},"","","","","","","","","","","","","",0,null,null,"Brick Nos For Brik Chips",{"$f":"BK19","v":0}]
[{"$nulls":21},"Casting ",{"$nulls":3},{"$f":"BK20","v":{"v":0,"d":"0 CFT"}},null,null,{"v":0,"d":"0 CFT"},null,{"v":31,"d":"31.0 TK"},null,{"v":0,"d":"0 TK"},{"$nulls":12},"Brick Nos",null,{"$f":"IF(C14>0,AV18*9.5,\"\")","v":""},{"$f":"IF(D14>0,AW18*9.5,\"\")","v":""},"","","","","","","","","","","","","",0]
[{"$nulls":3},"Rcc casting Ratio",{"$nulls":26},"Total Cost=",null,{"$f":"SUM(AG14:AH19)","v":{"v":0,"d":"0 TK"}},{"$nulls":12},"Casting ",null,{"$f":"IF(C14>0,(C15/12)*(C16/12)*C18*C14,\"\")","v":""},{"$f":"IF(D14>0,(D15/12)*(D16/12)*D18*D14,\"\")","v":""},"","","","","","","","","","","","","",0]
[{"$nulls":45},"Framwork",null,{"$f":"IF(C14>0,(((C18*12/12)*(C15+C15)/12))*C14+(((C18*12/12)*(C16+C16)/12))*C14,\"\")","v":""},{"$f":"IF(D14>0,(((D18*12/12)*(D15+D15)/12))*D14+(((D18*12/12)*(D16+D16)/12))*D14,\"\")","v":""},"","","","","","","","","","","","","",0]
[{"$nulls":3},1,1.5,3,{"$f":"SUM(D22:F22)","v":5.5},{"$nulls":38},"Large dia",null,{"$f":"IF(AND(C14>0,D25>0),(D25^2/532)*D26*(C18+D27)*C14,\"0\")","v":"0"},{"$f":"IF(D14>0,(E25^2/532)*E26*(D18+E27)*D14,\"0\")","v":"0"},"0","0","0","0","0","0","0","0","0","0","0","0","0",0]
[{"$nulls":25}," Reinforcement ",{"$nulls":19},"Small Dia",null,{"$f":"IF(C14>0,IF(D28>0,(D28^2/532)*D29*(C18+D30)*C14,\"0\"),\"0\")","v":"0"},{"$f":"IF(D14>0,IF(E28>0,(E28^2/532)*E29*(D18+E30)*D14,\"0\"),\"\")","v":""},"","","","","","","","","","","","","",0]
["Long Column Rebar calculation",null,null,"Type-1","Type-2","Type-3","Type-4","Type-5","Type-6","Type-7","Type-8","Type-9","Type-10","Type-11","Type-12","Type-13","Type-14","Type-15",{"$nulls":8},{"v":10,"d":"10 MM"},{"$f":"IF(AA24>0,SUMIF($AV$34:$BJ$38,AA24,$BL$34:$BZ$38),\"\")","v":{"v":0,"d":"0 KG"}},{"$nulls":17},"Tie Rod-1",null,{"$f":"IF(AND(C14>0,D31>0),(D31^2/532)*AV27*AV30*C14,\"0\")","v":"0"},{"$f":"IF(D14>0,(E31^2/532)*AW27*AW30*D14,\"0\")","v":"0"},"0","0","0","0","0","0","0","0","0","0","0","0","0",0]
["Large Dia ","Rebar Size (mm)",{"$nulls":24},{"v":12,"d":"12 MM"},{"$f":"IF(AA25>0,SUMIF($AV$34:$BJ$38,AA25,$BL$34:$BZ$38),\"\")","v":{"v":0,"d":"0 KG"}},{"$nulls":17},"Tie Rod-2",null,{"$f":"IF(C14>0,IF(D35>0,(D31^2/532)*AV28*D35*C14,\"0\"),\"\")","v":""},{"$f":"IF(D14>0,IF(E35>0,(E31^2/532)*AW28*E35*D14,\"0\"),\"\")","v":""},"","","","","","","","","","","","","",0]
[null,"Rebar Nos",{"$nulls":24},{"v":16,"d":"16 MM"},{"v":0,"d":"0 KG"},{"$nulls":17},"Tie Rod-3",null,{"$f":"IF(C14>0,IF(D37>0,(D31^2/532)*AV29*D37*C14,\"0\"),\"\")","v":""},{"$f":"IF(D14>0,IF(E37>0,(E31^2/532)*AW29*E37*D14,\"0\"),\"\")","v":""},"","","","","","","","","","","","","",0]
[null,"Lapping (ft)",{"$nulls":24},{"v":20,"d":"20 MM"},{"v":0,"d":"0 KG"},{"$nulls":17},"Tie-1 Rod nos",null,{"$f":"IF(AND(AV31>0,C18>0),(C18/(AV31/12))+1,\"0\")","v":"0"},{"$f":"IF(D14>0,(D18/(AW31/12))+1,0)","v":{"v":0,"d":"0 Nos"}},{"v":0,"d":"0 Nos"},{"v":0,"d":"0 Nos"},{"v":0,"d":"0 Nos"},{"v":0,"d":"0 Nos"},{"v":0,"d":"0 Nos"},{"v":0,"d":"0 Nos"},{"v":0,"d":"0 Nos"},{"v":0,"d":"0 Nos"},{"v":0,"d":"0 Nos"},{"v":0,"d":"0 Nos"},{"v":0,"d":"0 Nos"},{"v":0,"d":"0 Nos"},{"v":0,"d":"0 Nos"},0]
["Small Dia","Rebar Size (mm)",{"$nulls":25},"",{"$nulls":17},"Tie-2 nos",null,{"$f":"IF(C14>0,IF(D36>0,(C18/(D36/12))+1,0),\"\")","v":""},{"$f":"IF(D14>0,(D18/(E36/12))+1,0)","v":{"v":0,"d":"0 Nos"}},{"v":0,"d":"0 Nos"},{"v":0,"d":"0 Nos"},{"v":0,"d":"0 Nos"},{"v":0,"d":"0 Nos"},{"v":0,"d":"0 Nos"},{"v":0,"d":"0 Nos"},{"v":0,"d":"0 Nos"},{"v":0,"d":"0 Nos"},{"v":0,"d":"0 Nos"},{"v":0,"d":"0 Nos"},{"v":0,"d":"0 Nos"},{"$f":"IF(P14>0,(P18/(Q36/12))+1,0)","v":{"v":0,"d":"0 Nos"}},{"$f":"IF(Q14>0,(Q18/(R36/12))+1,0)","v":{"v":0,"d":"0 Nos"}},0]
[null,"Rebar Nos",{"$nulls":25},"",{"$nulls":17},"Tie-3 nos",null,{"$f":"IF(C14>0,IF(D38>0,(C18/(D38/12))+1,0),\"\")","v":""},{"$f":"IF(D14>0,(D18/(E38/12))+1,0)","v":0},0,0,0,0,0,0,0,0,0,0,0,{"$f":"IF(P14>0,(P18/(Q38/12))+1,0)","v":0},{"$f":"IF(Q14>0,(Q18/(R38/12))+1,0)","v":0},0]
[null,"Lapping (ft)",{"$nulls":25},"",{"$nulls":17},"Tie Length",null,{"$f":"IF(C14>0,(((C15*2)-(C17*2))+((C16*2)-(C17*2))+(D34*2))/12,\"\")","v":""},{"$f":"IF(D14>0,(((D15*2)-(D17*2))+((D16*2)-(D17*2))+(E34*2))/12,\"\")","v":""},"","","","","","","","","","","",{"$f":"IF(P14>0,(((P15*2)-(P17*2))+((P16*2)-(P17*2))+(Q34*2))/12,\"\")","v":""},{"$f":"IF(Q14>0,(((Q15*2)-(Q17*2))+((Q16*2)-(Q17*2))+(R34*2))/12,\"\")","v":""},0]
["Tie Rod","Rebar Size (mm)",{"$nulls":25},"",{"$nulls":17},"Specing",null,{"$f":"IF(C14>0,(D32+D33)/2,\"\")","v":""},{"$f":"IF(D14>0,(E32+E33)/2,\"\")","v":""},"","","","","","","","","","","",{"$f":"IF(P14>0,(Q32+Q33)/2,\"\")","v":""},{"$f":"IF(Q14>0,(R32+R33)/2,\"\")","v":""},0]
[null,"Specing-1 (inch)",{"$nulls":25},""]
[null,"Specing-2 (inch)"]
[null,"Houck lenght (inch)",{"$nulls":43},"Large dia",null,{"$f":"D25","v":{"v":0,"d":"0 MM"}},{"v":0,"d":"0 MM"},{"v":0,"d":"0 MM"},{"v":0,"d":"0 MM"},{"v":0,"d":"0 MM"},{"v":0,"d":"0 MM"},{"v":0,"d":"0 MM"},{"v":0,"d":"0 MM"},{"v":0,"d":"0 MM"},{"v":0,"d":"0 MM"},{"$f":"N25","v":{"v":0,"d":"0 MM"}},{"v":0,"d":"0 MM"},{"v":0,"d":"0 MM"},{"$f":"Q25","v":{"v":0,"d":"0 MM"}},{"$f":"R25","v":{"v":0,"d":"0 MM"}},null,{"$f":"IF(C14>0,AV22+$AB$14*AV22/100,\"\")","v":""},{"$f":"IF(D14>0,AW22+$AB$14*AW22/100,\"\")","v":""},"","","","","","","","","","","","",""]
["Extra Tie -1"," lenght (ft)",{"$nulls":43},"Small Dia",null,{"$f":"D28","v":{"v":0,"d":"0 MM"}},{"v":0,"d":"0 MM"},{"v":0,"d":"0 MM"},{"v":0,"d":"0 MM"},{"v":0,"d":"0 MM"},{"v":0,"d":"0 MM"},{"v":0,"d":"0 MM"},{"v":0,"d":"0 MM"},{"v":0,"d":"0 MM"},{"v":0,"d":"0 MM"},{"$f":"N28","v":{"v":0,"d":"0 MM"}},{"v":0,"d":"0 MM"},{"v":0,"d":"0 MM"},{"$f":"Q28","v":{"v":0,"d":"0 MM"}},{"$f":"R28","v":{"v":0,"d":"0 MM"}},null,{"$f":"IF(C14>0,AV23+$AB$14*AV23/100,\"\")","v":""},{"$f":"IF(D14>0,AW23+$AB$14*AW23/100,\"\")","v":""},"","","","","","","","","","","","",""]
[null,"Specing (inch)",{"$nulls":43},"Tie Rod-1",null,{"$f":"D31","v":{"v":0,"d":"0 MM"}},{"v":0,"d":"0 MM"},{"v":0,"d":"0 MM"},{"v":0,"d":"0 MM"},{"v":0,"d":"0 MM"},{"v":0,"d":"0 MM"},{"v":0,"d":"0 MM"},{"v":0,"d":"0 MM"},{"v":0,"d":"0 MM"},{"v":0,"d":"0 MM"},{"$f":"N31","v":{"v":0,"d":"0 MM"}},{"v":0,"d":"0 MM"},{"v":0,"d":"0 MM"},{"$f":"Q31","v":{"v":0,"d":"0 MM"}},{"$f":"R31","v":{"v":0,"d":"0 MM"}},null,{"$f":"IF(C14>0,AV24+$AB$14*AV24/100,\"\")","v":""},{"$f":"IF(D14>0,AW24+$AB$14*AW24/100,\"\")","v":""},"","","","","","","","","","","","",""]
["Extra Tie -2"," lenght (ft)",{"$nulls":43},"Tie Rod-2",null,{"$f":"AV36","v":{"v":0,"d":"0 MM"}},{"$f":"AW36","v":{"v":0,"d":"0 MM"}},{"v":0,"d":"0 MM"},{"v":0,"d":"0 MM"},{"v":0,"d":"0 MM"},{"v":0,"d":"0 MM"},{"v":0,"d":"0 MM"},{"v":0,"d":"0 MM"},{"v":0,"d":"0 MM"},{"v":0,"d":"0 MM"},{"$f":"BF36","v":{"v":0,"d":"0 MM"}},{"v":0,"d":"0 MM"},{"v":0,"d":"0 MM"},{"v":0,"d":"0 MM"},{"v":0,"d":"0 MM"},null,{"$f":"IF(C14>0,AV25+$AB$14*AV25/100,\"\")","v":""},{"$f":"IF(D14>0,AW25+$AB$14*AW25/100,\"\")","v":""},"","","","","","","","","","","","",""]
[null,"Specing (inch)",{"$nulls":43},"Tie Rod-3",null,{"$f":"AV36","v":{"v":0,"d":"0 MM"}},{"$f":"AW36","v":{"v":0,"d":"0 MM"}},{"v":0,"d":"0 MM"},{"v":0,"d":"0 MM"},{"v":0,"d":"0 MM"},{"v":0,"d":"0 MM"},{"v":0,"d":"0 MM"},{"v":0,"d":"0 MM"},{"v":0,"d":"0 MM"},{"v":0,"d":"0 MM"},{"$f":"BF36","v":{"v":0,"d":"0 MM"}},{"v":0,"d":"0 MM"},{"v":0,"d":"0 MM"},{"v":0,"d":"0 MM"},{"v":0,"d":"0 MM"},null,{"$f":"IF(C14>0,AV26+$AB$14*AV26/100,\"\")","v":""},{"$f":"IF(D14>0,AW26+$AB$14*AW26/100,\"\")","v":""},"","","","","","","","","","","","",""]

{"sheet":"Long Circular Column","index":8,"n_rows":40,"n_cols":89,"rows_kept":40,"hidden":true,"merged":[[0,0,1,16],[2,0,3,16],[4,0,4,16],[5,0,6,16],[7,0,7,16],[10,0,11,16],[10,21,11,33],[12,0,12,1],[12,21,12,24],[12,25,12,26],[12,28,12,29],[12,30,12,31],[12,32,12,33],[13,0,13,1],[13,21,13,24],[13,25,13,26],[13,27,18,27],[13,28,13,29],[13,30,13,31],[13,32,13,33],[14,0,14,1],[14,21,14,24],[14,25,14,26],[14,28,14,29],[14,30,14,31],[14,32,14,33],[15,0,15,1],[15,21,15,24],[15,25,15,26],[15,28,15,29],[15,30,15,31],[15,32,15,33],[16,0,16,1],[16,21,16,24],[16,25,16,26],[16,28,16,29],[16,30,16,31],[16,32,16,33],[17,21,17,24],[17,25,17,26],[17,28,17,29],[17,30,17,31],[17,32,17,33],[17,56,17,57],[18,2,19,5],[18,21,18,24],[18,25,18,26],[18,28,18,29],[18,30,18,31],[18,32,18,33],[18,56,18,57],[19,30,19,31],[19,32,19,33],[19,56,19,57],[20,56,20,57],[21,56,21,57],[22,0,22,2],[22,25,22,29],[22,56,22,57],[23,0,25,0],[23,1,23,2],[23,27,23,28],[23,56,23,57],[24,1,24,2],[24,27,24,28],[24,56,24,57],[25,1,25,2],[25,27,25,28],[25,56,25,57],[26,0,28,0],[26,1,26,2],[26,27,26,28],[26,56,26,57],[27,1,27,2],[27,27,27,28],[27,56,27,57],[28,1,28,2],[28,27,28,28],[28,56,28,57],[29,0,32,0],[29,1,29,2],[29,27,29,28],[29,56,29,57],[30,1,30,2],[30,27,30,28],[30,56,30,57],[31,1,31,2],[31,27,31,28],[31,56,31,57],[32,1,32,2],[32,27,32,28],[32,56,32,57],[33,0,34,0],[33,1,33,2],[33,56,33,57],[34,1,34,2],[35,0,36,0],[35,1,35,2],[35,56,35,57],[36,1,36,2],[36,56,36,57],[37,56,37,57],[38,56,38,57],[39,56,39,57]]}
["This is The Property of NOR DESIGN SOLUTION"]
[]
[]
[]
["এক্সেল শীট বিষয়ক কিছু জানার থাকলে বা আপডেট নিয়ে কোন পরামর্শ থাকলে আমাদের সাথে যোগাযোগ করুন অথবা ওয়েবসাইটে কমেন্ট করুন"]
["এক্সেল শীট সম্পর্কে যাবতীয় তথ্য বিস্তারিত জানতে ভিজিট করুন আমাদের ইউটিউব চ্যানেলে"]
[]
["Click Here To Watch The Long Circular Column Estimate video"]
[]
[]
["Long Circular Column Estimate",{"$nulls":20},"Long Circular Column Estimate And Price"]
[{"$nulls":60},"Cement","Sand","Stone","Rod","Casting","Excavation","Sand Filling ","Formwork","Brick Nos","Bricl Flat Soling ","C.c"]
["Description",null,"Type-1","Type-2","Type-3","Type-4","Type-5","Type-6","Type-7","Type-8","Type-9","Type-10","Type-11","Type-12","Type-13","Type-14","Type-15",{"$nulls":4},"DESCRIPTION",{"$nulls":3},"Quantity",null,"Wastage Add","Quantity (Wastage Add)",null,"Rate",null,"Amount TK",{"$nulls":27},{"$f":"AC14","v":{"v":0,"d":"0 Bag"}},{"$f":"AC15","v":{"v":0,"d":"0 CFT"}},{"$f":"BV20+AB14*BV20/100","v":0},{"$f":"AC17","v":{"v":0,"d":"0.000 Ton"}},{"$f":"AC19","v":{"v":0,"d":"0 CFT"}},null,null,{"$f":"AC18","v":{"v":0,"d":"0 SFT"}},{"$f":"BV21+AB14*BV21/100","v":0}]
["Column Nos",{"$nulls":20},"Cement",{"$nulls":3},{"$f":"BV18","v":{"v":0,"d":"0 Bag"}},null,{"v":0,"d":"0 % ADD"},{"$f":"Z14+$AB$14*Z14/100","v":{"v":0,"d":"0 Bag"}},null,{"v":900,"d":"900.00 TK"},null,{"$f":"AC14*AE14","v":{"v":0,"d":"0 TK"}}]
["Column Dia (inh)",{"$nulls":20},"Sand ",{"$nulls":3},{"$f":"BV19","v":{"v":0,"d":"0 CFT"}},null,null,{"v":0,"d":"0 CFT"},null,{"v":37,"d":"37.00 TK"},null,{"$f":"AC15*AE15","v":{"v":0,"d":"0 TK"}}]
["Clear Cover (inh)",{"$nulls":20},"Brick Nos",{"$nulls":3},{"$f":"VLOOKUP(V16,BX20:BY21,2,0)","v":0},null,null,0,null,{"v":140,"d":"140.00 TK"},null,{"v":0,"d":"0 TK"}]
["Short Column Height, H (ft)",{"$nulls":20},"Rod/Reber",{"$nulls":3},{"$f":"SUM(BV25:BV29)/1000","v":{"v":0,"d":"0.000 Ton"}},null,null,{"v":0,"d":"0.000 Ton"},null,{"v":780000,"d":"780000.00 TK"},null,{"v":0,"d":"0 TK"},{"$nulls":40},"Sum"]
[{"$nulls":21},"Formwork ",{"$nulls":3},{"$f":"BV23","v":{"v":0,"d":"0 SFT"}},null,null,{"v":0,"d":"0 SFT"},null,{"v":15,"d":"15.00 TK"},null,{"v":0,"d":"0 TK"},{"$nulls":23},"cement",null,{"$f":"IF(C14>0,(BG22*$C$21*1.54)/($F$21*1.25),\"\")","v":""},"","","","","","","","","","","","","","",{"$f":"SUM(BG18:BU18)","v":{"v":0,"d":"0 Bag"}}]
[null,null,"Rcc casting Ratio",{"$nulls":18},"Casting ",{"$nulls":3},{"$f":"BV22","v":{"v":0,"d":"0 CFT"}},null,null,{"v":0,"d":"0 CFT"},null,{"v":16,"d":"16.00 TK"},null,{"$f":"AC19*AE19","v":{"v":0,"d":"0 TK"}},{"$nulls":23},"sand",null,{"$f":"IF(C14>0,(BG22*1.54*$D$21)/$F$21,\"\")","v":""},"","","","","","","","","","","","","","",{"$f":"SUM(BG19:BU19)","v":0}]
[{"$nulls":30},"Total Cost=",null,{"$f":"SUM(AG14:AH19)","v":{"v":0,"d":"0 TK"}},{"$nulls":23},"Stone/Brik Chips",null,{"$f":"IF(C14>0,(BG22*1.54*$E$21)/$F$21,\"\")","v":""},"","","","","","","","","","","","","","",0,null,"Stone/Brik Chips",{"$f":"BV20","v":0}]
[null,null,1,1.5,3,{"$f":"SUM(C21:E21)","v":5.5},{"$nulls":50},"Brick Nos",null,{"$f":"IF(C14>0,BG20*9.5,\"\")","v":""},"","","","","","","","","","","","","","",0,null,"Brick Nos",{"$f":"BV21","v":0}]
[{"$nulls":56},"Casting ",null,{"$f":"IF(C14>0,C17*(3.1416*((C15/12)^2)/4)*C14,\"\")","v":""},"","","","","","","","","","","","","","",0]
["Column Rebar calculation",null,null,"Type-1","Type-2","Type-3","Type-4","Type-5","Type-6","Type-7","Type-8","Type-9","Type-10","Type-11","Type-12","Type-13","Type-14","Type-15",{"$nulls":7}," Reinforcement ",{"$nulls":30},"Framwork",null,{"$f":"IF(C14>0,(C17*(3.1416*(C15/12))*C14),\"\")","v":""},"","","","","","","","","","","","","","",0]
["Large Dia ","Rebar Size (mm)",{"$nulls":24},{"v":8,"d":"8 MM"},{"$f":"IF(AA24>0,SUMIF($BG$36:$BU$40,AA24,$BW$36:$CK$40)+$AB$14*SUMIF($BG$36:$BU$40,AA24,$BW$36:$CK$40)/100,\"\")","v":{"v":0,"d":"0 KG"}},{"$nulls":28},"Large and small dia (L)",null,{"$f":"IF(C14>0,(C17+D26),\"\")","v":""},"","","","","","","","","","","","","","",0]
[null,"Rebar Nos",{"$nulls":24},{"v":10,"d":"10 MM"},{"$f":"IF(AA25>0,SUMIF($BG$36:$BU$40,AA25,$BW$36:$CK$40)+$AB$14*SUMIF($BG$36:$BU$40,AA25,$BW$36:$CK$40)/100,\"\")","v":{"v":0,"d":"0 KG"}},{"$nulls":28},"Large dia",null,{"$f":"IF(C14>0,(D24^2/532)*D25*BG24*C14,\"\")","v":""},"","","","","","","","","","","","","","",0]
[null,"Lapping (ft)",{"$nulls":24},{"v":12,"d":"12 MM"},{"$f":"IF(AA26>0,SUMIF($BG$36:$BU$40,AA26,$BW$36:$CK$40)+$AB$14*SUMIF($BG$36:$BU$40,AA26,$BW$36:$CK$40)/100,\"\")","v":{"v":0,"d":"0 KG"}},{"$nulls":28},"Small Dia",null,{"$f":"IF(C14>0,(D27^2/532)*D28*BG24*C14,\"\")","v":""},"","","","","","","","","","","","","","",0]
["Small Dia","Rebar Size (mm)",{"$nulls":24},{"v":16,"d":"16 MM"},{"v":0,"d":"0 KG"},{"$nulls":28},"Tie Rod",null,{"$f":"IF(C14>0,(D30^2/532)*BG30*BG33*C14,\"0\")","v":"0"},{"$f":"IF(D14>0,(E30^2/532)*BH30*BH33*D14,\"0\")","v":"0"},"0","0","0","0","0","0","0","0","0","0","0","0","0",0]
[null,"Rebar Nos",{"$nulls":24},{"v":20,"d":"20 MM"},{"v":0,"d":"0 KG"},{"$nulls":28},"Extra Tie -1",null,{"$f":"IF(C14>0,IF(D35>0,(D30^2/532)*BG31*D34*C14,\"0\"),\"\")","v":""},{"$f":"IF(D14>0,IF(E35>0,(E30^2/532)*BH31*E34*D14,\"0\"),\"\")","v":""},"","","","","","","","","","","","","",0]
[null,"Lapping (ft)",{"$nulls":24},{"v":22,"d":"22 MM"},{"v":0,"d":"0 KG"},{"$nulls":28},"Extra Tie -2",null,{"$f":"IF(C14>0,IF(D37>0,(D30^2/532)*BG32*D36*C14,\"0\"),\"\")","v":""},{"$f":"IF(D14>0,IF(E37>0,(E30^2/532)*BH32*E36*D14,\"0\"),\"\")","v":""},"","","","","","","","","","","","","",0]
["Tie Rod","Rebar Size (mm)",{"$nulls":24},{"v":25,"d":"25 MM"},{"v":0,"d":"0 KG"},{"$nulls":28},"Tie- Rod nos",null,{"$f":"IF(C14>0,IF(D31>0,((C17*12)/BG34),0),\"\")","v":""},"","","","","","","","","","","","","","",0]
[null,"Specing-1 (inch)",{"$nulls":24},{"v":28,"d":"28 MM"},{"v":0,"d":"0 KG"},{"$nulls":28},"Tie-1 Rod nos",null,{"$f":"IF(C14>0,IF(D35>0,((C17*12)/D35),0),\"\")","v":""},"","","","","","","","","","","","","","",0]
[null,"Specing-2 (inch)",{"$nulls":24},{"v":32,"d":"32 MM"},{"v":0,"d":"0 KG"},{"$nulls":28},"Tie-2 Rod nos",null,{"$f":"IF(C14>0,IF(D37>0,((C17*12)/D37),0),\"\")","v":""},"","","","","","","","","","","","","","",0]
[null,"Houck lenght (inch)",{"$nulls":54},"Tie Length",null,{"$f":"IF(C14>0,3.1416*(C15-C16-C16+D33+D33)/12,\"\")","v":""},"","","","","","","","","","","","","","",0]
["Extra Tie -1"," lenght (ft)",{"$nulls":54},"Tie Specing",null,{"$f":"IF(C14>0,(D31+D32)/2,\"\")","v":""},"","","","","","","","","","","","","","",0]
[null,"Specing (inch)"]
["Extra Tie -2"," lenght (ft)",{"$nulls":54},"Large dia",null,{"$f":"D24","v":{"v":0,"d":"0 MM"}},{"v":0,"d":"0 MM"},{"v":0,"d":"0 MM"},{"v":0,"d":"0 MM"},{"v":0,"d":"0 MM"},{"v":0,"d":"0 MM"},{"v":0,"d":"0 MM"},{"v":0,"d":"0 MM"},{"v":0,"d":"0 MM"},{"v":0,"d":"0 MM"},{"v":0,"d":"0 MM"},{"v":0,"d":"0 MM"},{"v":0,"d":"0 MM"},{"v":0,"d":"0 MM"},{"v":0,"d":"0 MM"},null,{"$f":"IF(C14>0,BG25+$AB$14*BG25/100,\"\")","v":""},{"$f":"IF(D14>0,BH25+$AB$14*BH25/100,\"\")","v":""},"","","","","","","","","","","","",""]
[null,"Specing (inch)",{"$nulls":54},"Small Dia",null,{"$f":"D27","v":{"v":0,"d":"0 MM"}},{"v":0,"d":"0 MM"},{"v":0,"d":"0 MM"},{"v":0,"d":"0 MM"},{"v":0,"d":"0 MM"},{"v":0,"d":"0 MM"},{"v":0,"d":"0 MM"},{"v":0,"d":"0 MM"},{"v":0,"d":"0 MM"},{"v":0,"d":"0 MM"},{"v":0,"d":"0 MM"},{"v":0,"d":"0 MM"},{"v":0,"d":"0 MM"},{"v":0,"d":"0 MM"},{"v":0,"d":"0 MM"},null,{"$f":"IF(C14>0,BG26+$AB$14*BG26/100,\"\")","v":""},{"$f":"IF(D14>0,BH26+$AB$14*BH26/100,\"\")","v":""},"","","","","","","","","","","","",""]
[{"$nulls":56},"Tie Rod-1",null,{"$f":"D30","v":{"v":0,"d":"0 MM"}},{"v":0,"d":"0 MM"},{"v":0,"d":"0 MM"},{"v":0,"d":"0 MM"},{"v":0,"d":"0 MM"},{"v":0,"d":"0 MM"},{"v":0,"d":"0 MM"},{"v":0,"d":"0 MM"},{"v":0,"d":"0 MM"},{"v":0,"d":"0 MM"},{"v":0,"d":"0 MM"},{"v":0,"d":"0 MM"},{"v":0,"d":"0 MM"},{"v":0,"d":"0 MM"},{"v":0,"d":"0 MM"},null,{"$f":"IF(C14>0,BG27+$AB$14*BG27/100,\"\")","v":""},{"$f":"IF(D14>0,BH27+$AB$14*BH27/100,\"\")","v":""},"","","","","","","","","","","","",""]
[{"$nulls":56},"Tie Rod-2",null,{"$f":"BG38","v":{"v":0,"d":"0 MM"}},{"$f":"BH38","v":{"v":0,"d":"0 MM"}},{"v":0,"d":"0 MM"},{"v":0,"d":"0 MM"},{"v":0,"d":"0 MM"},{"v":0,"d":"0 MM"},{"v":0,"d":"0 MM"},{"v":0,"d":"0 MM"},{"v":0,"d":"0 MM"},{"v":0,"d":"0 MM"},{"v":0,"d":"0 MM"},{"v":0,"d":"0 MM"},{"v":0,"d":"0 MM"},{"v":0,"d":"0 MM"},{"v":0,"d":"0 MM"},null,{"$f":"IF(C14>0,BG28+$AB$14*BG28/100,\"\")","v":""},{"$f":"IF(D14>0,BH28+$AB$14*BH28/100,\"\")","v":""},"","","","","","","","","","","","",""]
[{"$nulls":56},"Tie Rod-3",null,{"$f":"BG38","v":{"v":0,"d":"0 MM"}},{"$f":"BH38","v":{"v":0,"d":"0 MM"}},{"v":0,"d":"0 MM"},{"v":0,"d":"0 MM"},{"v":0,"d":"0 MM"},{"v":0,"d":"0 MM"},{"v":0,"d":"0 MM"},{"v":0,"d":"0 MM"},{"v":0,"d":"0 MM"},{"v":0,"d":"0 MM"},{"v":0,"d":"0 MM"},{"v":0,"d":"0 MM"},{"v":0,"d":"0 MM"},{"v":0,"d":"0 MM"},{"v":0,"d":"0 MM"},null,{"$f":"IF(C14>0,BG29+$AB$14*BG29/100,\"\")","v":""},{"$f":"IF(D14>0,BH29+$AB$14*BH29/100,\"\")","v":""},"","","","","","","","","","","","",""]

{"sheet":"Grade Beam","index":9,"n_rows":51,"n_cols":99,"rows_kept":51,"hidden":true,"merged":[[0,0,2,16],[3,0,4,16],[5,0,5,16],[6,0,7,16],[8,0,8,16],[11,0,12,16],[11,21,12,33],[13,0,13,1],[13,21,13,24],[13,25,13,26],[13,28,13,29],[13,30,13,31],[13,32,13,33],[14,0,14,1],[14,21,14,24],[14,25,14,26],[14,27,21,27],[14,28,14,29],[14,30,14,31],[14,32,14,33],[14,61,14,62],[15,0,15,1],[15,21,15,24],[15,25,15,26],[15,28,15,29],[15,30,15,31],[15,32,15,33],[15,44,15,45],[15,61,15,62],[16,0,16,1],[16,21,16,24],[16,25,16,26],[16,28,16,29],[16,30,16,31],[16,32,16,33],[16,44,16,45],[16,61,16,62],[17,0,17,1],[17,21,17,24],[17,25,17,26],[17,28,17,29],[17,30,17,31],[17,32,17,33],[17,44,17,45],[17,61,17,62],[18,0,18,1],[18,21,18,24],[18,25,18,26],[18,28,18,29],[18,30,18,31],[18,32,18,33],[18,44,18,45],[18,61,18,62],[19,0,19,1],[19,21,19,24],[19,25,19,26],[19,28,19,29],[19,30,19,31],[19,32,19,33],[19,44,19,45],[19,61,19,62],[20,0,20,1],[20,21,20,24],[20,25,20,26],[20,28,20,29],[20,30,20,31],[20,32,20,33],[20,44,20,45],[20,61,20,62],[21,21,21,24],[21,25,21,26],[21,28,21,29],[21,30,21,31],[21,32,21,33],[21,44,21,45],[21,61,21,62],[22,3,23,6],[22,30,22,31],[22,32,22,33],[22,44,22,45],[22,61,22,62],[23,44,23,45],[23,61,23,62],[24,44,24,45],[24,61,24,62],[24,91,24,92],[25,25,25,29],[25,44,25,45],[25,61,25,62],[25,91,25,92],[26,0,26,2],[26,27,26,28],[26,44,26,45],[26,61,26,62],[27,0,29,0],[27,1,27,2],[27,27,27,28],[27,44,27,45],[27,61,27,62],[28,1,28,2],[28,27,28,28],[28,44,28,45],[28,61,28,62],[29,1,29,2],[29,27,29,28],[29,44,29,45],[29,61,29,62],[30,0,32,0],[30,1,30,2],[30,27,30,28],[30,44,30,45],[30,61,30,62],[31,1,31,2],[31,27,31,28],[31,44,31,45],[31,61,31,62],[31,92,31,93],[32,1,32,2],[32,27,32,28],[32,44,32,45],[32,61,32,62],[32,92,32,93],[33,0,35,0],[33,1,33,2],[33,27,33,28],[33,44,33,45],[33,61,33,62],[33,92,33,93],[34,1,34,2],[34,27,34,28],[34,44,34,45],[34,61,34,62],[34,92,34,93],[35,1,35,2],[35,27,35,28],[35,44,35,45],[35,61,35,62],[35,92,35,93],[36,0,36,2],[36,92,36,93],[37,0,37,2],[37,92,37,93],[38,0,40,0],[38,1,38,2],[38,44,38,45],[38,92,38,93],[39,1,39,2],[39,44,39,45],[39,92,39,93],[40,1,40,2],[40,44,40,45],[40,92,40,93],[41,0,43,0],[41,1,41,2],[41,44,41,45],[41,92,41,93],[42,1,42,2],[42,44,42,45],[42,92,42,93],[43,1,43,2],[43,44,43,45],[44,0,47,0],[44,1,44,2],[44,44,44,45],[45,1,46,2],[47,1,47,2],[48,0,50,0],[48,1,48,2],[49,1,49,2],[50,1,50,2]]}
["This is The Property of NOR DESIGN SOLUTION"]
[]
[]
[]
[]
["এক্সেল শীট বিষয়ক কিছু জানার থাকলে বা আপডেট নিয়ে কোন পরামর্শ থাকলে আমাদের সাথে যোগাযোগ করুন অথবা ওয়েবসাইটে কমেন্ট করুন"]
["এক্সেল শীট সম্পর্কে যাবতীয় তথ্য বিস্তারিত জানতে ভিজিট করুন আমাদের ইউটিউব চ্যানেলে"]
[]
["Click Here To Watch The Grade Beam Estimate video"]
[]
[]
["Gread Beam Estimate",{"$nulls":20},"Gread Beam Estimate and Price",{"$nulls":26},"Cement","Sand","Stone","Rod","Casting","Excavation","Sand Filling ","Formwork","Brick Nos","Bricl Flat Soling ","C.c"]
[{"$nulls":48},{"$f":"AC15","v":{"v":0,"d":"0 Bag"}},{"$f":"AC16","v":{"v":0,"d":"0 CFT"}},{"$f":"BJ18+AB15*BJ18/100","v":0},{"$f":"AC18","v":{"v":0,"d":"0.000 Ton"}},{"$f":"AC22","v":{"v":0,"d":"0 CFT"}},null,{"$f":"AC19","v":{"v":0,"d":"0 CFT"}},{"$f":"Z21","v":{"v":0,"d":"0 SFT"}},{"$f":"BJ19+AB15*BJ19/100","v":0},{"$f":"AC20","v":{"v":0,"d":"0 Nos"}}]
["Description",null,"Type-1","Type-2","Type-3","Type-4","Type-5","Type-6","Type-7","Type-8","Type-9","Type-10","Type-11","Type-12","Type-13","Type-14","Type-15",{"$nulls":4},"DESCRIPTION",{"$nulls":3},"Quantity",null,"Wastage Add","Quantity (Wastage Add)",null,"Rate",null,"Amount TK"]
["Beam Nos",{"$nulls":20},"Cement",{"$nulls":3},{"$f":"BJ16","v":{"v":0,"d":"0 Bag"}},null,{"v":0,"d":"0 % ADD"},{"$f":"Z15+$AB$15*Z15/100","v":{"v":0,"d":"0 Bag"}},null,{"v":600,"d":"600.00 TK"},null,{"$f":"AC15*AE15","v":{"v":0,"d":"0 TK"}},{"$nulls":28},"Sum"]
["Beam Height,H (inch)",{"$nulls":20},"Sand ",{"$nulls":3},{"$f":"BJ17","v":{"v":0,"d":"0 CFT"}},null,null,{"v":0,"d":"0 CFT"},null,{"v":45,"d":"45.00 TK"},null,{"v":0,"d":"0 TK"},{"$nulls":11},"Cement ",null,{"$f":"IF(C15>0,(AU20*$D$25*1.54)/($G$25*1.25),\"\")","v":""},{"$f":"IF(D15>0,(AV20*$D$25*1.54)/($G$25*1.25),\"\")","v":""},{"$f":"IF(E15>0,(AW20*$D$25*1.54)/($G$25*1.25),\"\")","v":""},{"$f":"IF(F15>0,(AX20*$D$25*1.54)/($G$25*1.25),\"\")","v":""},{"$f":"IF(G15>0,(AY20*$D$25*1.54)/($G$25*1.25),\"\")","v":""},{"$f":"IF(H15>0,(AZ20*$D$25*1.54)/($G$25*1.25),\"\")","v":""},{"$f":"IF(I15>0,(BA20*$D$25*1.54)/($G$25*1.25),\"\")","v":""},{"$f":"IF(J15>0,(BB20*$D$25*1.54)/($G$25*1.25),\"\")","v":""},{"$f":"IF(K15>0,(BC20*$D$25*1.54)/($G$25*1.25),\"\")","v":""},{"$f":"IF(L15>0,(BD20*$D$25*1.54)/($G$25*1.25),\"\")","v":""},{"$f":"IF(M15>0,(BE20*$D$25*1.54)/($G$25*1.25),\"\")","v":""},{"$f":"IF(N15>0,(BF20*$D$25*1.54)/($G$25*1.25),\"\")","v":""},{"$f":"IF(O15>0,(BG20*$D$25*1.54)/($G$25*1.25),\"\")","v":""},{"$f":"IF(P15>0,(BH20*$D$25*1.54)/($G$25*1.25),\"\")","v":""},{"$f":"IF(Q15>0,(BI20*$D$25*1.54)/($G$25*1.25),\"\")","v":""},{"$f":"SUM(AU16:BI16)","v":{"v":0,"d":"0 Bag"}}]
["Beam Breadth,B (inch)",{"$nulls":20},"Stone/Brick Chips",{"$nulls":3},{"$f":"VLOOKUP(V17,BM22:BN23,2,0)","v":0},null,null,0,null,{"v":12,"d":"12.00 TK"},null,{"v":0,"d":"0 TK"},{"$nulls":11},"Sand ",null,{"$f":"IF(C15>0,(AU20*1.54*$E$25)/$G$25,\"\")","v":""},{"$f":"IF(D15>0,(AV20*1.54*$E$25)/$G$25,\"\")","v":""},{"$f":"IF(E15>0,(AW20*1.54*$E$25)/$G$25,\"\")","v":""},{"$f":"IF(F15>0,(AX20*1.54*$E$25)/$G$25,\"\")","v":""},{"$f":"IF(G15>0,(AY20*1.54*$E$25)/$G$25,\"\")","v":""},{"$f":"IF(H15>0,(AZ20*1.54*$E$25)/$G$25,\"\")","v":""},{"$f":"IF(I15>0,(BA20*1.54*$E$25)/$G$25,\"\")","v":""},{"$f":"IF(J15>0,(BB20*1.54*$E$25)/$G$25,\"\")","v":""},{"$f":"IF(K15>0,(BC20*1.54*$E$25)/$G$25,\"\")","v":""},{"$f":"IF(L15>0,(BD20*1.54*$E$25)/$G$25,\"\")","v":""},{"$f":"IF(M15>0,(BE20*1.54*$E$25)/$G$25,\"\")","v":""},{"$f":"IF(N15>0,(BF20*1.54*$E$25)/$G$25,\"\")","v":""},{"$f":"IF(O15>0,(BG20*1.54*$E$25)/$G$25,\"\")","v":""},{"$f":"IF(P15>0,(BH20*1.54*$E$25)/$G$25,\"\")","v":""},{"$f":"IF(Q15>0,(BI20*1.54*$E$25)/$G$25,\"\")","v":""},{"$f":"SUM(AU17:BI17)","v":0}]
["Total Beam Length,L (ft)",{"$nulls":20},"Rod/Reber",{"$nulls":3},{"$f":"SUM(BJ24:BK30)/1000","v":{"v":0,"d":"0.000 Ton"}},null,null,{"v":0,"d":"0.000 Ton"},null,{"v":100000,"d":"100000.00 TK"},null,{"v":0,"d":"0 TK"},{"$nulls":11},"Stone/Brick Chips",null,{"$f":"IF(C15>0,(AU20*1.54*$F$25)/$G$25,\"\")","v":""},{"$f":"IF(D15>0,(AV20*1.54*$F$25)/$G$25,\"\")","v":""},{"$f":"IF(E15>0,(AW20*1.54*$F$25)/$G$25,\"\")","v":""},{"$f":"IF(F15>0,(AX20*1.54*$F$25)/$G$25,\"\")","v":""},{"$f":"IF(G15>0,(AY20*1.54*$F$25)/$G$25,\"\")","v":""},{"$f":"IF(H15>0,(AZ20*1.54*$F$25)/$G$25,\"\")","v":""},{"$f":"IF(I15>0,(BA20*1.54*$F$25)/$G$25,\"\")","v":""},{"$f":"IF(J15>0,(BB20*1.54*$F$25)/$G$25,\"\")","v":""},{"$f":"IF(K15>0,(BC20*1.54*$F$25)/$G$25,\"\")","v":""},{"$f":"IF(L15>0,(BD20*1.54*$F$25)/$G$25,\"\")","v":""},{"$f":"IF(M15>0,(BE20*1.54*$F$25)/$G$25,\"\")","v":""},{"$f":"IF(N15>0,(BF20*1.54*$F$25)/$G$25,\"\")","v":""},{"$f":"IF(O15>0,(BG20*1.54*$F$25)/$G$25,\"\")","v":""},{"$f":"IF(P15>0,(BH20*1.54*$F$25)/$G$25,\"\")","v":""},{"$f":"IF(Q15>0,(BI20*1.54*$F$25)/$G$25,\"\")","v":""},0]
["(-) All Column Size (ft)",{"$nulls":20},"Sand Fill",{"$nulls":3},{"$f":"BJ22","v":{"v":0,"d":"0 CFT"}},null,null,{"v":0,"d":"0 CFT"},null,{"v":45,"d":"45.00 TK"},null,{"v":0,"d":"0 TK"},{"$nulls":11},"Brick Nos",null,{"$f":"IF(C15>0,AU18*9.5,\"\")","v":""},{"$f":"IF(D15>0,AV18*9.5,\"\")","v":""},{"$f":"IF(E15>0,AW18*9.5,\"\")","v":""},{"$f":"IF(F15>0,AX18*9.5,\"\")","v":""},{"$f":"IF(G15>0,AY18*9.5,\"\")","v":""},{"$f":"IF(H15>0,AZ18*9.5,\"\")","v":""},{"$f":"IF(I15>0,BA18*9.5,\"\")","v":""},{"$f":"IF(J15>0,BB18*9.5,\"\")","v":""},{"$f":"IF(K15>0,BC18*9.5,\"\")","v":""},{"$f":"IF(L15>0,BD18*9.5,\"\")","v":""},{"$f":"IF(M15>0,BE18*9.5,\"\")","v":""},{"$f":"IF(N15>0,BF18*9.5,\"\")","v":""},{"$f":"IF(O15>0,BG18*9.5,\"\")","v":""},{"$f":"IF(P15>0,BH18*9.5,\"\")","v":""},{"$f":"IF(Q15>0,BI18*9.5,\"\")","v":""},0,{"$nulls":23},{"v":3,"d":"3.00'"},null,null,{"v":14.83,"d":"14.83 '"},null,null,{"v":8.25,"d":"8.25 '"},{"$nulls":3},{"v":14.83,"d":"14.83 '"},null,null,{"v":3,"d":"3.00'"}]
["Brick Flat Soling (inch)",{"$nulls":20},"Brick Flat soling",{"$nulls":3},{"$f":"BJ21*3","v":{"v":0,"d":"0  Nos"}},null,null,{"v":0,"d":"0 Nos"},null,{"v":10,"d":"10.00 TK"},null,{"v":0,"d":"0 TK"},{"$nulls":11},"Casting",null,{"$f":"IF(C15>0,((C16/12)*(C17/12)*(C18-C19)*C15),\"\")","v":""},{"$f":"IF(D15>0,((D16/12)*(D17/12)*(D18-D19)*D15),\"\")","v":""},{"$f":"IF(E15>0,((E16/12)*(E17/12)*(E18-E19)*E15),\"\")","v":""},{"$f":"IF(F15>0,((F16/12)*(F17/12)*(F18-F19)*F15),\"\")","v":""},{"$f":"IF(G15>0,((G16/12)*(G17/12)*(G18-G19)*G15),\"\")","v":""},{"$f":"IF(H15>0,((H16/12)*(H17/12)*(H18-H19)*H15),\"\")","v":""},{"$f":"IF(I15>0,((I16/12)*(I17/12)*(I18-I19)*I15),\"\")","v":""},{"$f":"IF(J15>0,((J16/12)*(J17/12)*(J18-J19)*J15),\"\")","v":""},{"$f":"IF(K15>0,((K16/12)*(K17/12)*(K18-K19)*K15),\"\")","v":""},{"$f":"IF(L15>0,((L16/12)*(L17/12)*(L18-L19)*L15),\"\")","v":""},{"$f":"IF(M15>0,((M16/12)*(M17/12)*(M18-M19)*M15),\"\")","v":""},{"$f":"IF(N15>0,((N16/12)*(N17/12)*(N18-N19)*N15),\"\")","v":""},{"$f":"IF(O15>0,((O16/12)*(O17/12)*(O18-O19)*O15),\"\")","v":""},{"$f":"IF(P15>0,((P16/12)*(P17/12)*(P18-P19)*P15),\"\")","v":""},{"$f":"IF(Q15>0,((Q16/12)*(Q17/12)*(Q18-Q19)*Q15),\"\")","v":""},0]
["Sand Filling (inch)",{"$nulls":20},"Formwork ",{"$nulls":3},{"$f":"BJ23","v":{"v":0,"d":"0 SFT"}},null,null,{"v":0,"d":"0 SFT"},null,{"v":36,"d":"36.00 TK"},null,{"v":0,"d":"0 TK"},{"$nulls":11},"Brick Flat",null,{"$f":"IF(C15>0,IF(C20>0,(((C16/12)*(C18-C19)*C15)),\"0\"),\"0\")","v":"0"},{"$f":"IF(D15>0,IF(D20>0,(((D16/12)*(D18-D19)*D15)),\"0\"),\"0\")","v":"0"},"0","0","0","0","0","0","0","0","0","0","0","0","0",0,{"$nulls":24},{"$f":"(CK19/3)+CH19","v":{"v":7.943333333333333,"d":"7.94 '"}},{"$nulls":3},{"$f":"(CK19/3)+(CN19/3)","v":{"v":7.693333333333333,"d":"7.69 '"}},null,null,{"$f":"(CN19/3)+(CR19/3)","v":{"v":7.693333333333333,"d":"7.69 '"}},{"$nulls":3},{"$f":"(CR19/3)+CU19","v":{"v":7.943333333333333,"d":"7.94 '"}}]
[{"$nulls":21},"Casting ",{"$nulls":3},{"$f":"BJ20","v":{"v":0,"d":"0 CFT"}},null,null,{"v":0,"d":"0 CFT"},null,{"v":37,"d":"37.00 TK"},null,{"$f":"AC22*AE22","v":{"v":0,"d":"0 TK"}},{"$nulls":11},"Sand Filling",null,{"$f":"IF('Grade Beam'!C15>0,IF('Grade Beam'!C21>0,((('Grade Beam'!C16/12)*('Grade Beam'!C21/12))*('Grade Beam'!C18-'Grade Beam'!C19)*'Grade Beam'!C15),\"\"),\"\")","v":""},{"$f":"IF('Grade Beam'!D15>0,IF('Grade Beam'!D21>0,((('Grade Beam'!D16/12)*('Grade Beam'!D21/12))*('Grade Beam'!D18-'Grade Beam'!D19)*'Grade Beam'!D15),\"\"),\"\")","v":""},{"$f":"IF('Grade Beam'!E15>0,IF('Grade Beam'!E21>0,((('Grade Beam'!E16/12)*('Grade Beam'!E21/12))*('Grade Beam'!E18-'Grade Beam'!E19)*'Grade Beam'!E15),\"\"),\"\")","v":""},{"$f":"IF('Grade Beam'!F15>0,IF('Grade Beam'!F21>0,((('Grade Beam'!F16/12)*('Grade Beam'!F21/12))*('Grade Beam'!F18-'Grade Beam'!F19)*'Grade Beam'!F15),\"\"),\"\")","v":""},{"$f":"IF('Grade Beam'!G15>0,IF('Grade Beam'!G21>0,((('Grade Beam'!G16/12)*('Grade Beam'!G21/12))*('Grade Beam'!G18-'Grade Beam'!G19)*'Grade Beam'!G15),\"\"),\"\")","v":""},{"$f":"IF('Grade Beam'!H15>0,IF('Grade Beam'!H21>0,((('Grade Beam'!H16/12)*('Grade Beam'!H21/12))*('Grade Beam'!H18-'Grade Beam'!H19)*'Grade Beam'!H15),\"\"),\"\")","v":""},{"$f":"IF('Grade Beam'!I15>0,IF('Grade Beam'!I21>0,((('Grade Beam'!I16/12)*('Grade Beam'!I21/12))*('Grade Beam'!I18-'Grade Beam'!I19)*'Grade Beam'!I15),\"\"),\"\")","v":""},{"$f":"IF('Grade Beam'!J15>0,IF('Grade Beam'!J21>0,((('Grade Beam'!J16/12)*('Grade Beam'!J21/12))*('Grade Beam'!J18-'Grade Beam'!J19)*'Grade Beam'!J15),\"\"),\"\")","v":""},{"$f":"IF('Grade Beam'!K15>0,IF('Grade Beam'!K21>0,((('Grade Beam'!K16/12)*('Grade Beam'!K21/12))*('Grade Beam'!K18-'Grade Beam'!K19)*'Grade Beam'!K15),\"\"),\"\")","v":""},{"$f":"IF('Grade Beam'!L15>0,IF('Grade Beam'!L21>0,((('Grade Beam'!L16/12)*('Grade Beam'!L21/12))*('Grade Beam'!L18-'Grade Beam'!L19)*'Grade Beam'!L15),\"\"),\"\")","v":""},{"$f":"IF('Grade Beam'!M15>0,IF('Grade Beam'!M21>0,((('Grade Beam'!M16/12)*('Grade Beam'!M21/12))*('Grade Beam'!M18-'Grade Beam'!M19)*'Grade Beam'!M15),\"\"),\"\")","v":""},{"$f":"IF('Grade Beam'!N15>0,IF('Grade Beam'!N21>0,((('Grade Beam'!N16/12)*('Grade Beam'!N21/12))*('Grade Beam'!N18-'Grade Beam'!N19)*'Grade Beam'!N15),\"\"),\"\")","v":""},{"$f":"IF('Grade Beam'!O15>0,IF('Grade Beam'!O21>0,((('Grade Beam'!O16/12)*('Grade Beam'!O21/12))*('Grade Beam'!O18-'Grade Beam'!O19)*'Grade Beam'!O15),\"\"),\"\")","v":""},{"$f":"IF('Grade Beam'!P15>0,IF('Grade Beam'!P21>0,((('Grade Beam'!P16/12)*('Grade Beam'!P21/12))*('Grade Beam'!P18-'Grade Beam'!P19)*'Grade Beam'!P15),\"\"),\"\")","v":""},{"$f":"IF('Grade Beam'!Q15>0,IF('Grade Beam'!Q21>0,((('Grade Beam'!Q16/12)*('Grade Beam'!Q21/12))*('Grade Beam'!Q18-'Grade Beam'!Q19)*'Grade Beam'!Q15),\"\"),\"\")","v":""},{"$f":"SUM('Grade Beam'!AU22:BI22)","v":0},null,null,"Stone/Brick Chips",{"$f":"BJ18","v":0},{"$nulls":20},"A",{"$nulls":3},"B",null,null,"C",{"$nulls":3},"D"]
[{"$nulls":3},"Rcc casting Ratio",{"$nulls":26},"Total Cost=",null,{"$f":"SUM(AG15:AH22)","v":{"v":0,"d":"0 TK"}},{"$nulls":11},"Formwork",null,{"$f":"IF(C15>0,((C18-C19)*(C16+C16)/12)*C15+((C18-C19)*C17/12*C15),\"\")","v":""},{"$f":"IF(D15>0,((D18-D19)*(D16+D16)/12)*D15+((D18-D19)*D17/12*D15),\"\")","v":""},{"$f":"IF(E15>0,((E18-E19)*(E16+E16)/12)*E15+((E18-E19)*E17/12*E15),\"\")","v":""},{"$f":"IF(F15>0,((F18-F19)*(F16+F16)/12)*F15+((F18-F19)*F17/12*F15),\"\")","v":""},{"$f":"IF(G15>0,((G18-G19)*(G16+G16)/12)*G15+((G18-G19)*G17/12*G15),\"\")","v":""},{"$f":"IF(H15>0,((H18-H19)*(H16+H16)/12)*H15+((H18-H19)*H17/12*H15),\"\")","v":""},{"$f":"IF(I15>0,((I18-I19)*(I16+I16)/12)*I15+((I18-I19)*I17/12*I15),\"\")","v":""},{"$f":"IF(J15>0,((J18-J19)*(J16+J16)/12)*J15+((J18-J19)*J17/12*J15),\"\")","v":""},{"$f":"IF(K15>0,((K18-K19)*(K16+K16)/12)*K15+((K18-K19)*K17/12*K15),\"\")","v":""},{"$f":"IF(L15>0,((L18-L19)*(L16+L16)/12)*L15+((L18-L19)*L17/12*L15),\"\")","v":""},{"$f":"IF(M15>0,((M18-M19)*(M16+M16)/12)*M15+((M18-M19)*M17/12*M15),\"\")","v":""},{"$f":"IF(N15>0,((N18-N19)*(N16+N16)/12)*N15+((N18-N19)*N17/12*N15),\"\")","v":""},{"$f":"IF(O15>0,((O18-O19)*(O16+O16)/12)*O15+((O18-O19)*O17/12*O15),\"\")","v":""},{"$f":"IF(P15>0,((P18-P19)*(P16+P16)/12)*P15+((P18-P19)*P17/12*P15),\"\")","v":""},{"$f":"IF(Q15>0,((Q18-Q19)*(Q16+Q16)/12)*Q15+((Q18-Q19)*Q17/12*Q15),\"\")","v":""},0,null,null,"Brick Nos",{"$f":"BJ19","v":0},{"$nulls":20},"SG+BN16:BY22"]
[{"$nulls":44},"Large Dia  ",null,{"$f":"IF(C15>0,(D28^2/532)*D29*(C18-(4*D38/12)+(2*D37/12))*C15,\"\")","v":""},{"$f":"IF(D15>0,(E28^2/532)*E29*(D18-(4*E38/12)+(2*E37/12))*D15,\"\")","v":""},"","","","","","","","","","","","","",0]
[{"$nulls":3},1,1.5,3,{"$f":"SUM(D25:F25)","v":5.5},{"$nulls":37},"Small Dia  ",null,{"$f":"IF(OR(C15>0,D31>0),(D31^2/532)*D32*(C18-(4*D38/12)+(2*D37/12))*C15,\"0\")","v":"0"},{"$f":"IF(OR(D15>0,E31>0),(E31^2/532)*E32*(D18-(4*E38/12)+(2*E37/12))*D15,\"0\")","v":"0"},"0","0","0","0","0","0","0","0","0","0","0","0","0",0,{"$nulls":29},"A+B+C+D"]
[{"$nulls":25}," Reinforcement ",{"$nulls":18},"Medial Dia  ",null,{"$f":"IF(AND(C15>0,D34>0),(D34^2/532)*D35*(C18-(4*D38/12)+(2*D37/12))*C15,\"0\")","v":"0"},{"$f":"IF(AND(D15>0,E34>0),(E34^2/532)*E35*(D18-(4*E38/12)+(2*E37/12))*D15,\"0\")","v":"0"},"0","0","0","0","0","0","0","0","0","0","0","0","0",0,{"$nulls":29},{"$f":"CI21+CM21+CP21+CT21","v":{"v":31.273333333333333,"d":"31.27 '"}}]
["Beam Rebar Calculation",null,null,"Type-1","Type-2","Type-3","Type-4","Type-5","Type-6","Type-7","Type-8","Type-9","Type-10","Type-11","Type-12","Type-13","Type-14","Type-15",{"$nulls":8},{"v":10,"d":"10 MM"},{"$f":"IF(AA27>0,SUMIF($AU$39:$BI$45,AA27,$BK$39:$BY$45),\"\")","v":{"v":0,"d":"0 KG"}},{"$nulls":16}," Extra Top",null,{"$f":"IF(C15>0,IF(D41>0,(D39^2/532)*D40*D41*C15+(2*D37/12),\"\"),\"\")","v":""},{"$f":"IF(D15>0,IF(E41>0,(E39^2/532)*E40*E41*D15+(2*E37/12),\"\"),\"\")","v":""},"","","","","","","","","","","","","",0]
["Large Dia ","Rebar Size (mm)",{"$nulls":24},{"v":12,"d":"12 MM"},{"$f":"IF(AA28>0,SUMIF($AU$39:$BI$45,AA28,$BK$39:$BY$45),\"\")","v":{"v":0,"d":"0 KG"}},{"$nulls":16}," Extra Bottom",null,{"$f":"IF(C15>0,IF(D42>0,(D42^2/532)*D43*D44*C15+(2*D37/12),\"0\"),\"0\")","v":"0"},{"$f":"IF(D15>0,IF(E42>0,(E42^2/532)*E43*E44*D15+(2*E37/12),\"0\"),\"0\")","v":"0"},"0","0","0","0","0","0","0","0","0","0","0","0","0",0]
[null,"Rebar Nos",{"$nulls":24},{"v":16,"d":"16 MM"},{"v":0,"d":"0 KG"},{"$nulls":16},"Sttriup-1",null,{"$f":"IF(C15>0,IF(D45>0,(D45^2/532)*AU31*AU32*C15,\"0\"),\"\")","v":""},{"$f":"IF(D15>0,IF(E45>0,(E45^2/532)*AV31*AV32*D15,\"0\"),\"\")","v":""},"","","","","","","","","","","","","",0]
[null,"Lapping (ft)",{"$nulls":24},{"v":20,"d":"20 MM"},{"v":0,"d":"0 KG"},{"$nulls":16},"Sttriup-2",null,{"$f":"IF(D49>0,(D49^2/532)*AU34*AU35*C15,\"0\")","v":"0"},{"$f":"IF(E49>0,(E49^2/532)*AV34*AV35*D15,\"0\")","v":"0"},"0","0","0","0","0","0","0","0","0","0","0","0","0",0]
["Small Dia","Rebar Size (mm)",{"$nulls":25},"",{"$nulls":16},"Sttriup-1 Nos",null,{"$f":"IF(AND(C15>0,D45>0),(C18-C19)/(AU33/12)+1,\"0\")","v":"0"},{"$f":"IF(AND(D15>0,E45>0),(D18-D19)/(AV33/12)+1,\"0\")","v":"0"},"0","0","0","0","0","0","0","0","0","0","0","0","0",0]
[null,"Rebar Nos",{"$nulls":25},"",{"$nulls":16},"Sttriup-1 (L)",null,{"$f":"IF(C15>0,(((2*C16)+(2*C17))-(D38*8)+(D48*2))/12,\"\")","v":""},{"$f":"IF(D15>0,(((2*D16)+(2*D17))-(E38*8)+(E48*2))/12,\"\")","v":""},"","","","","","","","","","","","","",0,{"$nulls":28},"Name","NOS","A+B+C+D "]
[null,"Lapping (ft)",{"$nulls":25},"",{"$nulls":16},"Sttriup-1 (c/c)",null,{"$f":"IF(C15>0,(D46+D47)/2,\"\")","v":""},{"$f":"IF(D15>0,(E46+E47)/2,\"\")","v":""},"","","","","","","","","","","","","",0,{"$nulls":28},"GB-1",1,{"$f":"IF(CN33>0,(CI21+CM21+CP21+CT21)*CN33,\"\")","v":{"v":31.273333333333333,"d":"31.27 '"}}]
["Medial Bar","Rebar Size (mm)",{"$nulls":25},"",{"$nulls":16},"Sttriup-2 Nos",null,{"$f":"IF(D50>0,(C18-C19)/(D50/12)+1,\"0\")","v":"0"},{"$f":"IF(E50>0,(D18-D19)/(E50/12)+1,\"0\")","v":"0"},"0","0","0","0","0","0","0","0","0","0","0","0","0",0,{"$nulls":28},"GB-2",null,{"$f":"IF(CN34>0,(CI22+CM22+CP22+CT22)*CN34,\"\")","v":""}]
[null,"Rebar Nos",{"$nulls":25},"",{"$nulls":16},"Sttriup-2 (L)",null,{"$f":"IF(C15>0,(((2*C16)+(2*C17))-(D38*8)+(D51*2))/12,\"\")","v":""},{"$f":"IF(D15>0,(((2*D16)+(2*D17))-(E38*8)+(E51*2))/12,\"\")","v":""},"","","","","","","","","","","","","",0,{"$nulls":28},"GB-3",null,{"$f":"IF(CN35>0,(CI23+CM23+CP23+CT23)*CN35,\"\")","v":""}]
[null,"Lapping (ft)",{"$nulls":42},"Sttriup-2 (c/c)",{"$nulls":16},0,{"$nulls":6},{"$f":"SUM(BK42:BY45)","v":{"v":0,"d":"0 KG"}},{"$nulls":21},"GB-4",null,{"$f":"IF(CN36>0,(CI24+CM24+CP24+CT24)*CN36,\"\")","v":""}]
["Development length (inh)",{"$nulls":89},"GB-5",null,{"$f":"IF(CN37>0,(CI25+CM25+CP25+CT25)*CN37,\"\")","v":""}]
["Clear Cover (inh)",{"$nulls":89},"GB-6",null,{"$f":"IF(CN38>0,(CM32+CM26+CP26+CT26)*CN38,\"\")","v":""}]
["Extra Top","Rebar Size (mm)",{"$nulls":42},"Large Dia  ",null,{"$f":"D28","v":{"v":0,"d":"0 MM"}},{"$f":"E28","v":{"v":0,"d":"0 MM"}},{"v":0,"d":"0 MM"},{"v":0,"d":"0 MM"},{"v":0,"d":"0 MM"},{"v":0,"d":"0 MM"},{"v":0,"d":"0 MM"},{"v":0,"d":"0 MM"},{"v":0,"d":"0 MM"},{"v":0,"d":"0 MM"},{"v":0,"d":"0 MM"},{"v":0,"d":"0 MM"},{"v":0,"d":"0 MM"},{"v":0,"d":"0 MM"},{"v":0,"d":"0 MM"},null,{"$f":"IF(C15>0,AU24+$AB$15*AU24/100,\"\")","v":""},{"$f":"IF(D15>0,AV24+$AB$15*AV24/100,\"\")","v":""},"","","","","","","","","","","","","",{"$nulls":13},"GB-7",null,{"$f":"IF(CN39>0,(CM33+CM27+CP27+CT27)*CN39,\"\")","v":""}]
[null,"Rebar Nos",{"$nulls":42},"Small Dia  ",null,{"$f":"D31","v":{"v":0,"d":"0 MM"}},{"$f":"E31","v":{"v":0,"d":"0 MM"}},{"v":0,"d":"0 MM"},{"v":0,"d":"0 MM"},{"v":0,"d":"0 MM"},{"v":0,"d":"0 MM"},{"v":0,"d":"0 MM"},{"v":0,"d":"0 MM"},{"v":0,"d":"0 MM"},{"v":0,"d":"0 MM"},{"v":0,"d":"0 MM"},{"v":0,"d":"0 MM"},{"v":0,"d":"0 MM"},{"v":0,"d":"0 MM"},{"v":0,"d":"0 MM"},null,{"$f":"IF(C15>0,AU25+$AB$15*AU25/100,\"\")","v":""},{"$f":"IF(D15>0,AV25+$AB$15*AV25/100,\"\")","v":""},"","","","","","","","","","","","","",{"$nulls":13},"GB-8",null,{"$f":"IF(CN40>0,(CM34+CM28+CP28+CT28)*CN40,\"\")","v":""}]
[null,"Length (ft)",{"$nulls":42},"Medial Dia  ",null,{"$f":"D34","v":{"v":0,"d":"0 MM"}},{"$f":"E34","v":{"v":0,"d":"0 MM"}},{"v":0,"d":"0 MM"},{"v":0,"d":"0 MM"},{"v":0,"d":"0 MM"},{"v":0,"d":"0 MM"},{"v":0,"d":"0 MM"},{"v":0,"d":"0 MM"},{"v":0,"d":"0 MM"},{"v":0,"d":"0 MM"},{"v":0,"d":"0 MM"},{"v":0,"d":"0 MM"},{"v":0,"d":"0 MM"},{"v":0,"d":"0 MM"},{"v":0,"d":"0 MM"},null,{"$f":"IF(C15>0,AU26+$AB$15*AU26/100,\"\")","v":""},{"$f":"IF(D15>0,AV26+$AB$15*AV26/100,\"\")","v":""},"","","","","","","","","","","","","",{"$nulls":13},"GB-9",null,{"$f":"IF(CN41>0,(CM35+CM29+CP29+CT29)*CN41,\"\")","v":""}]
["Extra Bottom","Rebar Size (mm)",{"$nulls":42}," Extra Top",null,{"$f":"D39","v":{"v":0,"d":"0 MM"}},{"$f":"E39","v":{"v":0,"d":"0 MM"}},{"v":0,"d":"0 MM"},{"v":0,"d":"0 MM"},{"v":0,"d":"0 MM"},{"v":0,"d":"0 MM"},{"v":0,"d":"0 MM"},{"v":0,"d":"0 MM"},{"v":0,"d":"0 MM"},{"v":0,"d":"0 MM"},{"v":0,"d":"0 MM"},{"v":0,"d":"0 MM"},{"v":0,"d":"0 MM"},{"v":0,"d":"0 MM"},{"v":0,"d":"0 MM"},null,{"$f":"IF(C15>0,AU27+$AB$15*AU27/100,\"\")","v":""},{"$f":"IF(D15>0,AV27+$AB$15*AV27/100,\"\")","v":""},"","","","","","","","","","","","","",{"$nulls":13},"GB-10",null,{"$f":"IF(CN42>0,(CM36+CM30+CP30+CT30)*CN42,\"\")","v":""}]
[null,"Rebar Nos",{"$nulls":42}," Extra Bottom",null,{"$f":"D42","v":{"v":0,"d":"0 MM"}},{"$f":"E42","v":{"v":0,"d":"0 MM"}},{"v":0,"d":"0 MM"},{"v":0,"d":"0 MM"},{"v":0,"d":"0 MM"},{"v":0,"d":"0 MM"},{"v":0,"d":"0 MM"},{"v":0,"d":"0 MM"},{"v":0,"d":"0 MM"},{"v":0,"d":"0 MM"},{"v":0,"d":"0 MM"},{"v":0,"d":"0 MM"},{"v":0,"d":"0 MM"},{"v":0,"d":"0 MM"},{"v":0,"d":"0 MM"},null,{"$f":"IF(C15>0,AU28+$AB$15*AU28/100,\"\")","v":""},{"$f":"IF(D15>0,AV28+$AB$15*AV28/100,\"\")","v":""},"","","","","","","","","","","","","",{"$nulls":14},"TOTAL=",{"$f":"SUM(CO33:CP42)","v":{"v":31.273333333333333,"d":"31.27 '"}}]
[null,"Length (ft)",{"$nulls":42},"Sttriup-1",null,{"$f":"D45","v":{"v":0,"d":"0 MM"}},{"$f":"E45","v":{"v":0,"d":"0 MM"}},{"v":0,"d":"0 MM"},{"v":0,"d":"0 MM"},{"v":0,"d":"0 MM"},{"v":0,"d":"0 MM"},{"v":0,"d":"0 MM"},{"v":0,"d":"0 MM"},{"v":0,"d":"0 MM"},{"v":0,"d":"0 MM"},{"v":0,"d":"0 MM"},{"v":0,"d":"0 MM"},{"v":0,"d":"0 MM"},{"v":0,"d":"0 MM"},{"v":0,"d":"0 MM"},null,{"$f":"IF(C15>0,AU29+$AB$15*AU29/100,\"\")","v":""},{"$f":"IF(D15>0,AV29+$AB$15*AV29/100,\"\")","v":""},"","","","","","","","","","","","",""]
["Sttriup-1","Rebar Size (mm)",{"$nulls":42},"Sttriup-2",null,{"$f":"AU44","v":{"v":0,"d":"0 MM"}},{"$f":"AV44","v":{"v":0,"d":"0 MM"}},{"v":0,"d":"0 MM"},{"v":0,"d":"0 MM"},{"v":0,"d":"0 MM"},{"v":0,"d":"0 MM"},{"v":0,"d":"0 MM"},{"v":0,"d":"0 MM"},{"v":0,"d":"0 MM"},{"v":0,"d":"0 MM"},{"v":0,"d":"0 MM"},{"v":0,"d":"0 MM"},{"v":0,"d":"0 MM"},{"v":0,"d":"0 MM"},{"v":0,"d":"0 MM"},null,{"$f":"IF(C15>0,AU30+$AB$15*AU30/100,\"\")","v":""},{"$f":"IF(D15>0,AV30+$AB$15*AV30/100,\"\")","v":""},"","","","","","","","","","","","",""]
[null,"Specing (inch)"]
[]
[null,"Houck lenght (inch)"]
["Sttriup-2","Rebar Size (mm)"]
[null,"Specing (inch)"]
[null,"Houck lenght (inch)"]

{"sheet":"Floor Beam","index":10,"n_rows":51,"n_cols":100,"rows_kept":51,"hidden":true,"merged":[[0,0,2,16],[3,0,4,16],[5,0,5,16],[6,0,7,16],[8,0,8,16],[11,0,12,16],[11,21,12,33],[13,0,13,1],[13,21,13,24],[13,25,13,26],[13,28,13,29],[13,30,13,31],[13,32,13,33],[14,0,14,1],[14,21,14,24],[14,25,14,26],[14,27,21,27],[14,28,14,29],[14,30,14,31],[14,32,14,33],[14,61,14,62],[15,0,15,1],[15,21,15,24],[15,25,15,26],[15,28,15,29],[15,30,15,31],[15,32,15,33],[15,44,15,45],[15,61,15,62],[16,0,16,1],[16,21,16,24],[16,25,16,26],[16,28,16,29],[16,30,16,31],[16,32,16,33],[16,44,16,45],[16,61,16,62],[17,0,17,1],[17,21,17,24],[17,25,17,26],[17,28,17,29],[17,30,17,31],[17,32,17,33],[17,44,17,45],[17,61,17,62],[18,0,18,1],[18,21,18,24],[18,25,18,26],[18,28,18,29],[18,30,18,31],[18,32,18,33],[18,44,18,45],[18,61,18,62],[19,21,19,24],[19,25,19,26],[19,28,19,29],[19,30,19,31],[19,32,19,33],[19,44,19,45],[19,61,19,62],[20,21,20,24],[20,25,20,26],[20,28,20,29],[20,30,20,31],[20,32,20,33],[20,44,20,45],[20,61,20,62],[21,21,21,24],[21,25,21,26],[21,28,21,29],[21,30,21,31],[21,32,21,33],[22,3,23,6],[22,30,22,31],[22,32,22,33],[22,44,22,45],[22,61,22,62],[23,44,23,45],[23,61,23,62],[24,44,24,45],[24,61,24,62],[24,92,24,93],[25,25,25,29],[25,44,25,45],[25,61,25,62],[25,92,25,93],[26,0,26,2],[26,27,26,28],[26,44,26,45],[26,61,26,62],[27,0,29,0],[27,1,27,2],[27,27,27,28],[27,44,27,45],[27,61,27,62],[28,1,28,2],[28,27,28,28],[28,44,28,45],[28,61,28,62],[29,1,29,2],[29,27,29,28],[29,44,29,45],[29,61,29,62],[30,0,32,0],[30,1,30,2],[30,27,30,28],[30,44,30,45],[30,61,30,62],[31,1,31,2],[31,27,31,28],[31,44,31,45],[31,61,31,62],[31,93,31,94],[32,1,32,2],[32,27,32,28],[32,44,32,45],[32,61,32,62],[32,93,32,94],[33,0,35,0],[33,1,33,2],[33,27,33,28],[33,44,33,45],[33,61,33,62],[33,93,33,94],[34,1,34,2],[34,27,34,28],[34,44,34,45],[34,61,34,62],[34,93,34,94],[35,1,35,2],[35,27,35,28],[35,44,35,45],[35,61,35,62],[35,93,35,94],[36,0,36,2],[36,93,36,94],[37,0,37,2],[37,93,37,94],[38,0,40,0],[38,1,38,2],[38,44,38,45],[38,93,38,94],[39,1,39,2],[39,44,39,45],[39,93,39,94],[40,1,40,2],[40,44,40,45],[40,93,40,94],[41,0,43,0],[41,1,41,2],[41,44,41,45],[41,93,41,94],[42,1,42,2],[42,44,42,45],[42,93,42,94],[43,1,43,2],[43,44,43,45],[44,0,47,0],[44,1,44,2],[44,44,44,45],[45,1,46,2],[47,1,47,2],[48,0,50,0],[48,1,48,2],[49,1,49,2],[50,1,50,2]]}
["This is The Property of NOR DESIGN SOLUTION"]
[]
[]
[]
[]
["এক্সেল শীট বিষয়ক কিছু জানার থাকলে বা আপডেট নিয়ে কোন পরামর্শ থাকলে আমাদের সাথে যোগাযোগ করুন অথবা ওয়েবসাইটে কমেন্ট করুন"]
["এক্সেল শীট সম্পর্কে যাবতীয় তথ্য বিস্তারিত জানতে ভিজিট করুন আমাদের ইউটিউব চ্যানেলে"]
[]
["Click Here To Watch The Floor Beam Estimate video"]
[]
[{"$nulls":47},"Cement","Sand","Stone","Rod","Casting","Excavation","Sand Filling ","Formwork","Brick Nos","Bricl Flat Soling ","C.c"]
["Floor Beam Estimate",{"$nulls":20},"Floor Beam Estimate and Price",{"$nulls":25},{"$f":"AC15","v":{"v":0,"d":"0 Bag"}},{"$f":"AC16","v":{"v":0,"d":"0 CFT"}},{"$f":"BJ18+AB15*BJ18/100","v":0},{"$f":"AC18","v":{"v":0,"d":"0.000 Ton"}},{"$f":"AC22","v":{"v":0,"d":"0 CFT"}},null,{"$f":"AC19","v":{"v":0,"d":"0 CFT"}},{"$f":"AC21","v":{"v":0,"d":"0 SFT"}},{"$f":"BJ19+AB15*BJ19/100","v":0},{"$f":"AC20","v":{"v":0,"d":"0 Nos"}}]
[]
["Description",null,"Type-1","Type-2","Type-3","Type-4","Type-5","Type-6","Type-7","Type-8","Type-9","Type-10","Type-11","Type-12","Type-13","Type-14","Type-15",{"$nulls":4},"DESCRIPTION",{"$nulls":3},"Quantity",null,"Wastage Add","Quantity (Wastage Add)",null,"Rate",null,"Amount TK"]
["Beam Nos",{"$nulls":20},"Cement",{"$nulls":3},{"$f":"BJ16","v":{"v":0,"d":"0 Bag"}},null,{"v":0,"d":"0 % ADD"},{"$f":"Z15+$AB$15*Z15/100","v":{"v":0,"d":"0 Bag"}},null,{"v":600,"d":"600.00 TK"},null,{"$f":"AC15*AE15","v":{"v":0,"d":"0 TK"}},{"$nulls":28},"Sum"]
["Beam Height,H (inh)",{"$nulls":20},"Sand ",{"$nulls":3},{"$f":"BJ17","v":{"v":0,"d":"0 CFT"}},null,null,{"v":0,"d":"0 CFT"},null,{"v":45,"d":"45.00 TK"},null,{"v":0,"d":"0 TK"},{"$nulls":11},"Cement ",null,{"$f":"IF(C15>0,(AU20*$D$25*1.54)/($G$25*1.25),\"0\")","v":"0"},{"$f":"IF(D15>0,(AV20*$D$25*1.54)/($G$25*1.25),\"0\")","v":"0"},"0","0","0","0","0","0","0","0","0","0","0","0","0",{"$f":"SUM(AU16:BI16)","v":{"v":0,"d":"0 Bag"}}]
["Beam Breadth,B (inh)",{"$nulls":20},"Stone/Brick Chips",{"$nulls":3},{"$f":"VLOOKUP(V17,BM22:BN23,2,0)","v":0},null,null,0,null,{"v":12,"d":"12.00 TK"},null,{"v":0,"d":"0 TK"},{"$nulls":11},"Sand ",null,{"$f":"IF(C15>0,(AU20*1.54*$E$25)/$G$25,\"0\")","v":"0"},{"$f":"IF(D15>0,(AV20*1.54*$E$25)/$G$25,\"0\")","v":"0"},"0","0","0","0","0","0","0","0","0","0","0","0","0",{"$f":"SUM(AU17:BI17)","v":0}]
["Total Beam Length,L (ft)",{"$nulls":20},"Rod/Reber",{"$nulls":3},{"$f":"SUM(BJ24:BK30)/1000","v":{"v":0,"d":"0.000 Ton"}},null,null,{"v":0,"d":"0.000 Ton"},null,{"v":100000,"d":"100000.00 TK"},null,{"v":0,"d":"0 TK"},{"$nulls":11},"Stone/Brick Chips",null,{"$f":"IF(C15>0,(AU20*1.54*$F$25)/$G$25,\"0\")","v":"0"},{"$f":"IF(D15>0,(AV20*1.54*$F$25)/$G$25,\"0\")","v":"0"},"0","0","0","0","0","0","0","0","0","0","0","0","0",0]
["(-) All Column Size (ft)",{"$nulls":20},"Sand Fill",{"$nulls":3},{"$f":"BJ22","v":{"v":0,"d":"0 CFT"}},null,null,{"v":0,"d":"0 CFT"},null,{"v":45,"d":"45.00 TK"},null,{"v":0,"d":"0 TK"},{"$nulls":11},"Brick Nos",null,{"$f":"IF(C15>0,AU18*9.5,\"0\")","v":"0"},{"$f":"IF(D15>0,AV18*9.5,\"0\")","v":"0"},"0","0","0","0","0","0","0","0","0","0","0","0","0",0,{"$nulls":24},{"v":3,"d":"3.00'"},null,null,{"v":14.83,"d":"14.83 '"},null,null,{"v":8.25,"d":"8.25 '"},{"$nulls":3},{"v":14.83,"d":"14.83 '"},null,null,{"v":3,"d":"3.00'"}]
[{"$nulls":21},"Brick Flat soling",{"$nulls":3},{"$f":"BJ21*3","v":{"v":0,"d":"0  Nos"}},null,null,{"v":0,"d":"0 Nos"},null,{"v":10,"d":"10.00 TK"},null,{"v":0,"d":"0 TK"},{"$nulls":11},"Casting",null,{"$f":"IF(C15>0,((C16/12)*(C17/12)*(C18-C19)*C15),\"0\")","v":"0"},{"$f":"IF(D15>0,((D16/12)*(D17/12)*(D18-D19)*D15),\"0\")","v":"0"},"0","0","0","0","0","0","0","0","0","0","0","0","0",0]
[{"$nulls":21},"Formwork ",{"$nulls":3},{"$f":"BJ23","v":{"v":0,"d":"0 SFT"}},null,null,{"v":0,"d":"0 SFT"},null,{"v":36,"d":"36.00 TK"},null,{"v":0,"d":"0 TK"},{"$nulls":11},"Brick Flat",null,{"$f":"IF(C15>0,IF(C20>0,((C16/12)*(C18-C19)*C15),\"0\"),\"0\")","v":"0"},{"$f":"IF(D15>0,IF(D20>0,((D16/12)*(D18-D19)*D15),\"0\"),\"0\")","v":"0"},"0","0","0","0","0","0","0","0","0","0","0","0","0",0,{"$nulls":25},{"$f":"(CL19/3)+CI19","v":{"v":7.943333333333333,"d":"7.94 '"}},{"$nulls":3},{"$f":"(CL19/3)+(CO19/3)","v":{"v":7.693333333333333,"d":"7.69 '"}},null,null,{"$f":"(CO19/3)+(CS19/3)","v":{"v":7.693333333333333,"d":"7.69 '"}},{"$nulls":3},{"$f":"(CS19/3)+CV19","v":{"v":7.943333333333333,"d":"7.94 '"}}]
[{"$nulls":21},"Casting ",{"$nulls":3},{"$f":"BJ20","v":{"v":0,"d":"0 CFT"}},null,null,{"v":0,"d":"0 CFT"},null,{"v":37,"d":"37.00 TK"},null,{"$f":"AC22*AE22","v":{"v":0,"d":"0 TK"}},{"$nulls":31},"Stone/Brick Chips",{"$f":"BJ18","v":0},{"$nulls":21},"A",{"$nulls":3},"B",null,null,"C",{"$nulls":3},"D"]
[{"$nulls":3},"Rcc casting Ratio",{"$nulls":26},"Total Cost=",null,{"$f":"SUM(AG15:AH22)","v":{"v":0,"d":"0 TK"}},{"$nulls":11},"Formwork",null,{"$f":"IF(C15>0,((C18-C19)*(C16+C16)/12)*C15+((C18-C19)*C17/12*C15),\"0\")","v":"0"},{"$f":"IF(D15>0,((D18-D19)*(D16+D16)/12)*D15+((D18-D19)*D17/12*D15),\"0\")","v":"0"},"0","0","0","0","0","0","0","0","0","0","0","0","0",0,null,null,"Brick Nos",{"$f":"BJ19","v":0},{"$nulls":21},"SG+BN16:BY22"]
[{"$nulls":44},"Large Dia  ",null,{"$f":"IF(C15>0,(D28^2/532)*D29*((C18-C19)-(4*D38/12)+(2*D37/12))*C15,\"0\")","v":"0"},{"$f":"IF(D15>0,(E28^2/532)*E29*((D18-D19)-(4*E38/12)+(2*E37/12))*D15,\"0\")","v":"0"},"0","0","0","0","0","0","0","0","0","0","0","0","0",0]
[{"$nulls":3},1,1.5,3,{"$f":"SUM(D25:F25)","v":5.5},{"$nulls":37},"Small Dia  ",null,{"$f":"IF(C15>0,(D31^2/532)*D32*((C18-C19)-(4*D38/12)+(2*D37/12))*C15,\"0\")","v":"0"},{"$f":"IF(D15>0,(E31^2/532)*E32*((D18-D19)-(4*E38/12)+(2*E37/12))*D15,\"0\")","v":"0"},"0","0","0","0","0","0","0","0","0","0","0","0","0",0,{"$nulls":30},"A+B+C+D"]
[{"$nulls":25}," Reinforcement ",{"$nulls":18},"Medial Dia  ",null,{"$f":"IF(C15>0,(D34^2/532)*D35*((C18-C19)-(4*D38/12)+(2*D37/12))*C15,\"0\")","v":"0"},{"$f":"IF(D15>0,(E34^2/532)*E35*((D18-D19)-(4*E38/12)+(2*E37/12))*D15,\"0\")","v":"0"},"0","0","0","0","0","0","0","0","0","0","0","0","0",0,{"$nulls":30},{"$f":"CJ21+CN21+CQ21+CU21","v":{"v":31.273333333333333,"d":"31.27 '"}}]
["Beam Rebar Calculation",null,null,"Type-1","Type-2","Type-3","Type-4","Type-5","Type-6","Type-7","Type-8","Type-9","Type-10","Type-11","Type-12","Type-13","Type-14","Type-15",{"$nulls":8},10,{"$f":"IF(AA27>0,SUMIF($AU$39:$BI$45,AA27,$BK$39:$BY$45),\"\")","v":{"v":0,"d":"0 KG"}},{"$nulls":16}," Extra Top",null,{"$f":"IF(C15>0,IF(D41>0,(D39^2/532)*D40*D41*C15+(2*D37/12),\"0\"),\"0\")","v":"0"},{"$f":"IF(D15>0,IF(E41>0,(E39^2/532)*E40*E41*D15+(2*E37/12),\"0\"),\"0\")","v":"0"},"0","0","0","0","0","0","0","0","0","0","0","0","0",0]
["Large Dia ","Rebar Size (mm)",{"$nulls":24},12,{"$f":"IF(AA28>0,SUMIF($AU$39:$BI$45,AA28,$BK$39:$BY$45),\"\")","v":{"v":0,"d":"0 KG"}},{"$nulls":16}," Extra Bottom",null,{"$f":"IF(C15>0,IF(D44>0,(D42^2/532)*D43*D44*C15+(2*D37/12),\"0\"),\"0\")","v":"0"},{"$f":"IF(D15>0,IF(E44>0,(E42^2/532)*E43*E44*D15+(2*E37/12),\"0\"),\"0\")","v":"0"},"0","0","0","0","0","0","0","0","0","0","0","0","0",0]
[null,"Rebar Nos",{"$nulls":24},16,{"v":0,"d":"0 KG"},{"$nulls":16},"Sttriup-1",null,{"$f":"IF(D45>0,IF(C15>0,(D45^2/532)*AU31*AU32*C15,\"0\"),\"0\")","v":"0"},{"$f":"IF(E45>0,IF(D15>0,(E45^2/532)*AV31*AV32*D15,\"0\"),\"0\")","v":"0"},"0","0","0","0","0","0","0","0","0","0","0","0","0",0]
[null,"Lapping (ft)",{"$nulls":24},20,{"v":0,"d":"0 KG"},{"$nulls":16},"Sttriup-2",null,{"$f":"IF(C15>0,IF(D49>0,(D49^2/532)*AU34*AU35*C15,\"0\"),\"0\")","v":"0"},{"$f":"IF(D15>0,IF(E49>0,(E49^2/532)*AV34*AV35*D15,\"0\"),\"0\")","v":"0"},"0","0","0","0","0","0","0","0","0","0","0","0","0",0]
["Small Dia","Rebar Size (mm)",{"$nulls":24},25,{"v":0,"d":"0 KG"},{"$nulls":16},"Sttriup-1 Nos",null,{"$f":"IF(D45>0,IF(C15>0,(C18-C19)/(AU33/12)+1,\"0\"),\"0\")","v":"0"},{"$f":"IF(E45>0,IF(D15>0,(D18-D19)/(AV33/12)+1,\"0\"),\"0\")","v":"0"},"0","0","0","0","0","0","0","0","0","0","0","0","0",0]
[null,"Rebar Nos",{"$nulls":25},"",{"$nulls":16},"Sttriup-1 (L)",null,{"$f":"IF(C15>0,(((2*C16)+(2*C17))-(D38*8)+(D48*2))/12,\"0\")","v":"0"},{"$f":"IF(D15>0,(((2*D16)+(2*D17))-(E38*8)+(E48*2))/12,\"0\")","v":"0"},"0","0","0","0","0","0","0","0","0","0","0","0","0",0,{"$nulls":29},"Name","NOS","A+B+C+D "]
[null,"Lapping (ft)",{"$nulls":25},"",{"$nulls":16},"Sttriup-1 (c/c)",null,{"$f":"IF(C15>0,(D46+D47)/2,\"0\")","v":"0"},{"$f":"IF(D15>0,(E46+E47)/2,\"0\")","v":"0"},"0","0","0","0","0","0","0","0","0","0","0","0","0",0,{"$nulls":29},"GB-1",1,{"$f":"IF(CO33>0,(CJ21+CN21+CQ21+CU21)*CO33,\"\")","v":{"v":31.273333333333333,"d":"31.27 '"}}]
["Medial Bar","Rebar Size (mm)",{"$nulls":25},"",{"$nulls":16},"Sttriup-2 Nos",null,{"$f":"IF(D45>0,IF(D49>0,(C18-C19)/(D50/12)+1,\"0\"),\"0\")","v":"0"},{"$f":"IF(E45>0,IF(E49>0,(D18-D19)/(E50/12)+1,\"0\"),\"0\")","v":"0"},"0","0","0","0","0","0","0","0","0","0","0","0","0",0,{"$nulls":29},"GB-2",null,{"$f":"IF(CO34>0,(CJ22+CN22+CQ22+CU22)*CO34,\"\")","v":""}]
[null,"Rebar Nos",{"$nulls":25},"",{"$nulls":16},"Sttriup-2 (L)",null,{"$f":"IF(D49>0,IF(C15>0,(((2*C16)+(2*C17))-(D38*8)+(D51*2))/12,\"0\"),\"0\")","v":"0"},{"$f":"IF(E49>0,IF(D15>0,(((2*D16)+(2*D17))-(E38*8)+(E51*2))/12,\"0\"),\"0\")","v":"0"},"0","0","0","0","0","0","0","0","0","0","0","0","0",0,{"$nulls":29},"GB-3",null,{"$f":"IF(CO35>0,(CJ23+CN23+CQ23+CU23)*CO35,\"\")","v":""}]
[null,"Lapping (ft)",{"$nulls":42},"Sttriup-2 (c/c)",{"$nulls":16},0,{"$nulls":29},"GB-4",null,{"$f":"IF(CO36>0,(CJ24+CN24+CQ24+CU24)*CO36,\"\")","v":""}]
["Development length (inh)",{"$nulls":90},"GB-5",null,{"$f":"IF(CO37>0,(CJ25+CN25+CQ25+CU25)*CO37,\"\")","v":""}]
["Clear Cover (inh)",{"$nulls":90},"GB-6",null,{"$f":"IF(CO38>0,(CN32+CN26+CQ26+CU26)*CO38,\"\")","v":""}]
["Extra Top","Rebar Size (mm)",{"$nulls":42},"Large Dia  ",null,{"$f":"D28","v":{"v":0,"d":"0 MM"}},{"v":0,"d":"0 MM"},{"v":0,"d":"0 MM"},{"v":0,"d":"0 MM"},{"v":0,"d":"0 MM"},{"v":0,"d":"0 MM"},{"v":0,"d":"0 MM"},{"v":0,"d":"0 MM"},{"v":0,"d":"0 MM"},{"v":0,"d":"0 MM"},{"v":0,"d":"0 MM"},{"v":0,"d":"0 MM"},{"v":0,"d":"0 MM"},{"v":0,"d":"0 MM"},{"v":0,"d":"0 MM"},null,{"$f":"IF(C15>0,AU24+$AB$15*AU24/100,\"\")","v":""},{"$f":"IF(D15>0,AV24+$AB$15*AV24/100,\"\")","v":""},"","","","","","","","","","","","","",{"$nulls":14},"GB-7",null,{"$f":"IF(CO39>0,(CN33+CN27+CQ27+CU27)*CO39,\"\")","v":""}]
[null,"Rebar Nos",{"$nulls":42},"Small Dia  ",null,{"$f":"D31","v":{"v":0,"d":"0 MM"}},{"v":0,"d":"0 MM"},{"v":0,"d":"0 MM"},{"v":0,"d":"0 MM"},{"v":0,"d":"0 MM"},{"v":0,"d":"0 MM"},{"v":0,"d":"0 MM"},{"v":0,"d":"0 MM"},{"v":0,"d":"0 MM"},{"v":0,"d":"0 MM"},{"v":0,"d":"0 MM"},{"v":0,"d":"0 MM"},{"v":0,"d":"0 MM"},{"v":0,"d":"0 MM"},{"v":0,"d":"0 MM"},null,{"$f":"IF(C15>0,AU25+$AB$15*AU25/100,\"\")","v":""},{"$f":"IF(D15>0,AV25+$AB$15*AV25/100,\"\")","v":""},"","","","","","","","","","","","","",{"$nulls":14},"GB-8",null,{"$f":"IF(CO40>0,(CN34+CN28+CQ28+CU28)*CO40,\"\")","v":""}]
[null,"Length (ft)",{"$nulls":42},"Medial Dia  ",null,{"$f":"D34","v":{"v":0,"d":"0 MM"}},{"v":0,"d":"0 MM"},{"v":0,"d":"0 MM"},{"v":0,"d":"0 MM"},{"v":0,"d":"0 MM"},{"v":0,"d":"0 MM"},{"v":0,"d":"0 MM"},{"v":0,"d":"0 MM"},{"v":0,"d":"0 MM"},{"v":0,"d":"0 MM"},{"v":0,"d":"0 MM"},{"v":0,"d":"0 MM"},{"v":0,"d":"0 MM"},{"v":0,"d":"0 MM"},{"v":0,"d":"0 MM"},null,{"$f":"IF(C15>0,AU26+$AB$15*AU26/100,\"\")","v":""},{"$f":"IF(D15>0,AV26+$AB$15*AV26/100,\"\")","v":""},"","","","","","","","","","","","","",{"$nulls":14},"GB-9",null,{"$f":"IF(CO41>0,(CN35+CN29+CQ29+CU29)*CO41,\"\")","v":""}]
["Extra Bottom","Rebar Size (mm)",{"$nulls":42}," Extra Top",null,{"$f":"D39","v":{"v":0,"d":"0 MM"}},{"v":0,"d":"0 MM"},{"v":0,"d":"0 MM"},{"v":0,"d":"0 MM"},{"v":0,"d":"0 MM"},{"v":0,"d":"0 MM"},{"v":0,"d":"0 MM"},{"v":0,"d":"0 MM"},{"v":0,"d":"0 MM"},{"v":0,"d":"0 MM"},{"v":0,"d":"0 MM"},{"v":0,"d":"0 MM"},{"v":0,"d":"0 MM"},{"v":0,"d":"0 MM"},{"v":0,"d":"0 MM"},null,{"$f":"IF(C15>0,AU27+$AB$15*AU27/100,\"\")","v":""},{"$f":"IF(D15>0,AV27+$AB$15*AV27/100,\"\")","v":""},"","","","","","","","","","","","","",{"$nulls":14},"GB-10",null,{"$f":"IF(CO42>0,(CN36+CN30+CQ30+CU30)*CO42,\"\")","v":""}]
[null,"Rebar Nos",{"$nulls":42}," Extra Bottom",null,{"$f":"D42","v":{"v":0,"d":"0 MM"}},{"v":0,"d":"0 MM"},{"v":0,"d":"0 MM"},{"v":0,"d":"0 MM"},{"v":0,"d":"0 MM"},{"v":0,"d":"0 MM"},{"v":0,"d":"0 MM"},{"v":0,"d":"0 MM"},{"v":0,"d":"0 MM"},{"v":0,"d":"0 MM"},{"v":0,"d":"0 MM"},{"v":0,"d":"0 MM"},{"v":0,"d":"0 MM"},{"v":0,"d":"0 MM"},{"v":0,"d":"0 MM"},null,{"$f":"IF(C15>0,AU28+$AB$15*AU28/100,\"\")","v":""},{"$f":"IF(D15>0,AV28+$AB$15*AV28/100,\"\")","v":""},"","","","","","","","","","","","","",{"$nulls":15},"TOTAL=",{"$f":"SUM(CP33:CQ42)","v":{"v":31.273333333333333,"d":"31.27 '"}}]
[null,"Length (ft)",{"$nulls":42},"Sttriup-1",null,{"$f":"D45","v":{"v":0,"d":"0 MM"}},{"v":0,"d":"0 MM"},{"v":0,"d":"0 MM"},{"v":0,"d":"0 MM"},{"v":0,"d":"0 MM"},{"v":0,"d":"0 MM"},{"v":0,"d":"0 MM"},{"v":0,"d":"0 MM"},{"v":0,"d":"0 MM"},{"v":0,"d":"0 MM"},{"v":0,"d":"0 MM"},{"v":0,"d":"0 MM"},{"v":0,"d":"0 MM"},{"v":0,"d":"0 MM"},{"v":0,"d":"0 MM"},null,{"$f":"IF(C15>0,AU29+$AB$15*AU29/100,\"\")","v":""},{"$f":"IF(D15>0,AV29+$AB$15*AV29/100,\"\")","v":""},"","","","","","","","","","","","",""]
["Sttriup-1","Rebar Size (mm)",{"$nulls":42},"Sttriup-2",null,{"$f":"AU44","v":{"v":0,"d":"0 MM"}},{"$f":"AV44","v":{"v":0,"d":"0 MM"}},{"v":0,"d":"0 MM"},{"v":0,"d":"0 MM"},{"v":0,"d":"0 MM"},{"v":0,"d":"0 MM"},{"v":0,"d":"0 MM"},{"v":0,"d":"0 MM"},{"v":0,"d":"0 MM"},{"v":0,"d":"0 MM"},{"v":0,"d":"0 MM"},{"v":0,"d":"0 MM"},{"v":0,"d":"0 MM"},{"v":0,"d":"0 MM"},{"v":0,"d":"0 MM"},null,{"$f":"IF(C15>0,AU30+$AB$15*AU30/100,\"\")","v":""},{"$f":"IF(D15>0,AV30+$AB$15*AV30/100,\"\")","v":""},"","","","","","","","","","","","",""]
[null,"Specing (inch)"]
[]
[null,"Houck lenght (inch)"]
["Sttriup-2","Rebar Size (mm)"]
[null,"Specing (inch)"]
[null,"Houck lenght (inch)"]

{"sheet":"Stair","index":11,"n_rows":212,"n_cols":103,"rows_kept":212,"hidden":true,"merged":[[0,0,2,17],[3,0,4,17],[5,0,5,17],[6,0,7,17],[8,0,8,17],[11,0,13,10],[12,19,13,30],[14,2,14,5],[14,6,14,8],[14,19,14,21],[14,22,14,23],[14,25,14,26],[14,27,14,28],[14,29,14,30],[15,6,15,8],[15,19,15,21],[15,22,15,23],[15,24,20,24],[15,25,15,26],[15,27,15,28],[15,29,15,30],[16,6,16,8],[16,19,16,21],[16,22,16,23],[16,25,16,26],[16,27,16,28],[16,29,16,30],[17,6,17,7],[17,19,17,21],[17,22,17,23],[17,25,17,26],[17,27,17,28],[17,29,17,30],[18,6,18,7],[18,19,18,21],[18,22,18,23],[18,25,18,26],[18,27,18,28],[18,29,18,30],[19,19,19,21],[19,22,19,23],[19,25,19,26],[19,27,19,28],[19,29,19,30],[20,19,20,21],[20,22,20,23],[20,25,20,26],[20,27,20,28],[20,29,20,30],[20,95,20,99],[21,27,21,28],[21,29,21,30],[21,95,21,97],[22,3,25,6],[22,69,23,71],[22,72,23,74],[22,80,24,91],[22,95,22,96],[23,95,23,96],[24,23,24,27],[24,69,24,70],[24,72,24,73],[24,75,24,76],[24,95,24,96],[25,25,25,26],[25,69,25,70],[25,72,25,73],[25,75,25,76],[25,80,25,82],[25,83,25,85],[25,86,25,88],[25,89,25,91],[25,95,25,96],[26,25,26,26],[26,69,26,70],[26,72,26,73],[26,75,26,76],[26,95,26,96],[27,3,27,4],[27,5,27,6],[27,25,27,26],[27,69,27,70],[27,72,27,73],[27,75,27,76],[27,95,27,96],[28,3,28,4],[28,5,28,6],[28,25,28,26],[28,69,28,70],[28,95,28,96],[29,3,29,4],[29,5,29,6],[29,25,29,26],[29,95,29,96],[30,3,30,4],[30,5,30,6],[30,25,30,26],[30,95,30,96],[31,3,31,4],[31,5,31,6],[31,25,31,26],[31,95,31,96],[32,3,32,4],[32,5,32,6],[32,25,32,26],[32,95,32,96],[33,3,33,4],[33,5,33,6],[33,25,33,26],[33,95,33,96],[34,3,34,4],[34,5,34,6],[34,25,34,26],[34,95,34,96],[35,3,35,4],[35,5,35,6],[35,95,35,96],[36,3,36,4],[36,5,36,6],[36,95,36,96],[37,3,37,4],[37,5,37,6],[38,3,38,4],[38,5,38,6],[38,70,39,72],[39,3,42,6],[39,95,39,96],[40,70,40,71],[40,95,40,96],[41,70,41,71],[41,95,41,96],[42,70,42,71],[42,95,42,96],[43,70,43,71],[43,95,43,96],[44,70,44,71],[44,95,44,96],[45,70,45,71],[45,95,45,96],[46,70,46,71],[47,70,47,71],[48,0,50,10],[48,70,48,71],[49,70,49,71],[50,70,50,71],[51,0,51,1],[51,3,52,6],[51,7,51,9],[52,0,52,1],[52,7,53,7],[52,8,52,9],[53,0,53,1],[53,8,53,9],[54,0,54,1],[54,7,55,7],[54,8,54,9],[55,0,55,1],[55,8,55,9],[56,7,56,9],[57,7,59,7],[57,8,57,9],[58,8,58,9],[59,8,59,9],[165,43,165,46],[165,47,165,48],[166,43,166,46],[166,47,166,48],[167,43,167,46],[167,47,167,48],[168,43,168,46],[168,47,168,48],[169,43,169,46],[169,47,169,48],[170,43,170,46],[170,47,170,48],[171,43,171,46],[171,47,171,48],[176,30,177,35],[176,43,177,45],[176,46,177,48],[178,43,178,44],[178,46,178,47],[179,43,179,44],[179,46,179,47],[180,43,180,44],[180,46,180,47],[181,43,181,44],[202,45,202,49],[203,47,203,48],[204,47,204,48],[205,47,205,48],[206,47,206,48],[207,47,207,48],[208,47,208,48],[209,47,209,48],[210,47,210,48],[211,47,211,48]]}
["This is The Property of NOR DESIGN SOLUTION"]
[]
[]
[]
[]
["এক্সেল শীট বিষয়ক কিছু জানার থাকলে বা আপডেট নিয়ে কোন পরামর্শ থাকলে আমাদের সাথে যোগাযোগ করুন অথবা ওয়েবসাইটে কমেন্ট করুন"]
["এক্সেল শীট সম্পর্কে যাবতীয় তথ্য বিস্তারিত জানতে ভিজিট করুন আমাদের ইউটিউব চ্যানেলে"]
[]
["Click Here To Watch The stair Estimate video"]
[]
[]
["Stair Estimated"]
[{"$nulls":19},"Stair Estimated and Price     "]
[]
["Stair Nos",null,"RCC (Casting Ratio)",{"$nulls":3},"Stair Reinforcement ",null,null,"Dia","C/C",{"$nulls":8},"DESCRIPTION",null,null," Quantity",null,"Wastage Add","Quantity (Wastage Add)",null,"Rate",null,"Amount TK"]
["Stair Length, L (ft)",null,1,1.5,3,{"$f":"SUM(C16:E16)","v":5.5}," Main Rod ",{"$nulls":12},"Cement",null,null,{"$f":"CV23","v":{"v":0,"d":"0 Bag"}},null,{"v":0,"d":"0 % ADD"},{"$f":"W16+$Y$16*W16/100","v":{"v":0,"d":"0 Bag"}},null,{"v":600,"d":"600.00 TK"},null,{"$f":"Z16*AB16","v":{"v":0,"d":"0 TK"}}]
["Stair Breadth,B (ft)",{"$nulls":5}," Main Rod Binder ",{"$nulls":12},"Sand ",null,null,{"$f":"CV24","v":{"v":0,"d":"0 CFT"}},null,null,{"$f":"W17+$Y$16*W17/100","v":{"v":0,"d":"0 CFT"}},null,{"v":45,"d":"45.00 TK"},null,{"$f":"Z17*AB17","v":{"v":0,"d":"0 TK"}}]
["Lobby Breadth,B (ft)",{"$nulls":5},"Extra top rod  ",null,"L/3",{"$nulls":10},"Brick Nos",null,null,{"$f":"VLOOKUP(T18,CX27:CY28,2,0)","v":0},null,null,0,null,{"v":15,"d":"15.00 TK"},null,{"v":0,"d":"0 TK"},{"$nulls":40},"Cement","Sand","Stone","Rod","Casting","Excavation","Sand Filling ","Formwork","Brick Nos","Bricl Flat Soling ","C.c"]
["Landing Breadth,B (ft)",{"$nulls":5},"Extra top Rod  Binder  ",null,{"$f":"I18","v":"L/3"},{"$nulls":10},"Rod/Reber",null,null,{"$f":"SUM(CV31:CV37)/1000","v":{"v":0,"d":"0.000 Ton"}},null,null,{"v":0,"d":"0.000 Ton"},null,{"v":100000,"d":"100000.00 TK"},null,{"v":0,"d":"0 TK"},{"$nulls":40},{"$f":"Z16","v":{"v":0,"d":"0 Bag"}},{"$f":"Z17","v":{"v":0,"d":"0 CFT"}},{"$f":"CV25+Y16*CV25/100","v":0},{"$f":"Z19","v":{"v":0,"d":"0.000 Ton"}},{"$f":"Z21","v":{"v":0,"d":"0 CFT"}},null,null,{"$f":"Z20","v":{"v":0,"d":"0 SFT"}},{"$f":"CV26+Y16*CV26/100","v":0}]
["Clear Cover ",{"$nulls":18},"Formwork ",null,null,{"$f":"CV28","v":{"v":0,"d":"0 SFT"}},null,null,{"v":0,"d":"0 SFT"},null,{"v":45,"d":"45.00 TK"},null,{"v":0,"d":"0 TK"}]
["Trade",{"$nulls":18},"Casting ",null,null,{"$f":"CV27","v":{"v":0,"d":"0 CFT"}},null,null,{"v":0,"d":"0 CFT"},null,{"v":46,"d":"46.00 TK"},null,{"$f":"Z21*AB21","v":{"v":0,"d":"0 TK"}},{"$nulls":65},"Total"]
["Riser",null,null," Flight =",{"$f":"D23/2","v":{"v":0,"d":"0.00 '"}}," Flight =",{"$f":"D23/2","v":{"v":0,"d":"0.00 '"}},{"$nulls":20},"Total Cost=",null,{"$f":"SUM(AD16:AE21)","v":{"v":0,"d":"0 TK"}},{"$nulls":65},"Beam",null,null,"Stair","sum"]
["Landing Height (ft)",null,null,{"$f":"B17","v":{"v":0,"d":"0.00 '"}},{"$nulls":65},"Casting Calculation",null,null,"Formwork Claculation",{"$nulls":7},"Rebar Claculation",{"$nulls":14},"Cement ",null,{"$f":"BU41","v":""},{"$f":"BZ25","v":""},{"$f":"SUM(CT23:CU23)","v":{"v":0,"d":"0 Bag"}}]
["West Slab (inch)",{"$nulls":6},"Landing",{"$f":"B19","v":{"v":0,"d":"0.00 '"}},{"$nulls":86},"Sand ",null,"",{"$f":"BZ26","v":""},{"$f":"SUM(CT24:CU24)","v":0}]
[{"$nulls":23}," Reinforcement ",{"$nulls":45},"Landing",null,{"$f":"IF(B15>0,B19*D23*(B24/12),\"\")","v":""},"Landing",null,{"$f":"IF(B15>0,((B19*B17)+(B17+B17+B19+B19)*((B24+2)/12)),\"\")","v":""},"Cement",null,{"$f":"IF(B15>0,(BT29*$C$16*1.5)/($F$16*1.25),\"\")","v":""},{"$nulls":17},"Stone/Brick Chips",null,"",{"$f":"BZ27","v":""},0]
["Trade",{"$f":"IF(B15>0,B27-1,\"\")","v":""},{"$nulls":22},10,{"$f":"IF(Y26>0,SUMIF($CT$40:$CT$46,Y26,$CV$40:$CV$46)+$Y$16*SUMIF($CT$40:$CT$46,Y26,$CV$40:$CV$46)/100,\"\")","v":{"v":0,"d":"0 KG"}},{"$nulls":43},"Lobby Casting",null,{"$f":"IF(B15>0,(B18*D23*(B24/12)),\"\")","v":""},"Lobby",null,{"$f":"IF(B15>0,((B18*B17)+(B17+B18+B18)+(B18+B18)*((B24+2)/12)),\"\")","v":""},"Sand ",null,{"$f":"IF(B15>0,(BT29*$D$16*1.5)/$F$16,\"\")","v":""},null,null,"Maind Rod",null,null,"Maind Rod bBnder",null,null,"Extra Top Rod",null,null,"Extra Top Binder",{"$nulls":5},"Brick Nos",null,"",{"$f":"BZ28","v":""},0]
["Riser",{"$f":"IF(B15>0,((B16-(B18+B19))/(B21/12))+1,\"\")","v":""},{"$nulls":11},{"$f":"IF(C33>0,(M31/BU32)+O31,\"\")","v":""},{"$nulls":10},12,{"$f":"IF(Y27>0,SUMIF($CT$40:$CT$46,Y27,$CV$40:$CV$46)+$Y$16*SUMIF($CT$40:$CT$46,Y27,$CV$40:$CV$46)/100,\"\")","v":{"v":0,"d":"0 KG"}},{"$nulls":43},"waist slab",null,{"$f":"IF(B15>0,M31*D23*(B24/12),\"\")","v":""},"waist slab",null,{"$f":"IF(B15>0,(M31*E22)+(E22+E22)*((B24+2)/12),\"\")","v":""},"Stone/Brick Chips",null,{"$f":"IF(B15>0,(BT29*E16*1.5)/$F$16,\"\")","v":""},null,null,"nos","length","kg","nos","length","kg","nos","length","kg","nos","length","kg",{"$nulls":3},"Casting",null,"",{"$f":"BT29","v":{"v":0,"d":"0.00 CFT"}},0,null,"Stone/Brick Chips",{"$f":"CV25","v":0}]
[{"$nulls":24},16,{"v":0,"d":"0 KG"},{"$nulls":43},"trad/riser",null,{"$f":"IF(B15>0,0.5*(B21/12)*(B22/12)*D23*B26,\"\")","v":""},"riser",null,{"$f":"IF(B15>0,(B27*E22*(B22/12))*2,\"\")","v":""},"Brick Nos",null,{"$f":"IF(B15>0,BZ27*9.5,\"\")","v":""},null,null,{"$f":"IF(B15>0,(((E22*12)-(B20*2))/K16)+1,\"\")","v":""},{"$f":"B18+B19+M31","v":{"v":0,"d":"0.0 '"}},{"$f":"IF(B15>0,(((CC28*(J16^2/532))*CD28)*2)*B15,\"\")","v":""},{"$f":"IF(B15>0,((((B18+B19+M31)*12)-(B20*2))/K17)+1,\"\")","v":""},{"$f":"IF(B15>0,(E22-(B20/12)*2),\"\")","v":""},{"$f":"IF(B15>0,(((CF28*(J17^2/532))*CG28)*2)*B15,\"\")","v":""},{"$f":"IF(B15>0,(((E22*12)-(B20*2))/K18)+1,\"\")","v":""},{"$f":"IF(B15>0,(K34+N27),\"\")","v":""},{"$f":"IF(B15>0,((CI28*(J18^2/532))*CJ28)*2,\"\")","v":""},{"$f":"IF(B15>0,((((K34+N27)*12)-(B20*2))/K19)+1,\"\")","v":""},{"$f":"IF(B15>0,(E22-(B20/12)),\"\")","v":""},{"$f":"IF(B15>0,((CL28*(J19^2/532))*CM28)*2,\"\")","v":""},{"$nulls":3},"Formwork",null,"",{"$f":"BW29","v":{"v":0,"d":"0.0 SFT"}},0,null,"Brick Nos",{"$f":"CV26","v":0}]
[{"$nulls":25},"",{"$nulls":43},"Total Csting",null,{"$f":"SUM(BT25:BT28)*B15","v":{"v":0,"d":"0.00 CFT"}},null,"Total",{"$f":"SUM(BW25:BW28)*B15","v":{"v":0,"d":"0.0 SFT"}},{"$nulls":20},"Sttriup Nos",null,{"$f":"BU50","v":""},null,0]
[{"$nulls":25},"",{"$nulls":69},"Sttriup (L)",null,{"$f":"BU51","v":""},null,0]
[{"$nulls":12},{"$f":"IF(B15>0,((((B16)-(B18+B19))^2)+B23^2))^\"0.5\"","v":{"v":0,"d":"0.00 '"}},null,{"$f":"B19","v":{"v":0,"d":"0.00 '"}},{"$nulls":10},"",{"$nulls":69},"Large Dia  ",null,{"$f":"BU47","v":""},null,{"v":0,"d":"0 KG"}]
[{"$nulls":25},"",{"$nulls":44},"L/3",3,{"$f":"VLOOKUP(I18,BS32:BT33,2,0)","v":3},{"$nulls":22},"Small Dia  ",null,{"$f":"BU48","v":""},null,{"v":0,"d":"0 KG"}]
[null,null,{"$f":"B16","v":{"v":0,"d":"0.00 '"}},{"$nulls":13},{"$f":"B23","v":{"v":0,"d":"0.00 '"}},{"$nulls":8},"",{"$nulls":44},"L/4",4,{"$nulls":23},"Sttriup",null,{"$f":"BU49","v":""},null,{"v":0,"d":"0 KG"}]
[{"$nulls":10},{"$f":"IF(B15>0,(M31/BU32)+K39,\"\")","v":""},{"$nulls":14},"",{"$nulls":69},"main dia",null,{"$f":"CE28","v":""},null,{"v":0,"d":"0 KG"}]
[{"$nulls":95},"main dia binder",null,{"$f":"CH28","v":""},null,{"v":0,"d":"0 KG"}]
[{"$nulls":95},"Ex top",null,{"$f":"CK28","v":""},null,{"v":0,"d":"0 KG"}]
[{"$nulls":95},"ex top binder",null,{"$f":"CN28","v":""},null,{"v":0,"d":"0 KG"}]
[]
[{"$nulls":10},{"$f":"B18","v":{"v":0,"d":"0.00 '"}},{"$nulls":59},"Stair Beam"]
[{"$nulls":3},{"$f":"B17","v":{"v":0,"d":"0.00 '"}},{"$nulls":91},"Large Dia  ",null,{"$f":"K53","v":{"v":0,"d":"0 MM"}},null,{"$f":"IF(C53>0,BU47+$Y$16*BU47/100,\"\")","v":""}]
[{"$nulls":70},"Cement ",null,{"$f":"IF(C53>0,(BU45*$D$54*1.54)/($G$54*1.25),\"\")","v":""},{"$nulls":22},"Small Dia  ",null,{"$f":"K55","v":{"v":0,"d":"0 MM"}},null,{"$f":"IF(C53>0,BU48+$Y$16*BU48/100,\"\")","v":""}]
[{"$nulls":7},"Lobby ",{"$f":"B18","v":{"v":0,"d":"0.00 '"}},{"$nulls":61},"Sand ",null,{"$f":"IF(C53>0,(BU45*1.54*$E$54)/$G$54,\"\")","v":""},{"$nulls":22},"Sttriup",null,{"$f":"K58","v":{"v":0,"d":"0 MM"}},null,{"$f":"IF(C53>0,BU49+$Y$16*BU49/100,\"\")","v":""}]
[{"$nulls":70},"Stone/Brick Chips",null,{"$f":"IF(C53>0,(BU45*1.54*$F$54)/$G$54,\"\")","v":""},{"$nulls":22},"main dia",null,{"$f":"J16","v":{"v":0,"d":"0 MM"}},null,{"$f":"IF(B15>0,CT34+$Y$16*CT34/100,\"\")","v":""}]
[{"$nulls":70},"Brick Nos",null,{"$f":"IF(C53>0,BU43*9.5,\"\")","v":""},{"$nulls":22},"main dia binder",null,{"$f":"J17","v":{"v":0,"d":"0 MM"}},null,{"$f":"IF(B15>0,CT35+$Y$16*CT35/100,\"\")","v":""}]
[{"$nulls":5},{"$f":"B17","v":{"v":0,"d":"0.00 '"}},{"$nulls":64},"Casting",null,{"$f":"IF(C53>0,((C54/12)*(C55/12)*(C56)*C53),\"\")","v":""},{"$nulls":22},"Ex top",null,{"$f":"J18","v":{"v":0,"d":"0 MM"}},null,{"$f":"IF(B15>0,CT36+$Y$16*CT36/100,\"\")","v":""}]
[{"$nulls":70},"Formwork",null,{"$f":"IF(C53>0,(((C54/12)*2)*C56)+((C55/12)*C56)+((C55/12)*2*(C54/12)),\"\")","v":""},{"$nulls":22},"ex top binder",null,{"$f":"J19","v":{"v":0,"d":"0 MM"}},null,{"$f":"IF(B15>0,CT37+$Y$16*CT37/100,\"\")","v":""}]
[{"$nulls":70},"Large Dia  ",null,{"$f":"IF(C53>0,(K53^2/532)*K54*(C56-(2*B20/12)+(2*K57/12))*C53,\"\")","v":""}]
[{"$nulls":70},"Small Dia  ",null,{"$f":"IF(C53>0,(K55^2/532)*K56*(C56-(2*B20/12)+(2*K57/12))*C53,\"\")","v":""}]
["Stair Beam",{"$nulls":69},"Sttriup",null,{"$f":"IF(C53>0,(K58^2/532)*BU50*BU51*C53,\"\")","v":""}]
[{"$nulls":70},"Sttriup Nos",null,{"$f":"IF(C53>0,(C56)/(K59/12)+1,\"\")","v":""}]
[{"$nulls":70},"Sttriup (L)",null,{"$f":"IF(C53>0,(((C54+C55)*2)-(B20*8)+(K60*2))/12,\"\")","v":""}]
["Description",null,"Type-1","Rcc casting Ratio",{"$nulls":3},"Beam Rebar Calculation",null,null,"Type-1"]
["Beam Nos",{"$nulls":6},"Large Dia ","Rebar Size (mm)"]
["Beam Height,H ((inch))",null,null,1,{"v":2,"d":"2.0"},4,{"$f":"SUM(D54:F54)","v":7},null,"Rebar Nos"]
["Beam Breadth,B ((inch))",{"$nulls":6},"Small Dia","Rebar Size (mm)"]
["Total Beam Length,L (ft)",{"$nulls":7},"Rebar Nos"]
[{"$nulls":7},"Development length (inh)"]
[{"$nulls":7},"Sttriup","Rebar Size (mm)"]
[{"$nulls":8},"Specing (inch)"]
[{"$nulls":8},"Houck lenght (inch)"]
{"$rows_empty":105}
[{"$nulls":43},"Cement",{"$nulls":3},{"$f":"DA165+#REF!","v":{"$error":"#REF!"}}]
[{"$nulls":43},"Sand ",{"$nulls":3},{"$f":"DB165+#REF!","v":{"$error":"#REF!"}}]
[{"$nulls":43},"Stone/Brick Chip",{"$nulls":3},{"$f":"DC165+#REF!","v":{"$error":"#REF!"}},{"$nulls":15},"Stone (CFT)",{"$f":"IF(SUM(M27:M32)>0,BJ192/100*U14+BJ192,\"\")","v":""}]
[{"$nulls":43},"Brick ",{"$nulls":3},{"$f":"DE165+#REF!","v":{"$error":"#REF!"}}]
[{"$nulls":43},"Rod/Reber",{"$nulls":3},{"$f":"CO165+CR165+CU165+CX165+#REF!+#REF!+#REF!","v":{"$error":"#REF!"}}]
[{"$nulls":43},"Formwork ",{"$nulls":3},{"$f":"CY165","v":{"v":0,"d":"0 Bag"}}]
[{"$nulls":43},"Casting ",{"$nulls":3},{"$f":"CZ165+#REF!","v":{"$error":"#REF!"}}]
[{"$nulls":63},"Brick Chips (Nos)",{"$f":"IF(SUM(M27:M32)>0,BK192/100*U14+BK192,\"\")","v":""}]
[]
[]
[]
[{"$nulls":43},"Casting Calculation",null,null,"Formwork Claculation"]
[]
[{"$nulls":43},"Landing",null,{"$f":"(B19*F21*(B24/12))","v":{"v":0,"d":"0.0 CFT"}},"Landing",null,{"$f":"(F21*I24)+((F21+I24+I24)*((B24+2)/12))","v":{"v":0,"d":"0.0 SFT"}}]
[{"$nulls":43},"Lobby Casting",null,{"$f":"2*(B18*F21*(B24/12))","v":{"v":0,"d":"0.0 CFT"}},"Lobby",null,{"$f":"((#REF!*I41)+((#REF!+I41+I41)*((B24+2)/12)))*2","v":{"$error":"#REF!"}}]
[{"$nulls":43},"waist slab",null,{"$f":"(M31*#REF!*(B24/12))*2","v":{"$error":"#REF!"}},"waist slab",null,{"$f":"(((M31*#REF!)+((M31+M31)+((B24+2)/12)))+((F21*B22)*M23))*2","v":{"$error":"#REF!"}}]
[{"$nulls":43},"trad/riser",null,{"$f":"((0.5*(B21/12)*(B22/12))*#REF!)*(L23*2)","v":{"$error":"#REF!"}}]
[]
[]
[{"$nulls":43},"Stone/Brick Chip (CFT)",{"$f":"DC165+#REF!","v":{"$error":"#REF!"}}]
[{"$nulls":43},"Brick Nos",{"$f":"DE165+#REF!","v":{"$error":"#REF!"}}]
[]
[]
[{"$nulls":46},{"$f":"K58","v":{"v":0,"d":"0 MM"}},{"$f":"BU49","v":""}]
[{"$nulls":46},{"$f":"#REF!","v":{"$error":"#REF!"}},{"$f":"#REF!","v":{"$error":"#REF!"}}]
[{"$nulls":46},{"$f":"K53","v":{"v":0,"d":"0 MM"}},{"$f":"BU47","v":""}]
[{"$nulls":46},{"$f":"#REF!","v":{"$error":"#REF!"}},{"$f":"#REF!","v":{"$error":"#REF!"}}]
[{"$nulls":46},{"$f":"K55","v":{"v":0,"d":"0 MM"}},{"$f":"BU48","v":""}]
[{"$nulls":46},{"$f":"#REF!","v":{"$error":"#REF!"}},{"$f":"#REF!","v":{"$error":"#REF!"}}]
[{"$nulls":46},{"$f":"J16","v":{"v":0,"d":"0 MM"}},{"$f":"CO165","v":{"v":0,"d":"0 KG"}}]
[{"$nulls":46},{"$f":"J17","v":{"v":0,"d":"0 MM"}},{"$f":"CR165","v":{"v":0,"d":"0 KG"}}]
[{"$nulls":46},{"$f":"J18","v":{"v":0,"d":"0 MM"}},{"$f":"CU165","v":{"v":0,"d":"0 KG"}}]
[{"$nulls":46},{"$f":"J19","v":{"v":0,"d":"0 MM"}},{"$f":"CX165","v":{"v":0,"d":"0 KG"}}]
[]
[]
[]
[]
[{"$nulls":45}," Reinforcement "]
[{"$nulls":46},8,{"$f":"SUMIF(AU189:AU198,8,AV189:AV198)+Y16*(SUMIF(AU189:AU198,8,AV189:AV198))/100","v":{"v":0,"d":"0 KG"}},null,8]
[{"$nulls":46},10,{"$f":"SUMIF(AU189:AU198,10,AV189:AV198)+Y16*(SUMIF(AU189:AU198,10,AV189:AV198))/100","v":{"v":0,"d":"0 KG"}},null,10]
[{"$nulls":46},12,{"$f":"SUMIF(AU189:AU198,12,AV189:AV198)+Y16*(SUMIF(AU189:AU198,12,AV189:AV198))/100","v":{"v":0,"d":"0 KG"}},null,12]
[{"$nulls":46},16,{"$f":"SUMIF(AU189:AU198,16,AV189:AV198)+Y16*(SUMIF(AU189:AU198,16,AV189:AV198))/100","v":{"v":0,"d":"0 KG"}},null,16]
[{"$nulls":46},20,{"$f":"SUMIF(AU189:AU198,20,AV189:AV198)+Y16*(SUMIF(AU189:AU198,20,AV189:AV198))/100","v":{"v":0,"d":"0 KG"}},null,20]
[{"$nulls":46},22,{"$f":"SUMIF(AU189:AU198,22,AV189:AV198)+Y16*(SUMIF(AU189:AU198,22,AV189:AV198))/100","v":{"v":0,"d":"0 KG"}},null,22]
[{"$nulls":46},25,{"$f":"SUMIF(AU189:AU198,25,AV189:AV198)+Y16*(SUMIF(AU189:AU198,25,AV189:AV198))/100","v":{"v":0,"d":"0 KG"}},null,25]
[{"$nulls":46},28,{"$f":"SUMIF(AU189:AU198,28,AV189:AV198)+Y16*(SUMIF(AU189:AU198,28,AV189:AV198))/100","v":{"v":0,"d":"0 KG"}},null,28]
[{"$nulls":46},32,{"$f":"SUMIF(AU189:AU198,32,AV189:AV198)+Y16*(SUMIF(AU189:AU198,32,AV189:AV198))/100","v":{"v":0,"d":"0 KG"}},null,32]

{"sheet":"Slab","index":12,"n_rows":92,"n_cols":93,"rows_kept":92,"hidden":true,"merged":[[0,0,2,20],[0,73,1,77],[3,0,4,20],[5,0,5,20],[6,0,7,20],[8,0,8,20],[11,0,12,11],[11,15,12,27],[13,0,13,1],[13,15,13,17],[13,18,13,19],[13,21,13,22],[13,23,13,24],[13,25,13,27],[13,35,13,36],[14,0,14,1],[14,15,14,17],[14,18,14,19],[14,20,19,20],[14,21,14,22],[14,23,14,24],[14,25,14,27],[14,35,14,36],[15,0,15,1],[15,15,15,17],[15,18,15,19],[15,21,15,22],[15,23,15,24],[15,25,15,27],[15,35,15,36],[16,0,16,1],[16,15,16,17],[16,18,16,19],[16,21,16,22],[16,23,16,24],[16,25,16,27],[16,35,16,36],[17,0,17,1],[17,15,17,17],[17,18,17,19],[17,21,17,22],[17,23,17,24],[17,25,17,27],[17,35,17,36],[18,0,18,1],[18,15,18,17],[18,18,18,19],[18,21,18,22],[18,23,18,24],[18,25,18,27],[18,35,18,36],[19,15,19,17],[19,18,19,19],[19,21,19,22],[19,23,19,24],[19,25,19,27],[19,35,19,36],[20,3,21,6],[20,23,20,24],[20,25,20,27],[20,35,20,36],[21,35,21,36],[22,35,22,36],[23,19,23,23],[23,35,23,36],[24,0,24,2],[24,21,24,22],[24,35,24,36],[25,0,27,0],[25,1,25,2],[25,21,25,22],[25,35,25,36],[26,1,26,2],[26,21,26,22],[26,35,26,36],[27,1,27,2],[27,21,27,22],[28,0,30,0],[28,1,28,2],[28,21,28,22],[29,1,29,2],[29,21,29,22],[30,1,30,2],[30,21,30,22],[31,0,33,0],[31,1,31,2],[31,21,31,22],[32,1,32,2],[32,21,32,22],[33,1,33,2],[33,21,33,22],[34,0,36,0],[34,1,34,2],[35,1,35,2],[36,1,36,2],[48,72,48,75],[51,84,52,89],[69,84,70,89],[77,69,78,73],[82,76,83,80]]}
["This is The Property of NOR DESIGN SOLUTION"]
[]
[]
[]
[]
["এক্সেল শীট বিষয়ক কিছু জানার থাকলে বা আপডেট নিয়ে কোন পরামর্শ থাকলে আমাদের সাথে যোগাযোগ করুন অথবা ওয়েবসাইটে কমেন্ট করুন"]
["এক্সেল শীট সম্পর্কে যাবতীয় তথ্য বিস্তারিত জানতে ভিজিট করুন আমাদের ইউটিউব চ্যানেলে"]
[{"$nulls":36},"Cement","Sand","Stone","Rod","Casting","Excavation","Sand Filling ","Formwork","Brick Nos","Bricl Flat Soling ","C.c"]
["Click Here To Watch The Slab Estimate video",{"$nulls":35},{"$f":"V15","v":{"v":0,"d":"0 Bag"}},{"$f":"V16","v":{"v":0,"d":"0 CFT"}},{"$f":"AV16+U15*AV16/100","v":0},{"$f":"V18","v":{"v":0,"d":"0.000 Ton"}},{"$f":"V20","v":{"v":0,"d":"0 CFT"}},null,null,{"$f":"V19","v":{"v":0,"d":"0 SFT"}},{"$f":"AV17+U15*AV17/100","v":0}]
[]
[]
["Slab Estimate And Costing",{"$nulls":14},"Slab  Estimated And Price"]
[{"$nulls":47},"Sum"]
["Description",null,"Type-1","Type-2","Type-3","Type-4","Type-5","Type-6","Type-7","Type-8","Type-9","Type-10",{"$nulls":3},"DESCRIPTION",null,null,"Quantity",null,"Wastage Add","Quantity (Wastage Add)",null,"Rate",null,"Amount TK",{"$nulls":9},"Cement ",null,{"$f":"IF(C15>0,(AL18*$D$23*1.54)/($G$23*1.25)+1,\"\")","v":""},{"$f":"IF(D15>0,(AM18*$D$23*1.54)/($G$23*1.25)+1,\"\")","v":""},{"$f":"IF(E15>0,(AN18*$D$23*1.54)/($G$23*1.25)+1,\"\")","v":""},{"$f":"IF(F15>0,(AO18*$D$23*1.54)/($G$23*1.25)+1,\"\")","v":""},{"$f":"IF(G15>0,(AP18*$D$23*1.54)/($G$23*1.25)+1,\"\")","v":""},{"$f":"IF(H15>0,(AQ18*$D$23*1.54)/($G$23*1.25)+1,\"\")","v":""},{"$f":"IF(I15>0,(AR18*$D$23*1.54)/($G$23*1.25)+1,\"\")","v":""},{"$f":"IF(J15>0,(AS18*$D$23*1.54)/($G$23*1.25)+1,\"\")","v":""},{"$f":"IF(K15>0,(AT18*$D$23*1.54)/($G$23*1.25)+1,\"\")","v":""},{"$f":"IF(L15>0,(AU18*$D$23*1.54)/($G$23*1.25)+1,\"\")","v":""},{"$f":"SUM(AL14:AU14)","v":{"v":0,"d":"0 Bag"}}]
["Nos",{"$nulls":14},"Cement",null,null,{"$f":"AV14","v":{"v":0,"d":"0 Bag"}},null,{"v":0,"d":"0 % ADD"},{"$f":"S15+$U$15*S15/100","v":{"v":0,"d":"0 Bag"}},null,{"v":550,"d":"550.00 TK"},null,{"$f":"V15*X15","v":{"v":0,"d":"0 TK"}},{"$nulls":9},"Sand ",null,{"$f":"IF(C15>0,(AL18*1.54*$E$23)/$G$23,\"\")","v":""},{"$f":"IF(D15>0,(AM18*1.54*$E$23)/$G$23,\"\")","v":""},{"$f":"IF(E15>0,(AN18*1.54*$E$23)/$G$23,\"\")","v":""},{"$f":"IF(F15>0,(AO18*1.54*$E$23)/$G$23,\"\")","v":""},{"$f":"IF(G15>0,(AP18*1.54*$E$23)/$G$23,\"\")","v":""},{"$f":"IF(H15>0,(AQ18*1.54*$E$23)/$G$23,\"\")","v":""},{"$f":"IF(I15>0,(AR18*1.54*$E$23)/$G$23,\"\")","v":""},{"$f":"IF(J15>0,(AS18*1.54*$E$23)/$G$23,\"\")","v":""},{"$f":"IF(K15>0,(AT18*1.54*$E$23)/$G$23,\"\")","v":""},{"$f":"IF(L15>0,(AU18*1.54*$E$23)/$G$23,\"\")","v":""},{"$f":"SUM(AL15:AU15)","v":0}]
["Long Direction Length (ft)",{"$nulls":14},"Sand ",null,null,{"$f":"AV15","v":{"v":0,"d":"0 CFT"}},null,null,{"v":0,"d":"0 CFT"},null,{"v":45,"d":"45.00 TK"},null,{"$f":"V16*X16","v":{"v":0,"d":"0 TK"}},{"$nulls":9},"Stone/Brick Chips",null,{"$f":"IF(C15>0,(AL18*1.54*$F$23)/$G$23,\"\")","v":""},{"$f":"IF(D15>0,(AM18*1.54*$F$23)/$G$23,\"\")","v":""},{"$f":"IF(E15>0,(AN18*1.54*$F$23)/$G$23,\"\")","v":""},{"$f":"IF(F15>0,(AO18*1.54*$F$23)/$G$23,\"\")","v":""},{"$f":"IF(G15>0,(AP18*1.54*$F$23)/$G$23,\"\")","v":""},{"$f":"IF(H15>0,(AQ18*1.54*$F$23)/$G$23,\"\")","v":""},{"$f":"IF(I15>0,(AR18*1.54*$F$23)/$G$23,\"\")","v":""},{"$f":"IF(J15>0,(AS18*1.54*$F$23)/$G$23,\"\")","v":""},{"$f":"IF(K15>0,(AT18*1.54*$F$23)/$G$23,\"\")","v":""},{"$f":"IF(L15>0,(AU18*1.54*$F$23)/$G$23,\"\")","v":""},0]
["Short Direction Length (ft)",{"$nulls":14},"Stone/Brick Chips",null,null,{"$f":"VLOOKUP(P17,AX19:AY20,2,FALSE)","v":0},null,null,0,null,{"v":100,"d":"100.00 TK"},null,{"v":0,"d":"0 TK"},{"$nulls":9},"Brick Nos",null,{"$f":"IF(C15>0,AL16*9.5,\"\")","v":""},{"$f":"IF(D15>0,AM16*9.5,\"\")","v":""},{"$f":"IF(E15>0,AN16*9.5,\"\")","v":""},{"$f":"IF(F15>0,AO16*9.5,\"\")","v":""},{"$f":"IF(G15>0,AP16*9.5,\"\")","v":""},{"$f":"IF(H15>0,AQ16*9.5,\"\")","v":""},{"$f":"IF(I15>0,AR16*9.5,\"\")","v":""},{"$f":"IF(J15>0,AS16*9.5,\"\")","v":""},{"$f":"IF(K15>0,AT16*9.5,\"\")","v":""},{"$f":"IF(L15>0,AU16*9.5,\"\")","v":""},0]
["Slab Thikniss, (inch)",{"$nulls":14},"Reber",null,null,{"$f":"SUM(AV24:AV27)/1000","v":{"v":0,"d":"0.000 Ton"}},null,null,{"v":0,"d":"0.000 Ton"},null,{"v":98000,"d":"98000.00 TK"},null,{"v":0,"d":"0 TK"},{"$nulls":9},"Casting",null,{"$f":"IF(C15>0,C16*C17*(C18/12)*C15,\"\")","v":""},{"$f":"IF(D15>0,D16*D17*(D18/12)*D15,\"\")","v":""},{"$f":"IF(E15>0,E16*E17*(E18/12)*E15,\"\")","v":""},{"$f":"IF(F15>0,F16*F17*(F18/12)*F15,\"\")","v":""},{"$f":"IF(G15>0,G16*G17*(G18/12)*G15,\"\")","v":""},{"$f":"IF(H15>0,H16*H17*(H18/12)*H15,\"\")","v":""},{"$f":"IF(I15>0,I16*I17*(I18/12)*I15,\"\")","v":""},{"$f":"IF(J15>0,J16*J17*(J18/12)*J15,\"\")","v":""},{"$f":"IF(K15>0,K16*K17*(K18/12)*K15,\"\")","v":""},{"$f":"IF(L15>0,L16*L17*(L18/12)*L15,\"\")","v":""},0]
["Clear Cover (inh)",{"$nulls":14},"Formwork ",null,null,{"$f":"AV19","v":{"v":0,"d":"0 SFT"}},null,null,{"v":0,"d":"0 SFT"},null,{"v":35,"d":"35.00 TK"},null,{"v":0,"d":"0 TK"},{"$nulls":9},"Formwork",null,{"$f":"IF(C15>0,(C16*C17*(C18/12))*C15,\"\")","v":""},{"$f":"IF(D15>0,(D16*D17*(D18/12))*D15,\"\")","v":""},{"$f":"IF(E15>0,(E16*E17*(E18/12))*E15,\"\")","v":""},{"$f":"IF(F15>0,(F16*F17*(F18/12))*F15,\"\")","v":""},{"$f":"IF(G15>0,(G16*G17*(G18/12))*G15,\"\")","v":""},{"$f":"IF(H15>0,(H16*H17*(H18/12))*H15,\"\")","v":""},{"$f":"IF(I15>0,(I16*I17*(I18/12))*I15,\"\")","v":""},{"$f":"IF(J15>0,(J16*J17*(J18/12))*J15,\"\")","v":""},{"$f":"IF(K15>0,(K16*K17*(K18/12))*K15,\"\")","v":""},{"$f":"IF(L15>0,(L16*L17*(L18/12))*L15,\"\")","v":""},0,null,"Stone/Brick Chips",{"$f":"AV16","v":0}]
[{"$nulls":15},"Casting ",null,null,{"$f":"AV18","v":{"v":0,"d":"0 CFT"}},null,null,{"v":0,"d":"0 CFT"},null,{"v":36,"d":"36.00 TK"},null,{"$f":"V20*X20","v":{"v":0,"d":"0 TK"}},{"$nulls":9},"Long  Direction nos",null,{"$f":"IF(AND(C15>0,D26>0),(C16/(D27/12))+1,\"0\")","v":"0"},{"$f":"IF(AND(D15>0,E26>0),(D16/(E27/12))+1,\"0\")","v":"0"},"0","0","0","0","0","0","0","0",0,null,"Brick Nos",{"$f":"AV17","v":0}]
[{"$nulls":3},"Rcc casting Ratio",{"$nulls":19},"Total Cost=",null,{"$f":"SUM(Z15:AB20)","v":{"v":0,"d":"0 TK"}},{"$nulls":9},"Long  Direction Length",null,{"$f":"IF(AND(C15>0,D26>0),((C17*AL20)-(C19/12*2))*C15,\"0\")","v":"0"},{"$f":"IF(AND(D15>0,E26>0),((D17*AM20)-(D19/12*2))*D15,\"0\")","v":"0"},"0","0","0","0","0","0","0","0",0]
[{"$nulls":35},"Short  Direction nos",null,{"$f":"IF(AND(C15>0,D29>0),(C17/(D30/12))+1,\"0\")","v":"0"},{"$f":"IF(AND(D15>0,E29>0),(D17/(E30/12))+1,\"0\")","v":"0"},"0","0","0","0","0","0","0","0",0]
[{"$nulls":3},1,1.5,3,{"$f":"SUM(D23:F23)","v":5.5},{"$nulls":28},"Short  Direction Length",null,{"$f":"IF(AND(C15>0,D29>0),((C16*AL22)-(C19/12*2))*C15,\"0\")","v":"0"},{"$f":"IF(AND(D15>0,E29>0),((D16*AM22)-(D19/12*2))*D15,\"0\")","v":"0"},"0","0","0","0","0","0","0","0",0]
[{"$nulls":19}," Reinforcement ",{"$nulls":15},"Long  Direction",null,{"$f":"IF(C15>0,((D26^2/532)*AL21+D28)*C15,\"\")","v":""},{"$f":"IF(D15>0,((E26^2/532)*AM21+E28)*D15,\"\")","v":""},{"$f":"IF(E15>0,((F26^2/532)*AN21+F28)*E15,\"\")","v":""},{"$f":"IF(F15>0,((G26^2/532)*AO21+G28)*F15,\"\")","v":""},{"$f":"IF(G15>0,((H26^2/532)*AP21+H28)*G15,\"\")","v":""},{"$f":"IF(H15>0,((I26^2/532)*AQ21+I28)*H15,\"\")","v":""},{"$f":"IF(I15>0,((J26^2/532)*AR21+J28)*I15,\"\")","v":""},{"$f":"IF(J15>0,((K26^2/532)*AS21+K28)*J15,\"\")","v":""},{"$f":"IF(K15>0,((L26^2/532)*AT21+L28)*K15,\"\")","v":""},{"$f":"IF(L15>0,((M26^2/532)*AU21+M28)*L15,\"\")","v":""},0]
["Slab Rebar Calculation",null,null,"Type-1","Type-2","Type-3","Type-4","Type-5","Type-6","Type-7","Type-8","Type-9","Type-10",{"$nulls":7},10,{"$f":"IF(U25>0,SUMIF($AL$30:$AU$33,U25,$AW$30:$BG$33)+$U$15*SUMIF($AL$30:$AU$33,U25,$AW$30:$BG$33)/100,\"\")","v":{"v":0,"d":"0 KG"}},{"$nulls":13},"short  Direction",null,{"$f":"IF(C15>0,((D29^2/532)*AL23+D31)*C15,\"\")","v":""},{"$f":"IF(D15>0,((E29^2/532)*AM23+E31)*D15,\"\")","v":""},{"$f":"IF(E15>0,((F29^2/532)*AN23+F31)*E15,\"\")","v":""},{"$f":"IF(F15>0,((G29^2/532)*AO23+G31)*F15,\"\")","v":""},{"$f":"IF(G15>0,((H29^2/532)*AP23+H31)*G15,\"\")","v":""},{"$f":"IF(H15>0,((I29^2/532)*AQ23+I31)*H15,\"\")","v":""},{"$f":"IF(I15>0,((J29^2/532)*AR23+J31)*I15,\"\")","v":""},{"$f":"IF(J15>0,((K29^2/532)*AS23+K31)*J15,\"\")","v":""},{"$f":"IF(K15>0,((L29^2/532)*AT23+L31)*K15,\"\")","v":""},{"$f":"IF(L15>0,((M29^2/532)*AU23+M31)*L15,\"\")","v":""},0]
["Long Direction","Rebar Dia (mm)",{"$nulls":18},12,{"$f":"IF(U26>0,SUMIF($AL$30:$AU$33,U26,$AW$30:$BG$33)+$U$15*SUMIF($AL$30:$AU$33,U26,$AW$30:$BG$33)/100,\"\")","v":{"v":0,"d":"0 KG"}},{"$nulls":13},"Long  Direction EX",null,{"$f":"IF(C15>0,((D32^2/532)*D33*D34)*C15,\"\")","v":""},{"$f":"IF(D15>0,((E32^2/532)*E33*E34)*D15,\"\")","v":""},{"$f":"IF(E15>0,((F32^2/532)*F33*F34)*E15,\"\")","v":""},{"$f":"IF(F15>0,((G32^2/532)*G33*G34)*F15,\"\")","v":""},{"$f":"IF(G15>0,((H32^2/532)*H33*H34)*G15,\"\")","v":""},{"$f":"IF(H15>0,((I32^2/532)*I33*I34)*H15,\"\")","v":""},{"$f":"IF(I15>0,((J32^2/532)*J33*J34)*I15,\"\")","v":""},{"$f":"IF(J15>0,((K32^2/532)*K33*K34)*J15,\"\")","v":""},{"$f":"IF(K15>0,((L32^2/532)*L33*L34)*K15,\"\")","v":""},{"$f":"IF(L15>0,((M32^2/532)*M33*M34)*L15,\"\")","v":""},0]
[null,"Specing(inh)",{"$nulls":18},16,{"v":0,"d":"0 KG"},{"$nulls":13},"short  Direction EX",null,{"$f":"IF(C15>0,((D35^2/532)*D36*D37)*C15,\"\")","v":""},{"$f":"IF(D15>0,((E35^2/532)*E36*E37)*D15,\"\")","v":""},{"$f":"IF(E15>0,((F35^2/532)*F36*F37)*E15,\"\")","v":""},{"$f":"IF(F15>0,((G35^2/532)*G36*G37)*F15,\"\")","v":""},{"$f":"IF(G15>0,((H35^2/532)*H36*H37)*G15,\"\")","v":""},{"$f":"IF(H15>0,((I35^2/532)*I36*I37)*H15,\"\")","v":""},{"$f":"IF(I15>0,((J35^2/532)*J36*J37)*I15,\"\")","v":""},{"$f":"IF(J15>0,((K35^2/532)*K36*K37)*J15,\"\")","v":""},{"$f":"IF(K15>0,((L35^2/532)*L36*L37)*K15,\"\")","v":""},{"$f":"IF(L15>0,((M35^2/532)*M36*M37)*L15,\"\")","v":""},0]
[null,"Lapping (ft)",{"$nulls":18},8,{"v":0,"d":"0 KG"}]
["Short Direction","Rebar Dia (mm)",{"$nulls":19},""]
[null,"Specing(inh)",{"$nulls":19},"",{"$nulls":15},{"$f":"D26","v":{"v":0,"d":"0 MM"}},{"v":0,"d":"0 MM"},{"v":0,"d":"0 MM"},{"v":0,"d":"0 MM"},{"v":0,"d":"0 MM"},{"v":0,"d":"0 MM"},{"v":0,"d":"0 MM"},{"v":0,"d":"0 MM"},{"v":0,"d":"0 MM"},{"v":0,"d":"0 MM"},null,{"$f":"IF(C15>0,AL24+$U$15*AL24/100,\"\")","v":""},{"$f":"IF(D15>0,AM24+$U$15*AM24/100,\"\")","v":""},"","","","","","","",""]
[null,"Lapping (ft)",{"$nulls":19},"",{"$nulls":15},{"$f":"D29","v":{"v":0,"d":"0 MM"}},{"v":0,"d":"0 MM"},{"v":0,"d":"0 MM"},{"v":0,"d":"0 MM"},{"v":0,"d":"0 MM"},{"v":0,"d":"0 MM"},{"v":0,"d":"0 MM"},{"v":0,"d":"0 MM"},{"v":0,"d":"0 MM"},{"v":0,"d":"0 MM"},null,{"$f":"IF(C15>0,AL25+$U$15*AL25/100,\"\")","v":""},{"$f":"IF(D15>0,AM25+$U$15*AM25/100,\"\")","v":""},"","","","","","","",""]
["Long Direction Extra Top","Rebar Dia (mm)",{"$nulls":19},"",{"$nulls":15},{"$f":"D32","v":{"v":0,"d":"0 MM"}},{"v":0,"d":"0 MM"},{"v":0,"d":"0 MM"},{"v":0,"d":"0 MM"},{"v":0,"d":"0 MM"},{"v":0,"d":"0 MM"},{"v":0,"d":"0 MM"},{"v":0,"d":"0 MM"},{"v":0,"d":"0 MM"},{"v":0,"d":"0 MM"},null,{"$f":"IF(C15>0,AL26+$U$15*AL26/100,\"\")","v":""},{"$f":"IF(D15>0,AM26+$U$15*AM26/100,\"\")","v":""},"","","","","","","",""]
[null,"Extra Top Nos",{"$nulls":19},"",{"$nulls":15},{"$f":"D35","v":{"v":0,"d":"0 MM"}},{"v":0,"d":"0 MM"},{"v":0,"d":"0 MM"},{"v":0,"d":"0 MM"},{"v":0,"d":"0 MM"},{"v":0,"d":"0 MM"},{"v":0,"d":"0 MM"},{"v":0,"d":"0 MM"},{"v":0,"d":"0 MM"},{"v":0,"d":"0 MM"},null,{"$f":"IF(C15>0,AL27+$U$15*AL27/100,\"\")","v":""},{"$f":"IF(D15>0,AM27+$U$15*AM27/100,\"\")","v":""},"","","","","","","",""]
[null,"Extra Top Length (ft)"]
["Short Direction Extra Top","Rebar Dia (mm)"]
[null,"Extra Top Nos"]
[null,"Extra Top Length (ft)"]
{"$rows_empty":11}
[{"$nulls":72},"Typ - 2"]
[]
[]
[{"$nulls":68},{"v":2,"d":"2.00'"},null,null,{"v":13,"d":"13.00 '"},null,null,{"v":13,"d":"13.00 '"},{"$nulls":3},{"v":15,"d":"15.00 '"},null,null,{"v":12,"d":"12.00'"},null,null,"Long Span Extra Top Rod"]
[]
[{"$nulls":69},{"$f":"(BT52/3)+BQ52","v":{"v":6.333333333333333,"d":"6.33 '"}},{"$nulls":3},{"$f":"(BT52/3)+(BW52/3)","v":{"v":8.666666666666666,"d":"8.67 '"}},null,null,{"$f":"(BW52/3)+(CA52/3)","v":{"v":9.333333333333332,"d":"9.33 '"}},{"$nulls":3},{"$f":"(CA52/3)+CD52","v":{"v":17,"d":"17.00 '"}},{"$nulls":3},"Name","NOS","C/C ","L/3 OR L/4","NOS","LENGTH"]
[{"$nulls":71},"C",null,null,"B",{"$nulls":3},"A",null,{"$f":"(CE57/3)+CC48","v":{"v":2.6666666666666665,"d":"2.67 '"}},{"$nulls":3},"A",1,{"v":5,"d":"5 '' C/C"},"L/3",{"$f":"IF(CH55>0,(((CA52)/(CI55/12))+1)*CH55,\"\")","v":{"v":37,"d":"37  Nos "}},{"$f":"IF(CH55>0,CK55*CC55,\"\")","v":{"v":98.66666666666666,"d":"98.67 '"}}]
[{"$nulls":84},"B",1,{"v":5,"d":"5 '' C/C"},null,{"$f":"IF(CH56>0,((BW52/(CI56/12))+1)*CH56,\"\")","v":{"v":32.2,"d":"32  Nos "}},{"$f":"IF(CH56>0,CK56*CC55,\"\")","v":{"v":85.86666666666667,"d":"85.87 '"}}]
[{"$nulls":70},4,{"$nulls":3},3,null,null,2,null,1,null,null,{"v":8,"d":"8.00'"},null,"C",1,{"v":5,"d":"5 '' C/C"},null,{"$f":"IF(CH57>0,((BT52/(CI57/12))+1)*CH57,\"\")","v":{"v":32.2,"d":"32  Nos "}},{"$f":"IF(CH57>0,CK57*CC55,\"\")","v":{"v":85.86666666666667,"d":"85.87 '"}},null,"L/3",3]
[{"$nulls":84},"D",1,{"v":5,"d":"5 '' C/C"},null,{"$f":"IF(CH58>0,(((BT52)/(CI58/12))+1)*CH58,\"\")","v":{"v":32.2,"d":"32  Nos "}},{"$f":"IF(CH58>0,CK58*CC60,\"\")","v":{"v":214.66666666666666,"d":"214.67 '"}},null,"L/4",4]
[{"$nulls":52},3,null,null,{"v":14.83,"d":"14.83 '"},null,null,{"v":8.25,"d":"8.25 '"},{"$nulls":3},{"v":14.83,"d":"14.83 '"},null,null,3,{"$nulls":18},"E",1,{"v":5,"d":"5 '' C/C"},null,{"$f":"IF(CH59>0,((BW52/(CI59/12))+1)*CH59,\"\")","v":{"v":32.2,"d":"32  Nos "}},{"$f":"IF(CH59>0,CK59*CC60,\"\")","v":{"v":214.66666666666666,"d":"214.67 '"}}]
[{"$nulls":80},{"$f":"(CE57/3)+(CE64/3)","v":{"v":6.666666666666666,"d":"6.67 '"}},{"$nulls":3},"F",1,{"v":5,"d":"5 '' C/C"},null,{"$f":"IF(CH60>0,(((CA52)/(CI60/12))+1)*CH60,\"\")","v":{"v":37,"d":"37  Nos "}},{"$f":"IF(CH60>0,CK60*CC60,\"\")","v":{"v":246.66666666666666,"d":"246.67 '"}}]
[{"$nulls":53},{"$f":"(BD59/3)+BA59","v":{"v":7.943333333333333,"d":"7.94 '"}},{"$nulls":3},{"$f":"(BD59/3)+(BG59/3)","v":{"v":7.693333333333333,"d":"7.69 '"}},null,null,{"$f":"(BG59/3)+(BK59/3)","v":{"v":7.693333333333333,"d":"7.69 '"}},{"$nulls":3},{"$f":"(BK59/3)+BN59","v":{"v":7.943333333333333,"d":"7.94 '"}},{"$nulls":6},"D",null,null,"E",{"$nulls":3},"F",{"$nulls":5},"G",1,{"v":5,"d":"5 '' C/C"},null,{"$f":"IF(CH61>0,(((BT52)/(CI61/12))+1)*CH61,\"\")","v":{"v":32.2,"d":"32  Nos "}},{"$f":"IF(CH61>0,CK61*CC67,\"\")","v":{"v":246.86666666666667,"d":"246.87 '"}}]
[{"$nulls":84},"H",1,{"v":5,"d":"5 '' C/C"},null,{"$f":"IF(CH62>0,((BW52/(CI62/12))+1)*CH62,\"\")","v":{"v":32.2,"d":"32  Nos "}},{"$f":"IF(CH62>0,CK62*CC67,\"\")","v":{"v":246.86666666666667,"d":"246.87 '"}}]
[{"$nulls":84},"I",1,{"v":5,"d":"5 '' C/C"},null,{"$f":"IF(CH63>0,(((CA52)/(CI63/12))+1)*CH63,\"\")","v":{"v":37,"d":"37  Nos "}},{"$f":"IF(CH63>0,CK63*CC67,\"\")","v":{"v":283.66666666666663,"d":"283.67 '"}}]
[{"$nulls":70},8,{"$nulls":3},7,null,null,6,null,5,null,null,{"v":12,"d":"12.00'"},null,"J",1,{"v":5,"d":"5 '' C/C"},null,{"$f":"IF(CH64>0,(((BT52)/(CI64/12))+1)*CH64,\"\")","v":{"v":32.2,"d":"32  Nos "}},{"$f":"IF(CH64>0,CK64*CC74,\"\")","v":{"v":118.06666666666668,"d":"118.07 '"}}]
[{"$nulls":84},"K",1,{"v":5,"d":"5 '' C/C"},null,{"$f":"IF(CH65>0,((BW52/(CI65/12))+1)*CH65,\"\")","v":{"v":32.2,"d":"32  Nos "}},{"$f":"IF(CH65>0,CK65*CC74,\"\")","v":{"v":118.06666666666668,"d":"118.07 '"}}]
[{"$nulls":84},"L",1,{"v":5,"d":"5 '' C/C"},null,{"$f":"IF(CH66>0,(((CA52)/(CI66/12))+1)*CH66,\"\")","v":{"v":37,"d":"37  Nos "}},{"$f":"IF(CH66>0,CK66*CC74,\"\")","v":{"v":135.66666666666666,"d":"135.67 '"}}]
[{"$nulls":80},{"$f":"(CE64/3)+(CE70/3)","v":{"v":7.666666666666666,"d":"7.67 '"}},{"$nulls":7},"TOTAL=",{"$f":"SUM(CL55:CL66)","v":{"v":2095.5999999999995,"d":"2095.60 '"}}]
[{"$nulls":71},"G",null,null,"H",{"$nulls":3},"I"]
[]
[{"$nulls":82},{"v":11,"d":"11.00'"},null,"Short Span Extra Top Rod"]
[{"$nulls":70},12,{"$nulls":3},11,null,null,10,null,9]
[{"$nulls":84},"Name","NOS","C/C ","L/3 OR L/4","NOS","LENGTH"]
[{"$nulls":84},1,1,{"v":5,"d":"5 '' C/C"},"L/3",{"$f":"IF(CH73>0,(((CE57)/(CI73/12))+1)*CH73,\"\")","v":{"v":20.2,"d":"20  Nos "}},{"$f":"IF(CH73>0,CK73*CC54,\"\")","v":{"v":343.4,"d":"343.40 '"}}]
[{"$nulls":80},{"$f":"(CE70/3)+CE76","v":{"v":3.6666666666666665,"d":"3.67 '"}},{"$nulls":3},2,1,{"v":5,"d":"5 '' C/C"},"L/3",{"$f":"IF(CH74>0,(((CE57)/(CI74/12))+1)*CH74,\"\")","v":{"v":20.2,"d":"20  Nos "}},{"$f":"IF(CH74>0,CK74*CC54,\"\")","v":{"v":343.4,"d":"343.40 '"}}]
[{"$nulls":71},"J",null,null,"K",{"$nulls":3},"L",{"$nulls":5},3,1,{"v":5,"d":"5 '' C/C"},"L/3",{"$f":"IF(CH75>0,(((CE57)/(CI75/12))+1)*CH75,\"\")","v":{"v":20.2,"d":"20  Nos "}},{"$f":"IF(CH75>0,CK75*CC54,\"\")","v":{"v":343.4,"d":"343.40 '"}}]
[{"$nulls":84},4,1,{"v":5,"d":"5 '' C/C"},"L/4",{"$f":"IF(CH76>0,(((CE57)/(CI76/12))+1)*CH76,\"\")","v":{"v":20.2,"d":"20  Nos "}},{"$f":"IF(CH76>0,CK76*CC54,\"\")","v":{"v":343.4,"d":"343.40 '"}}]
[{"$nulls":84},5,1,{"v":5,"d":"5 '' C/C"},"L/5",{"$f":"IF(CH77>0,(((CE64)/(CI77/12))+1)*CH77,\"\")","v":{"v":29.799999999999997,"d":"30  Nos "}},{"$f":"IF(CH77>0,CK77*CC54,\"\")","v":{"v":506.59999999999997,"d":"506.60 '"}}]
[{"$nulls":69},"Extra Area For Extra Top",{"$nulls":14},6,1,{"v":5,"d":"5 '' C/C"},"L/6",{"$f":"IF(CH78>0,(((CE64)/(CI78/12))+1)*CH78,\"\")","v":{"v":29.799999999999997,"d":"30  Nos "}},{"$f":"IF(CH78>0,CK78*BY54,\"\")","v":{"v":278.13333333333327,"d":"278.13 '"}}]
[{"$nulls":84},7,1,{"v":5,"d":"5 '' C/C"},"L/7",{"$f":"IF(CH79>0,(((CE64)/(CI79/12))+1)*CH79,\"\")","v":{"v":29.799999999999997,"d":"30  Nos "}},{"$f":"IF(CH79>0,CK79*BV54,\"\")","v":{"v":258.26666666666665,"d":"258.27 '"}}]
[{"$nulls":84},8,1,{"v":5,"d":"5 '' C/C"},"L/8",{"$f":"IF(CH80>0,(((CE64)/(CI80/12))+1)*CH80,\"\")","v":{"v":29.799999999999997,"d":"30  Nos "}},{"$f":"IF(CH80>0,CK80*BR54,\"\")","v":{"v":188.73333333333332,"d":"188.73 '"}}]
[{"$nulls":84},9,1,{"v":5,"d":"5 '' C/C"},"L/9",{"$f":"IF(CH81>0,(((CE70)/(CI81/12))+1)*CH81,\"\")","v":{"v":27.4,"d":"27  Nos "}},{"$f":"IF(CH81>0,CK81*CC54,\"\")","v":{"v":465.79999999999995,"d":"465.80 '"}}]
[{"$nulls":84},10,1,{"v":5,"d":"5 '' C/C"},"L/10",{"$f":"IF(CH82>0,(((CE70)/(CI82/12))+1)*CH82,\"\")","v":{"v":27.4,"d":"27  Nos "}},{"$f":"IF(CH82>0,CK82*BY54,\"\")","v":{"v":255.7333333333333,"d":"255.73 '"}}]
[{"$nulls":76},"Extra Area For Extra Top",{"$nulls":7},11,1,{"v":5,"d":"5 '' C/C"},"L/11",{"$f":"IF(CH83>0,(((CE70)/(CI83/12))+1)*CH83,\"\")","v":{"v":27.4,"d":"27  Nos "}},{"$f":"IF(CH83>0,CK83*BV54,\"\")","v":{"v":237.46666666666664,"d":"237.47 '"}}]
[{"$nulls":84},12,1,{"v":5,"d":"5 '' C/C"},"L/12",{"$f":"IF(CH84>0,(((CE70)/(CI84/12))+1)*CH84,\"\")","v":{"v":27.4,"d":"27  Nos "}},{"$f":"IF(CH84>0,CK84*BR54,\"\")","v":{"v":173.5333333333333,"d":"173.53 '"}}]
[{"$nulls":76},"Nos","C/C ","L/3 OR L/4","NOS","LENGTH",{"$nulls":7},"TOTAL=",{"$f":"SUM(CL73:CL84)","v":{"v":3737.8666666666654,"d":"3737.87 '"}}]
[{"$nulls":68},{"v":4,"d":"4.00 '"},{"$nulls":7},1,{"v":5,"d":"5 '' C/C"},null,{"$f":"IF(BY86>0,(((BT92)/(BZ86/12))+1)*BY86,\"\")","v":{"v":17.8,"d":"18  Nos "}},{"$f":"IF(BY86>0,CB86*BQ86,\"\")","v":{"v":71.2,"d":"71.20 '"}}]
[{"$nulls":79},{"$f":"IF(BY87>0,(((BT93)/(BZ87/12))+1)*BY87,\"\")","v":""},""]
[{"$nulls":79},{"$f":"IF(BY88>0,(((BT94)/(BZ88/12))+1)*BY88,\"\")","v":""},""]
[{"$nulls":79},{"$f":"IF(BY89>0,(((BT158)/(BZ89/12))+1)*BY89,\"\")","v":""},{"$f":"IF(BY89>0,CB89*BQ89,\"\")","v":""}]
[]
[]
[{"$nulls":71},{"v":7,"d":"7.00 '"}]

{"sheet":"Rcc Wall","index":13,"n_rows":46,"n_cols":90,"rows_kept":46,"hidden":true,"merged":[[0,0,2,16],[3,0,4,16],[5,0,5,16],[6,0,7,16],[8,0,8,16],[11,0,12,16],[11,21,12,33],[13,0,13,1],[13,21,13,23],[13,24,13,25],[13,27,13,28],[13,29,13,30],[13,31,13,33],[14,0,14,1],[14,21,14,23],[14,24,14,25],[14,26,19,26],[14,27,14,28],[14,29,14,30],[14,31,14,33],[15,0,15,1],[15,21,15,23],[15,24,15,25],[15,27,15,28],[15,29,15,30],[15,31,15,33],[16,0,16,1],[16,21,16,23],[16,24,16,25],[16,27,16,28],[16,29,16,30],[16,31,16,33],[17,0,17,1],[17,21,17,23],[17,24,17,25],[17,27,17,28],[17,29,17,30],[17,31,17,33],[18,0,18,1],[18,21,18,23],[18,24,18,25],[18,27,18,28],[18,29,18,30],[18,31,18,33],[19,21,19,23],[19,24,19,25],[19,27,19,28],[19,29,19,30],[19,31,19,33],[20,3,21,6],[20,29,20,30],[20,31,20,33],[22,57,22,58],[23,25,23,29],[23,57,23,58],[24,0,24,2],[24,27,24,28],[24,57,24,58],[25,0,28,0],[25,1,25,2],[25,27,25,28],[25,57,25,58],[26,1,26,2],[26,27,26,28],[26,57,26,58],[27,1,27,2],[27,27,27,28],[27,57,27,58],[28,1,28,2],[28,27,28,28],[28,56,29,57],[29,0,32,0],[29,1,29,2],[29,27,29,28],[30,1,30,2],[30,27,30,28],[30,56,31,57],[31,1,31,2],[31,27,31,28],[32,1,32,2],[32,27,32,28],[32,56,33,57],[33,0,33,2],[33,27,33,28],[34,56,35,57],[36,57,36,58],[37,57,37,58],[38,57,38,58],[39,57,39,58]]}
["This is The Property of NOR DESIGN SOLUTION"]
[]
[]
[]
[]
["এক্সেল শীট বিষয়ক কিছু জানার থাকলে বা আপডেট নিয়ে কোন পরামর্শ থাকলে আমাদের সাথে যোগাযোগ করুন অথবা ওয়েবসাইটে কমেন্ট করুন"]
["এক্সেল শীট সম্পর্কে যাবতীয় তথ্য বিস্তারিত জানতে ভিজিট করুন আমাদের ইউটিউব চ্যানেলে"]
[{"$nulls":36},"Stone (CFT)"]
["Click Here To Watch The Rcc Wall Estimate video"]
[]
[]
["Rcc Wall Estimated",{"$nulls":20}," R.C.C Wall Estimated And Costing "]
[]
["Description",null,"Type-1","Type-2","Type-3","Type-4","Type-5","Type-6","Type-7","Type-8","Type-9","Type-10","Type-11","Type-12","Type-13","Type-14","Type-15",{"$nulls":4},"DESCRIPTION",null,null,"Quantity",null,"Wastage Add","Quantity (Wastage Add)",null,"Rate",null,"Amount TK"]
[" Rcc Wall Nos",{"$nulls":20},"Cement",null,null,{"$f":"BW23","v":{"v":0,"d":"0 Bag"}},null,{"v":0,"d":"0 % ADD"},{"$f":"Y15+$AA$15*Y15/100","v":{"v":0,"d":"0 Bag"}},null,{"v":2,"d":"2.00 TK"},null,{"$f":"AB15*AD15","v":{"v":0,"d":"0 TK"}}]
["Length,L (ft)",{"$nulls":20},"Sand ",null,null,{"$f":"BW24","v":{"v":0,"d":"0 CFT"}},null,null,{"$f":"Y16+$AA$15*Y16/100","v":{"v":0,"d":"0 CFT"}},null,{"v":3,"d":"3.00 TK"},null,{"$f":"AB16*AD16","v":{"v":0,"d":"0 TK"}}]
["Height,H (ft)",{"$nulls":20},"Stone/Brick Chips",null,null,{"$f":"VLOOKUP(V17,BY29:BZ30,2,0)","v":0},null,null,0,null,{"v":4,"d":"4.00 TK"},null,{"v":0,"d":"0 TK"}]
["Wall Thickness, T (inch)",{"$nulls":20},"Reber",null,null,{"$f":"SUM(BW37:BW40)/1000","v":{"v":0,"d":"0.000 Ton"}},null,null,{"v":0,"d":"0.000 Ton"},null,{"v":5,"d":"5.00 TK"},null,{"v":0,"d":"0 TK"}]
["Clear Cover (inh)",{"$nulls":20},"Formwork ",null,null,{"$f":"BW28","v":{"v":0,"d":"0 SFT"}},null,null,{"v":0,"d":"0 SFT"},null,{"v":6,"d":"6.00 TK"},null,{"v":0,"d":"0 TK"},{"$nulls":27},"Cement","Sand","Stone","Rod","Casting","Excavation","Sand Filling ","Formwork","Brick Nos","Bricl Flat Soling ","C.c"]
[{"$nulls":21},"Casting ",null,null,{"$f":"BW27","v":{"v":0,"d":"0 CFT"}},null,null,{"v":0,"d":"0 CFT"},null,{"v":7,"d":"7.00 TK"},null,{"$f":"AB20*AD20","v":{"v":0,"d":"0 TK"}},{"$nulls":27},{"$f":"AB15","v":{"v":0,"d":"0 Bag"}},{"$f":"AB16","v":{"v":0,"d":"0 CFT"}},{"$f":"BW25+AA15*BW25/100","v":0},{"$f":"AB18","v":{"v":0,"d":"0.000 Ton"}},{"$f":"AB20","v":{"v":0,"d":"0 CFT"}},null,null,{"$f":"AB19","v":{"v":0,"d":"0 SFT"}},{"$f":"BW26+AA15*BW26/100","v":0}]
[{"$nulls":3},"Rcc casting Ratio",{"$nulls":25},"Total Cost=",null,{"$f":"SUM(AF15:AH20)","v":{"v":0,"d":"0 TK"}}]
[{"$nulls":74},"sum"]
[{"$nulls":3},1,{"v":2,"d":"2.0"},4,{"$f":"SUM(D23:F23)","v":{"v":7,"d":"7.0"}},{"$nulls":50},"Cement ",null,{"$f":"IF(C15>0,(BH27*$D$23*1.54)/($G$23*1.25)+1,\"\")","v":""},{"$f":"IF(D15>0,(BI27*$D$23*1.54)/($G$23*1.25)+1,\"\")","v":""},{"$f":"IF(E15>0,(BJ27*$D$23*1.54)/($G$23*1.25)+1,\"\")","v":""},{"$f":"IF(F15>0,(BK27*$D$23*1.54)/($G$23*1.25)+1,\"\")","v":""},{"$f":"IF(G15>0,(BL27*$D$23*1.54)/($G$23*1.25)+1,\"\")","v":""},{"$f":"IF(H15>0,(BM27*$D$23*1.54)/($G$23*1.25)+1,\"\")","v":""},{"$f":"IF(I15>0,(BN27*$D$23*1.54)/($G$23*1.25)+1,\"\")","v":""},{"$f":"IF(J15>0,(BO27*$D$23*1.54)/($G$23*1.25)+1,\"\")","v":""},{"$f":"IF(K15>0,(BP27*$D$23*1.54)/($G$23*1.25)+1,\"\")","v":""},{"$f":"IF(L15>0,(BQ27*$D$23*1.54)/($G$23*1.25)+1,\"\")","v":""},{"$f":"IF(M15>0,(BR27*$D$23*1.54)/($G$23*1.25)+1,\"\")","v":""},{"$f":"IF(N15>0,(BS27*$D$23*1.54)/($G$23*1.25)+1,\"\")","v":""},{"$f":"IF(O15>0,(BT27*$D$23*1.54)/($G$23*1.25)+1,\"\")","v":""},{"$f":"IF(P15>0,(BU27*$D$23*1.54)/($G$23*1.25)+1,\"\")","v":""},{"$f":"IF(Q15>0,(BV27*$D$23*1.54)/($G$23*1.25)+1,\"\")","v":""},{"$f":"SUM(BH23:BV23)","v":{"v":0,"d":"0 Bag"}}]
[{"$nulls":25}," Reinforcement ",{"$nulls":31},"Sand ",null,{"$f":"IF(C15>0,(BH27*1.54*$E$23)/$G$23,\"\")","v":""},{"$f":"IF(D15>0,(BI27*1.54*$E$23)/$G$23,\"\")","v":""},{"$f":"IF(E15>0,(BJ27*1.54*$E$23)/$G$23,\"\")","v":""},{"$f":"IF(F15>0,(BK27*1.54*$E$23)/$G$23,\"\")","v":""},{"$f":"IF(G15>0,(BL27*1.54*$E$23)/$G$23,\"\")","v":""},{"$f":"IF(H15>0,(BM27*1.54*$E$23)/$G$23,\"\")","v":""},{"$f":"IF(I15>0,(BN27*1.54*$E$23)/$G$23,\"\")","v":""},{"$f":"IF(J15>0,(BO27*1.54*$E$23)/$G$23,\"\")","v":""},{"$f":"IF(K15>0,(BP27*1.54*$E$23)/$G$23,\"\")","v":""},{"$f":"IF(L15>0,(BQ27*1.54*$E$23)/$G$23,\"\")","v":""},{"$f":"IF(M15>0,(BR27*1.54*$E$23)/$G$23,\"\")","v":""},{"$f":"IF(N15>0,(BS27*1.54*$E$23)/$G$23,\"\")","v":""},{"$f":"IF(O15>0,(BT27*1.54*$E$23)/$G$23,\"\")","v":""},{"$f":"IF(P15>0,(BU27*1.54*$E$23)/$G$23,\"\")","v":""},{"$f":"IF(Q15>0,(BV27*1.54*$E$23)/$G$23,\"\")","v":""},{"$f":"SUM(BH24:BV24)","v":0}]
["Rebar calculation",null,null,"Type-1","Type-2","Type-3","Type-4","Type-5","Type-6","Type-7","Type-8","Type-9","Type-10","Type-11","Type-12","Type-13","Type-14","Type-15",{"$nulls":8},12,{"$f":"IF(AA25>0,SUMIF($BH$43:$BV$46,AA25,$BX$43:$CL$46),\"\")","v":{"v":0,"d":"0 KG"}},{"$nulls":29},"Stone/Brick Chips",null,{"$f":"IF(C15>0,(BH27*1.54*$F$23)/$G$23,\"\")","v":""},{"$f":"IF(D15>0,(BI27*1.54*$F$23)/$G$23,\"\")","v":""},{"$f":"IF(E15>0,(BJ27*1.54*$F$23)/$G$23,\"\")","v":""},{"$f":"IF(F15>0,(BK27*1.54*$F$23)/$G$23,\"\")","v":""},{"$f":"IF(G15>0,(BL27*1.54*$F$23)/$G$23,\"\")","v":""},{"$f":"IF(H15>0,(BM27*1.54*$F$23)/$G$23,\"\")","v":""},{"$f":"IF(I15>0,(BN27*1.54*$F$23)/$G$23,\"\")","v":""},{"$f":"IF(J15>0,(BO27*1.54*$F$23)/$G$23,\"\")","v":""},{"$f":"IF(K15>0,(BP27*1.54*$F$23)/$G$23,\"\")","v":""},{"$f":"IF(L15>0,(BQ27*1.54*$F$23)/$G$23,\"\")","v":""},{"$f":"IF(M15>0,(BR27*1.54*$F$23)/$G$23,\"\")","v":""},{"$f":"IF(N15>0,(BS27*1.54*$F$23)/$G$23,\"\")","v":""},{"$f":"IF(O15>0,(BT27*1.54*$F$23)/$G$23,\"\")","v":""},{"$f":"IF(P15>0,(BU27*1.54*$F$23)/$G$23,\"\")","v":""},{"$f":"IF(Q15>0,(BV27*1.54*$F$23)/$G$23,\"\")","v":""},0]
["Inside Side","Vertcial Rebar Dia",{"$nulls":24},16,{"$f":"IF(AA26>0,SUMIF($BH$43:$BV$46,AA26,$BX$43:$CL$46),\"\")","v":{"v":0,"d":"0 KG"}},{"$nulls":29},"Brick Nos",null,{"$f":"IF(C15>0,BH25*9.5,\"\")","v":""},{"$f":"IF(D15>0,BI25*9.5,\"\")","v":""},"","","","","","","","","","","","","",0]
[null,"Vertcial Rebar Specing (inch)",{"$nulls":24},20,{"v":0,"d":"0 KG"},{"$nulls":29},"Casting",null,{"$f":"IF(C15>0,C16*C17*(C18/12),\"\")","v":""},{"$f":"IF(D15>0,D16*D17*(D18/12),\"\")","v":""},{"$f":"IF(E15>0,E16*E17*(E18/12),\"\")","v":""},{"$f":"IF(F15>0,F16*F17*(F18/12),\"\")","v":""},{"$f":"IF(G15>0,G16*G17*(G18/12),\"\")","v":""},{"$f":"IF(H15>0,H16*H17*(H18/12),\"\")","v":""},{"$f":"IF(I15>0,I16*I17*(I18/12),\"\")","v":""},{"$f":"IF(J15>0,J16*J17*(J18/12),\"\")","v":""},{"$f":"IF(K15>0,K16*K17*(K18/12),\"\")","v":""},{"$f":"IF(L15>0,L16*L17*(L18/12),\"\")","v":""},{"$f":"IF(M15>0,M16*M17*(M18/12),\"\")","v":""},{"$f":"IF(N15>0,N16*N17*(N18/12),\"\")","v":""},{"$f":"IF(O15>0,O16*O17*(O18/12),\"\")","v":""},{"$f":"IF(P15>0,P16*P17*(P18/12),\"\")","v":""},{"$f":"IF(Q15>0,Q16*Q17*(Q18/12),\"\")","v":""},0]
[null,"Binder Rebar Dia",{"$nulls":24},25,{"v":0,"d":"0 KG"},{"$nulls":29},"Formwork",null,{"$f":"IF(C15>0,((C16*C17)*2)+(((C18/12)*C17)*2),\"\")","v":""},{"$f":"IF(D15>0,((D16*D17)*2)+(((D18/12)*D17)*2),\"\")","v":""},{"$f":"IF(E15>0,((E16*E17)*2)+(((E18/12)*E17)*2),\"\")","v":""},{"$f":"IF(F15>0,((F16*F17)*2)+(((F18/12)*F17)*2),\"\")","v":""},{"$f":"IF(G15>0,((G16*G17)*2)+(((G18/12)*G17)*2),\"\")","v":""},{"$f":"IF(H15>0,((H16*H17)*2)+(((H18/12)*H17)*2),\"\")","v":""},{"$f":"IF(I15>0,((I16*I17)*2)+(((I18/12)*I17)*2),\"\")","v":""},{"$f":"IF(J15>0,((J16*J17)*2)+(((J18/12)*J17)*2),\"\")","v":""},{"$f":"IF(K15>0,((K16*K17)*2)+(((K18/12)*K17)*2),\"\")","v":""},{"$f":"IF(L15>0,((L16*L17)*2)+(((L18/12)*L17)*2),\"\")","v":""},{"$f":"IF(M15>0,((M16*M17)*2)+(((M18/12)*M17)*2),\"\")","v":""},{"$f":"IF(N15>0,((N16*N17)*2)+(((N18/12)*N17)*2),\"\")","v":""},{"$f":"IF(O15>0,((O16*O17)*2)+(((O18/12)*O17)*2),\"\")","v":""},{"$f":"IF(P15>0,((P16*P17)*2)+(((P18/12)*P17)*2),\"\")","v":""},{"$f":"IF(Q15>0,((Q16*Q17)*2)+(((Q18/12)*Q17)*2),\"\")","v":""},0]
[null,"Binder Rebar Specing (inch)",{"$nulls":25},"",{"$nulls":28},"Out Side Rod  ",null,"nos",{"$f":"IF(AND(C15>0,D30>0),(C16*12-C19-C19)/D31+1,\"0\")","v":"0"},{"$f":"IF(AND(D15>0,E30>0),(D16*12-D19-D19)/E31+1,\"0\")","v":"0"},"0","0","0","0","0","0","0","0","0","0","0","0","0",0,null,"Stone/Brick Chips",{"$f":"BW25","v":0}]
["Out Side","Vertcial Rebar Dia",{"$nulls":25},"",{"$nulls":30},"length",{"$f":"IF(AND(C15>0,D30>0),(C17+(D34/12))-C19/12,\"0\")","v":"0"},{"$f":"IF(AND(D15>0,E30>0),(D17+(E34/12))-D19/12,\"0\")","v":"0"},"0","0","0","0","0","0","0","0","0","0","0","0","0",0,null,"Brick Nos",{"$f":"BW26","v":0}]
[null,"Vertcial Rebar Specing (inch)",{"$nulls":25},"",{"$nulls":28},"Out Side Binder Rod  ",null,"nos",{"$f":"IF(AND(C15>0,D32>0),((C17*12)/D33)+1,\"0\")","v":"0"},{"$f":"IF(AND(D15>0,E32>0),((D17*12)/E33)+1,\"0\")","v":"0"},"0","0","0","0","0","0","0","0","0","0","0","0","0",0]
[null,"Binder Rebar Dia",{"$nulls":25},"",{"$nulls":30},"length",{"$f":"IF(C15>0,(C16+(D34/12))-C19/12,\"\")","v":""},{"$f":"IF(D15>0,(D16+(E34/12))-D19/12,\"\")","v":""},{"$f":"IF(E15>0,(E16+(F34/12))-E19/12,\"\")","v":""},{"$f":"IF(F15>0,(F16+(G34/12))-F19/12,\"\")","v":""},{"$f":"IF(G15>0,(G16+(H34/12))-G19/12,\"\")","v":""},{"$f":"IF(H15>0,(H16+(I34/12))-H19/12,\"\")","v":""},{"$f":"IF(I15>0,(I16+(J34/12))-I19/12,\"\")","v":""},{"$f":"IF(J15>0,(J16+(K34/12))-J19/12,\"\")","v":""},{"$f":"IF(K15>0,(K16+(L34/12))-K19/12,\"\")","v":""},{"$f":"IF(L15>0,(L16+(M34/12))-L19/12,\"\")","v":""},{"$f":"IF(M15>0,(M16+(N34/12))-M19/12,\"\")","v":""},{"$f":"IF(N15>0,(N16+(O34/12))-N19/12,\"\")","v":""},{"$f":"IF(O15>0,(O16+(P34/12))-O19/12,\"\")","v":""},{"$f":"IF(P15>0,(P16+(Q34/12))-P19/12,\"\")","v":""},{"$f":"IF(Q15>0,(Q16+(R34/12))-Q19/12,\"\")","v":""},0]
[null,"Binder Rebar Specing (inch)",{"$nulls":25},"",{"$nulls":28},"inside Side Rod  ",null,"nos",{"$f":"IF(AND(C15>0,D26>0),(C16*12-C19-C19)/D27+1,\"0\")","v":"0"},{"$f":"IF(AND(D15>0,E26>0),(D16*12-D19-D19)/E27+1,\"0\")","v":"0"},"0","0","0","0","0","0","0","0","0","0","0","0","0",0]
["Development length (inh)",{"$nulls":57},"length",{"$f":"IF(AND(C15>0,D26>0),(C17+(D34/12))-C19/12,\"0\")","v":"0"},{"$f":"IF(AND(D15>0,E26>0),(D17+(E34/12))-D19/12,\"0\")","v":"0"},"0","0","0","0","0","0","0","0","0","0","0","0","0",0]
[{"$nulls":56},"inside Side Binder",null,"nos",{"$f":"IF(AND(C15>0,D28>0),((C17*12)/D27)+1,\"0\")","v":"0"},{"$f":"IF(AND(D15>0,E28>0),((D17*12)/E27)+1,\"0\")","v":"0"},"0","0","0","0","0","0","0","0","0","0","0","0","0",0]
[{"$nulls":58},"length",{"$f":"IF(AND(C15>0,D28>0),(C16+(D34/12))-C19/12,\"0\")","v":"0"},{"$f":"IF(AND(D15>0,E28>0),(D16+(E34/12))-D19/12,\"0\")","v":"0"},"0","0","0","0","0","0","0","0","0","0","0","0","0",0]
[{"$nulls":57},"Out Side Rod  ",null,{"$f":"IF(C15>0,(BH29*BH30*(D30^2/532))*C15,\"\")","v":""},{"$f":"IF(D15>0,(BI29*BI30*(E30^2/532))*D15,\"\")","v":""},"","","","","","","","","","","","","",0]
[{"$nulls":57},"Out Side Binder",null,{"$f":"IF(C15>0,(BH31*BH32*(D32^2/532))*C15,\"\")","v":""},{"$f":"IF(D15>0,(BI31*BI32*(E32^2/532))*D15,\"\")","v":""},"","","","","","","","","","","","","",0]
[{"$nulls":57},"inSide Rod  ",null,{"$f":"IF(C15>0,(BH33*BH34*(D26^2/532))*C15,\"\")","v":""},{"$f":"IF(D15>0,(BI33*BI34*(E26^2/532))*D15,\"\")","v":""},"","","","","","","","","","","","","",0]
[{"$nulls":57},"inSide Binder",null,{"$f":"IF(C15>0,(BH35*BH36*(D28^2/532))*C15,\"\")","v":""},{"$f":"IF(D15>0,(BI35*BI36*(E28^2/532))*D15,\"\")","v":""},"","","","","","","","","","","","","",0]
[]
[]
[{"$nulls":59},{"$f":"D26","v":{"v":0,"d":"0 MM"}},{"$f":"E26","v":{"v":0,"d":"0 MM"}},{"v":0,"d":"0 MM"},{"v":0,"d":"0 MM"},{"v":0,"d":"0 MM"},{"v":0,"d":"0 MM"},{"v":0,"d":"0 MM"},{"v":0,"d":"0 MM"},{"v":0,"d":"0 MM"},{"v":0,"d":"0 MM"},{"v":0,"d":"0 MM"},{"v":0,"d":"0 MM"},{"v":0,"d":"0 MM"},{"v":0,"d":"0 MM"},{"v":0,"d":"0 MM"},null,{"$f":"IF(C15>0,BH37+$AA$15*BH37/100,\"\")","v":""},{"$f":"IF(D15>0,BI37+$AA$15*BI37/100,\"\")","v":""},"","","","","","","","","","","","",""]
[{"$nulls":59},{"$f":"D28","v":{"v":0,"d":"0 MM"}},{"$f":"E28","v":{"v":0,"d":"0 MM"}},{"v":0,"d":"0 MM"},{"v":0,"d":"0 MM"},{"v":0,"d":"0 MM"},{"v":0,"d":"0 MM"},{"v":0,"d":"0 MM"},{"v":0,"d":"0 MM"},{"v":0,"d":"0 MM"},{"v":0,"d":"0 MM"},{"v":0,"d":"0 MM"},{"v":0,"d":"0 MM"},{"v":0,"d":"0 MM"},{"v":0,"d":"0 MM"},{"v":0,"d":"0 MM"},null,{"$f":"IF(C15>0,BH38+$AA$15*BH38/100,\"\")","v":""},{"$f":"IF(D15>0,BI38+$AA$15*BI38/100,\"\")","v":""},"","","","","","","","","","","","",""]
[{"$nulls":59},{"$f":"D30","v":{"v":0,"d":"0 MM"}},{"$f":"E30","v":{"v":0,"d":"0 MM"}},{"v":0,"d":"0 MM"},{"v":0,"d":"0 MM"},{"v":0,"d":"0 MM"},{"v":0,"d":"0 MM"},{"v":0,"d":"0 MM"},{"v":0,"d":"0 MM"},{"v":0,"d":"0 MM"},{"v":0,"d":"0 MM"},{"v":0,"d":"0 MM"},{"v":0,"d":"0 MM"},{"v":0,"d":"0 MM"},{"v":0,"d":"0 MM"},{"v":0,"d":"0 MM"},null,{"$f":"IF(C15>0,BH39+$AA$15*BH39/100,\"\")","v":""},{"$f":"IF(D15>0,BI39+$AA$15*BI39/100,\"\")","v":""},"","","","","","","","","","","","",""]
[{"$nulls":59},{"$f":"D32","v":{"v":0,"d":"0 MM"}},{"$f":"E32","v":{"v":0,"d":"0 MM"}},{"v":0,"d":"0 MM"},{"v":0,"d":"0 MM"},{"v":0,"d":"0 MM"},{"v":0,"d":"0 MM"},{"v":0,"d":"0 MM"},{"v":0,"d":"0 MM"},{"v":0,"d":"0 MM"},{"v":0,"d":"0 MM"},{"v":0,"d":"0 MM"},{"v":0,"d":"0 MM"},{"v":0,"d":"0 MM"},{"v":0,"d":"0 MM"},{"v":0,"d":"0 MM"},null,{"$f":"IF(C15>0,BH40+$AA$15*BH40/100,\"\")","v":""},{"$f":"IF(D15>0,BI40+$AA$15*BI40/100,\"\")","v":""},"","","","","","","","","","","","",""]

{"sheet":"WATER RESERVOIR","index":14,"n_rows":71,"n_cols":71,"rows_kept":71,"hidden":true,"merged":[[0,0,1,16],[2,0,3,16],[4,0,4,16],[5,0,6,16],[7,0,7,16],[8,63,8,65],[9,63,9,65],[9,67,10,70],[10,0,11,15],[10,22,11,34],[11,68,11,69],[12,0,12,1],[12,4,13,7],[12,8,13,10],[12,11,12,13],[12,22,12,24],[12,25,12,26],[12,28,12,29],[12,30,12,31],[12,32,12,34],[12,58,13,61],[12,68,12,69],[13,0,13,1],[13,11,16,11],[13,12,13,13],[13,22,13,24],[13,25,13,26],[13,27,22,27],[13,28,13,29],[13,30,13,31],[13,32,13,34],[13,50,13,53],[13,55,13,56],[13,68,13,69],[14,0,14,1],[14,12,14,13],[14,22,14,24],[14,25,14,26],[14,28,14,29],[14,30,14,31],[14,32,14,34],[14,51,14,52],[14,55,14,56],[14,58,14,59],[14,68,14,69],[15,0,15,1],[15,12,15,13],[15,22,15,24],[15,25,15,26],[15,28,15,29],[15,30,15,31],[15,32,15,34],[15,51,15,52],[15,55,15,56],[15,58,15,59],[15,68,15,69],[16,0,16,1],[16,12,16,13],[16,22,16,24],[16,25,16,26],[16,28,16,29],[16,30,16,31],[16,32,16,34],[16,51,16,52],[16,55,16,56],[16,58,16,59],[16,68,16,69],[17,0,17,1],[17,11,20,11],[17,12,17,13],[17,22,17,24],[17,25,17,26],[17,28,17,29],[17,30,17,31],[17,32,17,34],[17,51,17,52],[17,55,17,56],[17,58,17,59],[17,67,18,68],[18,0,18,1],[18,12,18,13],[18,22,18,24],[18,25,18,26],[18,28,18,29],[18,30,18,31],[18,32,18,34],[18,51,18,52],[18,55,18,56],[18,58,18,59],[19,0,19,1],[19,12,19,13],[19,22,19,24],[19,25,19,26],[19,28,19,29],[19,30,19,31],[19,32,19,34],[19,51,19,52],[19,55,19,56],[19,58,19,59],[19,67,20,68],[20,12,20,13],[20,22,20,24],[20,25,20,26],[20,28,20,29],[20,30,20,31],[20,32,20,34],[20,51,20,52],[20,55,20,56],[20,58,20,59],[21,11,21,13],[21,22,21,24],[21,25,21,26],[21,28,21,29],[21,30,21,31],[21,32,21,34],[21,51,21,52],[21,55,21,56],[21,58,21,59],[21,67,22,68],[22,22,22,24],[22,25,22,26],[22,28,22,29],[22,30,22,31],[22,32,22,34],[22,51,22,52],[22,55,22,56],[23,30,23,31],[23,32,23,34],[23,51,23,52],[23,55,23,56],[23,58,24,61],[23,67,24,68],[24,51,24,52],[24,55,24,56],[25,0,26,10],[25,12,26,14],[25,50,28,50],[25,51,25,52],[25,55,25,56],[25,58,25,59],[25,68,25,69],[26,25,26,29],[26,51,26,52],[26,55,26,56],[26,58,26,59],[26,68,26,69],[27,0,27,1],[27,3,28,6],[27,7,27,9],[27,12,27,13],[27,27,27,28],[27,51,27,52],[27,55,27,56],[27,58,27,59],[27,68,27,69],[28,0,28,1],[28,7,31,7],[28,8,28,9],[28,12,28,13],[28,27,28,28],[28,51,28,52],[28,55,28,56],[28,58,28,59],[28,68,28,69],[29,0,29,1],[29,8,29,9],[29,12,29,13],[29,27,29,28],[30,0,30,1],[30,8,30,9],[30,12,30,13],[30,27,30,28],[31,0,31,1],[31,8,31,9],[31,12,31,13],[31,27,31,28],[32,0,32,1],[32,7,35,7],[32,8,32,9],[32,27,32,28],[33,8,33,9],[33,12,33,14],[33,27,33,28],[34,8,34,9],[34,27,34,28],[35,8,35,9],[35,27,35,28],[36,7,36,9],[36,27,36,28],[40,60,40,67],[41,66,41,67],[42,60,42,61],[42,66,42,67],[43,60,43,61],[43,66,43,67],[44,60,44,61],[44,66,44,67],[45,60,45,61],[45,66,45,67],[46,60,46,61],[46,66,46,67],[47,60,47,61],[47,66,47,67],[48,60,48,61],[48,66,48,67],[49,60,49,61],[49,66,49,67],[50,60,50,61],[50,66,50,67],[51,60,51,61],[51,66,51,67],[52,60,52,61],[52,66,52,67],[53,60,53,61],[53,66,53,67],[54,60,54,61],[54,66,54,67],[55,59,56,60],[55,66,55,67],[56,66,56,67],[57,59,58,60],[57,66,57,67],[58,66,58,67],[59,59,60,60],[59,66,59,67],[60,66,60,67],[61,59,62,60],[61,66,61,67],[62,66,62,67],[63,59,66,59],[63,60,63,61],[63,66,63,67],[64,60,64,61],[64,66,64,67],[65,60,65,61],[65,66,65,67],[66,60,66,61],[66,66,66,67],[67,59,70,59],[67,60,67,61],[67,66,67,67],[68,60,68,61],[68,66,68,67],[69,60,69,61],[69,66,69,67],[70,60,70,61],[70,66,70,67]]}
["This is The Property of NOR DESIGN SOLUTION"]
[]
[]
[]
["এক্সেল শীট বিষয়ক কিছু জানার থাকলে বা আপডেট নিয়ে কোন পরামর্শ থাকলে আমাদের সাথে যোগাযোগ করুন অথবা ওয়েবসাইটে কমেন্ট করুন"]
["এক্সেল শীট সম্পর্কে যাবতীয় তথ্য বিস্তারিত জানতে ভিজিট করুন আমাদের ইউটিউব চ্যানেলে"]
[]
["Click Here To Watch The WATER RESERVOIR Estimate video",{"$nulls":22}," "]
[{"$nulls":52},"Cement","Sand","Stone","Rod","Casting","Excavation","Sand Filling ","Formwork","Brick Nos","Bricl Flat Soling ","C.c","Masonry Brick"]
[{"$nulls":52},{"$f":"AC14","v":{"v":0,"d":"0 Bag"}},{"$f":"AC15","v":{"v":0,"d":"0 CFT"}},{"$f":"BO49+AB14*BO49/100","v":0},{"$f":"AC17","v":{"v":0,"d":"0.000 Ton"}},{"$f":"Z23","v":{"v":0,"d":"0 CFT"}},null,{"$f":"AC19","v":{"v":0,"d":"0 CFT"}},{"$f":"AC18","v":{"v":0,"d":"0 SFT"}},{"$f":"BO50+AB14*BO50/100","v":0},{"$f":"AC20","v":{"v":0,"d":"0 Nos"}},{"$f":"AC21","v":{"v":0,"d":"0 CFT"}},{"$f":"AC22","v":{"v":0,"d":"0 SFT"}},{"$nulls":3},"Rcc Wall "]
["WATER RESERVOIR SLAB ",{"$nulls":21},"WATER RESERVOIR Estimated And Costing "]
[{"$nulls":68},"Cement ",null,{"$f":"IF(C29>0,(BS16*D30*1.54)/(G30*1.25),\"\")","v":""}]
["Description",null,"Top Slab","Bottom Slab","Rcc casting Ratio",{"$nulls":3},"C.C casting Ratio",null,null,"Rebar calculation",null,null,"Top Slab","Bottom Slab",{"$nulls":6},"DESCRIPTION",null,null,"Quantity",null,"Wastage Add","Quantity (Wastage Add)",null,"Rate",null,"Amount TK",{"$nulls":25},"All Rebar",{"$nulls":9},"Sand ",null,{"$f":"IF(C29>0,(BS16*1.54*E30)/G30,\"\")","v":""}]
["Length,L (ft)",{"$nulls":10},"Bottom layer","long direction Dia (mm)",{"$nulls":9},"Cement",null,null,{"$f":"BO45+BO47","v":{"v":0,"d":"0 Bag"}},null,{"v":10,"d":"10 % ADD"},{"$f":"Z14+$AB$14*Z14/100","v":{"v":0,"d":"0 Bag"}},null,{"v":2,"d":"2.00 TK"},null,{"$f":"AC14*AE14","v":{"v":0,"d":"0 TK"}},{"$nulls":17},"WATER RESERVOIR SLAB ",{"$nulls":4},"SUM",{"$nulls":12},"Stone/Brick Chips",null,{"$f":"IF(C29>0,(BS16*1.54*F30)/G30,\"\")","v":""}]
["Breadth,B (ft)",{"$nulls":3},1,{"v":2,"d":"2.0"},4,{"$f":"SUM(E15:G15)","v":{"v":7,"d":"7.0"}},1,3,{"$f":"SUM(I15:J15)","v":{"v":4,"d":"4.0"}},null,"Specing(inh)",{"$nulls":9},"Sand ",null,null,{"$f":"BO46+BO48","v":{"v":0,"d":"0 CFT"}},null,null,{"v":0,"d":"0 CFT"},null,{"v":3,"d":"3.00 TK"},null,{"v":0,"d":"0 TK"},{"$nulls":18},"Cement (cc)",null,{"$f":"(BB23*$I$15*1.54)/($K$15*1.25)","v":{"v":0,"d":"0 Bag"}},{"$f":"(BC23*$I$15*1.54)/($K$15*1.25)","v":{"v":0,"d":"0 Bag"}},{"$f":"SUM(BB15:BC15)","v":0},null,null,"Bottom long direction",null,{"$f":"O14","v":{"v":0,"d":"0 MM"}},{"$f":"P14","v":{"v":0,"d":"0 MM"}},null,{"$f":"IF(O14>0,BB26+$AB$14*BB26/100,\"\")","v":""},{"$f":"IF(P14>0,BC26+$AB$14*BC26/100,\"\")","v":""},{"$nulls":3},"Brick Nos",null,{"$f":"IF(C29>0,BS14*9.5,\"\")","v":""}]
["Thickness, T (inch)",{"$nulls":11},"Short direction  Dia (mm)",{"$nulls":9},"Stone/Brick Chips",null,null,{"$f":"VLOOKUP(W16,BF45:BG46,2,0)","v":0},null,null,0,null,{"v":4,"d":"4.00 TK"},null,{"v":0,"d":"0 TK"},{"$nulls":18},"Sand (cc)",null,{"$f":"($BB$23*1.54*J15)/$K$15","v":{"v":0,"d":"0 CFT"}},{"$f":"($BB$23*1.54*K15)/$K$15","v":{"v":0,"d":"0 CFT"}},0,null,null,"Bottom Short direct",null,{"$f":"O16","v":{"v":0,"d":"0 MM"}},{"$f":"P16","v":{"v":0,"d":"0 MM"}},null,{"$f":"IF(O14>0,BB27+$AB$14*BB27/100,\"\")","v":""},{"$f":"IF(P14>0,BC27+$AB$14*BC27/100,\"\")","v":""},{"$nulls":3},"Casting",null,{"$f":"IF(C29>0,(C30*C31*(C32/12))*C29,\"\")","v":""}]
["Clear Cover (inh)",{"$nulls":11},"Specing (inh)",{"$nulls":9},"Reber",null,null,{"$f":"SUM(BO64:BP71)/1000","v":{"v":0,"d":"0.000 Ton"}},null,null,{"v":0,"d":"0.000 Ton"},null,{"v":5,"d":"5.00 TK"},null,{"v":0,"d":"0 TK"},{"$nulls":18},"Cement ",null,{"$f":"(BB21*$E$15*1.54)/($H$15*1.25)","v":{"v":0,"d":"0 Bag"}},{"$f":"(BC21*$E$15*1.54)/($H$15*1.25)","v":{"v":0,"d":"0 Bag"}},0,null,null,"Top long direction",null,{"$f":"O18","v":{"v":0,"d":"0 MM"}},{"$f":"P18","v":{"v":0,"d":"0 MM"}},null,{"$f":"IF(O14>0,BB28+$AB$14*BB28/100,\"\")","v":""},{"$f":"IF(P14>0,BC28+$AB$14*BC28/100,\"\")","v":""},{"$nulls":3},"Formwork",null,{"$f":"IF(C29>0,(C30*C31)*C29,\"\")","v":""}]
[" C.C (inch)",{"$nulls":10},"Top layer","long direction Dia (mm)",{"$nulls":9},"Formwork ",null,null,{"$f":"BO55","v":{"v":0,"d":"0 SFT"}},null,null,{"v":0,"d":"0 SFT"},null,{"v":6,"d":"6.00 TK"},null,{"v":0,"d":"0 TK"},{"$nulls":18},"Sand ",null,{"$f":"(BB21*1.54*$F$15)/($H$15*1.25)","v":{"v":0,"d":"0 CFT"}},{"$f":"(BC21*1.54*$F$15)/($H$15*1.25)","v":{"v":0,"d":"0 CFT"}},0,null,null,"Top  Short direction  ",null,{"$f":"O20","v":{"v":0,"d":"0 MM"}},{"$f":"P20","v":{"v":0,"d":"0 MM"}},null,{"$f":"IF(O14>0,BB29+$AB$14*BB29/100,\"\")","v":""},{"$f":"IF(P14>0,BC29+$AB$14*BC29/100,\"\")","v":""},null,null,"inside Side Rod  ",null,"nos",{"$f":"IF(AND(C29>0,K29>0),(C30/(K30/12))+1,\"0\")","v":"0"}]
["Sand Filling (inch)",{"$nulls":11},"Specing(inh)",{"$nulls":9},"Sand Filling",null,null,{"$f":"BO52","v":{"v":0,"d":"0 CFT"}},null,null,{"v":0,"d":"0 CFT"},null,{"v":7,"d":"7.00 TK"},null,{"v":0,"d":"0 TK"},{"$nulls":18},"Stone/Brick Chips",null,{"$f":"($G$15*1.54*BB21)/$H$15","v":{"v":0,"d":"0 CFT"}},{"$f":"($G$15*1.54*BC21)/$H$15","v":{"v":0,"d":"0 CFT"}},0,null,null,"inside Vertcial Rebar ",null,{"$f":"K29","v":{"v":0,"d":"0 MM"}},null,null,{"$f":"IF(C29>0,BS26+$AB$14*BS26/100,\"\")","v":""},{"$nulls":5},"length",{"$f":"IF(AND(C29>0,K29>0),(C31+(K37/12)),\"0\")","v":"0"}]
["Brick Flat SOLING (inch)",{"$nulls":11},"Short direction  Dia (mm)",{"$nulls":9},"Brick Flat",null,null,{"$f":"BO54*3","v":{"v":0,"d":"0 Nos"}},null,null,{"v":0,"d":"0 Nos"},null,{"v":8,"d":"8.00 TK"},null,{"v":0,"d":"0 TK"},{"$nulls":18},"Brick Nos",null,{"$f":"BB19*9.5","v":{"v":0,"d":"0  Nos"}},{"$f":"BC19*9.5","v":{"v":0,"d":"0  Nos"}},0,null,null,"inside Vertcial Binder ",null,{"$f":"K31","v":{"v":0,"d":"0 MM"}},null,null,{"$f":"IF(C29>0,BS27+$AB$14*BS27/100,\"\")","v":""},{"$nulls":3},"inside Side Binder",null,"nos",{"$f":"IF(AND(C29>0,K31>0),(C31/(K32/12))+1,\"0\")","v":"0"}]
[{"$nulls":12},"Specing (inh)",{"$nulls":9},"C.C",null,null,{"$f":"BO53","v":{"v":0,"d":"0 CFT"}},null,null,{"v":0,"d":"0 CFT"},null,{"v":9,"d":"9.00 TK"},null,{"v":0,"d":"0 TK"},{"$nulls":18},"Casting",null,{"$f":"((C14*C15*(C16/12)))","v":{"v":0,"d":"0 CFT"}},{"$f":"((D14*D15*(D16/12)))","v":{"v":0,"d":"0 CFT"}},0,null,null,"Outside Vertcial Rebar ",null,{"$f":"K33","v":{"v":0,"d":"0 MM"}},null,null,{"$f":"IF(C29>0,BS28+$AB$14*BS28/100,\"\")","v":""},{"$nulls":5},"length",{"$f":"IF(AND(C29>0,K31>0),(C30)-((C33/12)*2),\"0\")","v":"0"}]
[{"$nulls":11},"Development length (inh)",{"$nulls":10},"Masonry Brick",null,null,{"$f":"BO43","v":{"v":0,"d":"0 Nos"}},null,null,{"v":0,"d":"0 SFT"},null,{"v":10,"d":"10.00 TK"},null,{"v":0,"d":"0 TK"},{"$nulls":18},"Sand Filling",null,{"$f":"C14*C15*(C19/12)","v":{"v":0,"d":"0 CFT"}},{"$f":"D14*D15*(D19/12)","v":{"v":0,"d":"0 CFT"}},0,null,null,"outsideVertcial Binder ",null,{"$f":"K35","v":{"v":0,"d":"0 MM"}},null,null,{"$f":"IF(C29>0,BS29+$AB$14*BS29/100,\"\")","v":""},{"$nulls":3},"Out Side Rod  ",null,"nos",{"$f":"IF(AND(C29>0,K33>0),(C30/(K34/12))+1,\"0\")","v":"0"}]
[{"$nulls":22},"Casting ",null,null,{"$f":"BO51","v":{"v":0,"d":"0 CFT"}},null,null,{"v":0,"d":"0 CFT"},null,{"v":11,"d":"11.00 TK"},null,{"$f":"AC23*AE23","v":{"v":0,"d":"0 TK"}},{"$nulls":18},"C.C",null,{"$f":"C14*C15*(C18/12)","v":{"v":0,"d":"0 CFT"}},{"$f":"D14*D15*(D18/12)","v":{"v":0,"d":"0 CFT"}},0,{"$nulls":13},"length",{"$f":"IF(AND(C29>0,K33>0),C31+(K37/12),\"0\")","v":"0"}]
[{"$nulls":30},"Total Cost=",null,{"$f":"SUM(AG14:AI23)","v":{"v":0,"d":"0 TK"}},{"$nulls":18},"Brick Falt Soling",null,{"$f":"C14*C15","v":{"v":0,"d":"0 SFT"}},{"$f":"D14*D15","v":{"v":0,"d":"0 SFT"}},0,null,null,"Brick Masonry ",{"$nulls":8},"Out Side Binder Rod  ",null,"nos",{"$f":"IF(AND(C29>0,K35>0),(C31/(K36/12))+1,\"0\")","v":"0"}]
[{"$nulls":51},"Formwork",null,{"$f":"(C14+C15)*(C16/12)","v":{"v":0,"d":"0 SFT"}},{"$f":"(D14+D15)*(D16/12)","v":{"v":0,"d":"0 SFT"}},0,{"$nulls":13},"length",{"$f":"IF(AND(C29>0,K35>0),C30-((C33/12)*2),\"0\")","v":"0"}]
["Rcc Wall Estimated",{"$nulls":11},"Brick Masonry ",{"$nulls":37},"Slab","Bottom long ",null,{"$f":"IF(O14>0,((C15*12-C17-C17)/O15+1)*O14^2/532*(C14*12-C17-C17+O22+O22)/12,\"\")","v":""},{"$f":"IF(P14>0,((D15*12-D17-D17)/P15+1)*P14^2/532*(D14*12-D17-D17+P22+P22)/12,\"\")","v":""},0,null,null,"Total Mortar ",null,{"$f":"IF(#REF!>0,(#REF!*#REF!*(#REF!/12)),\"\")","v":{"$error":"#REF!"}},{"$f":"IF(O29>0,(O30*O31*(O32/12)),\"\")","v":""},{"$nulls":6},"Out Side Rod  ",null,{"$f":"IF(C29>0,((K29^2/532)*BS18*BS19)*C29,\"\")","v":""}]
[{"$nulls":25}," Reinforcement ",{"$nulls":25},"Bottom Short",null,{"$f":"IF(O16>0,((C14*12-C17-C17)/O17+1)*O16^2/532*(C15*12-C17-C17+O22+O22)/12,\"\")","v":""},{"$f":"IF(P16>0,((D14*12-D17-D17)/P17+1)*P16^2/532*(D15*12-D17-D17+P22+P22)/12,\"\")","v":""},0,null,null,"Cement",null,{"$f":"IF(#REF!>0,((BI26*$M$35)/$O$35)/1.25,\"\")","v":{"$error":"#REF!"}},{"$f":"IF(O29>0,((BJ26*$M$35)/$O$35)/1.25,\"\")","v":""},{"$nulls":6},"Out Side Binder",null,{"$f":"IF(C29>0,((K31^2/532)*BS20*BS21)*C29,\"\")","v":""}]
["Description",null,"Type-1","Rcc casting Ratio",{"$nulls":3},"Long Column Rebar calculation",null,null,"Type-1",null,"Description",null,"Type-2",{"$nulls":11},10,{"$f":"IF(AA28>0,SUMIF($BI$15:$BJ$22,AA28,$BL$15:$BM$22),\"\")","v":{"v":0,"d":"0 KG"}},{"$nulls":23},"Top long ",null,{"$f":"IF(O18>0,((C15*12-C17-C17)/O19+1)*O18^2/532*(C14*12-C17-C17+O22+O22)/12,\"\")","v":""},{"$f":"IF(P18>0,((D15*12-D17-D17)/P19+1)*P18^2/532*(D14*12-D17-D17+P22+P22)/12,\"\")","v":""},0,null,null,"sand",null,{"$f":"IF(#REF!>0,((BI26*$N$35)/$O$35),\"\")","v":{"$error":"#REF!"}},{"$f":"IF(O29>0,((BJ26*$N$35)/$O$35),\"\")","v":""},{"$nulls":6},"inSide Rod  ",null,{"$f":"IF(C29>0,((K33^2/532)*BS22*BS23)*C29,\"\")","v":""}]
[" Rcc Wall Nos",{"$nulls":6},"Inside Side","Vertcial Rebar Dia",{"$nulls":3},"Nos",{"$nulls":13},12,{"$f":"IF(AA29>0,SUMIF($BI$15:$BJ$22,AA29,$BL$15:$BM$22),\"\")","v":{"v":0,"d":"0 KG"}},{"$nulls":23},"Top Short",null,{"$f":"IF(O20>0,((C14*12-C17-C17)/O21+1)*O20^2/532*(C15*12-C17-C17+O22+O22)/12,\"\")","v":""},{"$f":"IF(P20>0,((D14*12-D17-D17)/P21+1)*P20^2/532*(D15*12-D17-D17+P22+P22)/12,\"\")","v":""},0,null,null,"Total Brick",null,{"$f":"IF(#REF!>0,IF(#REF!=10,(#REF!*#REF!*(#REF!/12)*9.5),IF(#REF!=5,(#REF!*#REF!)*(#REF!/12)*9.5,)),\"\")","v":{"$error":"#REF!"}},{"$f":"IF(O29>0,IF(O32=10,(O30*O31*(O32/12)*9.5),IF(O32=5,(O30*O31)*(O32/12)*9.5,)),\"\")","v":""},{"$nulls":6},"inSide Binder",null,{"$f":"IF(C29>0,((K35^2/532)*BS24*BS25)*C29,\"\")","v":""}]
["Length,L (ft)",null,null,1,{"v":2,"d":"2.0"},4,{"$f":"SUM(D30:F30)","v":{"v":7,"d":"7.0"}},null,"Vertcial Rebar Specing (inch)",{"$nulls":3},"Wall Length,L (ft)",{"$nulls":13},16,{"v":0,"d":"0 KG"}]
["Height,H (ft)",{"$nulls":7},"Binder Rebar Dia",{"$nulls":3},"Wall Height,H (ft)",{"$nulls":13},20,{"v":0,"d":"0 KG"}]
["Wall Thickness, T (inch)",{"$nulls":7},"Binder Rebar Specing (inch)",{"$nulls":3},"Thickness,T (inch)",{"$nulls":14},""]
["Clear Cover (inh)",{"$nulls":6},"Out Side","Vertcial Rebar Dia",{"$nulls":18},""]
[{"$nulls":8},"Vertcial Rebar Specing (inch)",{"$nulls":3},"Brick Mortar Ratio",{"$nulls":14},""]
[{"$nulls":8},"Binder Rebar Dia",{"$nulls":3},1,4,{"$f":"IF(O29>0,M35+N35,\"\")","v":""},{"$nulls":12},""]
[{"$nulls":8},"Binder Rebar Specing (inch)",{"$nulls":18},""]
[{"$nulls":7},"Development length (inh)"]
[]
[]
[]
[{"$nulls":60},"All result"]
[{"$nulls":66},"Sum"]
[{"$nulls":60},"Masonry Brick",{"$nulls":4},{"$f":"BJ29","v":""},{"$f":"SUM(BK43:BN43)","v":0}]
[{"$nulls":60},"Total Mortar ",{"$nulls":4},{"$f":"BJ26","v":""},0]
[{"$nulls":57},"Stone/Brick Chips",{"$f":"BO49","v":0},null,"Cement (cc)",null,{"$f":"BB15","v":{"v":0,"d":"0.00"}},{"$f":"BC15","v":{"v":0,"d":"0.00"}},null,{"$f":"BJ27","v":""},0]
[{"$nulls":57},"Brick Nos",{"$f":"BO50","v":0},null,"Sand (cc)",null,{"v":0,"d":"0.00"},{"v":0,"d":"0.00"},null,{"$f":"BJ28","v":""},0]
[{"$nulls":60},"Cement ",null,{"v":0,"d":"0.00"},{"v":0,"d":"0.00"},{"$f":"BS12","v":""},null,0]
[{"$nulls":60},"Sand ",null,{"v":0,"d":"0.00"},{"v":0,"d":"0.00"},{"$f":"BS13","v":""},null,0]
[{"$nulls":60},"Stone/Brick Chips",null,{"v":0,"d":"0.00"},{"v":0,"d":"0.00"},{"$f":"BS14","v":""},null,0]
[{"$nulls":60},"Brick Nos",null,{"v":0,"d":"0.00"},{"v":0,"d":"0.00"},{"$f":"BS15","v":""},null,0]
[{"$nulls":60},"Casting",null,{"v":0,"d":"0.00"},{"v":0,"d":"0.00"},{"$f":"BS16","v":""},null,0]
[{"$nulls":60},"Sand Filling",null,{"v":0,"d":"0.00"},{"v":0,"d":"0.00"},null,null,0]
[{"$nulls":60},"C.C",null,{"v":0,"d":"0.00"},{"v":0,"d":"0.00"},null,null,0]
[{"$nulls":60},"Brick Falt Soling",null,{"v":0,"d":"0.00"},{"v":0,"d":"0.00"},null,null,0]
[{"$nulls":60},"Formwork",null,{"v":0,"d":"0.00"},{"v":0,"d":"0.00"},{"$f":"BS17","v":""},null,0]
[{"$nulls":59},"Out Side Rod  ",null,"nos",null,null,{"$f":"BS18","v":"0"},null,{"$f":"SUM(BK56:BN56)","v":0}]
[{"$nulls":61},"length",null,null,"0",null,0]
[{"$nulls":59},"Out Side Binder Rod  ",null,"nos",null,null,"0",null,0]
[{"$nulls":61},"length",null,null,"0",null,0]
[{"$nulls":59},"inside Side Rod  ",null,"nos",null,null,"0",null,0]
[{"$nulls":61},"length",null,null,"0",null,0]
[{"$nulls":59},"inside Side Binder",null,"nos",null,null,"0",null,0]
[{"$nulls":61},"length",null,null,"0",null,0]
[{"$nulls":59},"rcc Wall","Out Side Rod  ",{"$nulls":3},"",null,{"v":0,"d":"0 KG"}]
[{"$nulls":60},"Out Side Binder",{"$nulls":3},"",null,{"v":0,"d":"0 KG"}]
[{"$nulls":60},"inSide Rod  ",{"$nulls":3},"",null,{"v":0,"d":"0 KG"}]
[{"$nulls":60},"inSide Binder",{"$nulls":3},"",null,{"v":0,"d":"0 KG"}]
[{"$nulls":59},"Slab","Bottom long ",null,{"$f":"BB26","v":""},"",null,null,{"$f":"SUM(BK68:BN68)","v":{"v":0,"d":"0 KG"}}]
[{"$nulls":60},"Bottom Short",null,"","",null,null,{"$f":"SUM(BK69:BN69)","v":{"v":0,"d":"0 KG"}}]
[{"$nulls":60},"Top long ",null,"","",null,null,{"$f":"SUM(BK70:BN70)","v":{"v":0,"d":"0 KG"}}]
[{"$nulls":60},"Top Short",null,"","",null,null,{"$f":"SUM(BK71:BN71)","v":{"v":0,"d":"0 KG"}}]

{"sheet":"Brick Masonry  ","index":15,"n_rows":37,"n_cols":30,"rows_kept":37,"hidden":true,"merged":[[0,0,2,18],[3,0,4,18],[5,0,5,18],[6,0,7,18],[8,0,8,18],[10,0,11,11],[10,16,11,27],[12,0,12,1],[12,16,12,27],[13,0,13,1],[13,16,14,17],[13,18,13,21],[13,22,14,23],[13,24,14,24],[13,25,14,25],[13,26,14,27],[14,0,14,1],[14,18,14,19],[14,20,14,21],[15,0,15,1],[15,16,15,17],[15,18,15,19],[15,20,15,21],[15,22,15,23],[15,25,17,25],[15,26,15,27],[16,0,16,1],[16,16,16,17],[16,18,16,19],[16,20,16,21],[16,22,16,23],[16,26,16,27],[17,0,17,1],[17,16,17,17],[17,18,17,19],[17,20,17,21],[17,22,17,23],[17,26,17,27],[18,0,18,1],[18,24,18,25],[18,26,18,27],[19,0,19,1],[21,2,21,4],[21,6,21,8],[24,0,24,2],[25,0,27,0],[25,1,25,2],[26,1,26,2],[26,24,27,24],[26,25,27,25],[26,26,27,26],[26,27,27,27],[27,1,27,2],[28,0,30,0],[28,1,28,2],[29,1,29,2],[30,1,30,2],[30,24,31,24],[30,25,31,25],[30,26,31,26],[30,27,31,27],[31,0,33,0],[31,1,31,2],[32,1,32,2],[33,1,33,2],[34,0,36,0],[34,1,34,2],[35,1,35,2],[36,1,36,2]]}
["This is The Property of NOR DESIGN SOLUTION"]
[]
[]
[]
[]
["এক্সেল শীট বিষয়ক কিছু জানার থাকলে বা আপডেট নিয়ে কোন পরামর্শ থাকলে আমাদের সাথে যোগাযোগ করুন অথবা ওয়েবসাইটে কমেন্ট করুন"]
["এক্সেল শীট সম্পর্কে যাবতীয় তথ্য বিস্তারিত জানতে ভিজিট করুন আমাদের ইউটিউব চ্যানেলে"]
[]
["Click Here To Watch The Brick Masonry  Estimate video"]
[]
["Brick Masonry Estimate And Costing",{"$nulls":15},"Result"]
[]
["Description",null,"Type-1","Type-2","Type-3","Type-4","Type-5","Type-6","Type-7","Type-8","Type-9","Type-10",{"$nulls":4},"5\" and 10\" Brick  Masonry Estimate And Price"]
["Nos",{"$nulls":15},"Description ",null,"Quanity",{"$nulls":3},"Totall Quanity",null,"Rate","Wastage","Total  Amount "]
["Wall-1 Length,L (ft)",{"$nulls":17},"5\" Wall",null,"10\" Wall"]
["Wall-2 Length,L (ft)",{"$nulls":15},"Cement",null,{"$f":"IF(AA29>0,((((AB29*0.35)*C23)/E23)/1.25),\"0\")","v":"0"},null,{"$f":"IF(AA33>0,((((AB33*0.35)*G23)/I23)/1.25),\"0\")","v":"0"},null,{"$f":"SUM(S16:V16)","v":{"v":0,"d":"0 Bag"}},null,{"v":600,"d":"600 TK"},{"v":10,"d":"10.0% ADD"},{"$f":"IF(W16>0,(W16*Y16)+Z16*(S16*Y16)/100,\"\")","v":""}]
["Wall-3 Length,L (ft)",{"$nulls":15},"sand",null,{"$f":"IF(AA29>0,(((AB29*0.35)/E23)*D23),\"0\")","v":"0"},null,{"$f":"IF(AA33>0,(((AB33*0.35*H23)/I23)),\"0\")","v":"0"},null,{"$f":"SUM(S17:V17)","v":{"v":0,"d":"0 Bag"}},null,{"v":45,"d":"45 TK"},null,{"$f":"IF(W17>0,(W17*Y17)+Z17*(S17*Y17)/100,\"\")","v":""}]
["Wall-4 Length,L (ft)",{"$nulls":15},"Brick",null,{"$f":"AA29*5","v":{"v":0,"d":"0 nos"}},null,{"$f":"AA33*10","v":{"v":0,"d":"0 nos"}},null,{"$f":"SUM(S18:V18)","v":{"v":0,"d":"0 Nos"}},null,{"v":15,"d":"15 TK"},null,{"$f":"(W18*Y18)+Z16*(S18*Y18)/100","v":{"v":0,"d":"0 TK"}}]
["Wall Height,H (ft)",{"$nulls":23},"Total  Cost =",null,{"$f":"SUM(AA16:AB18)","v":{"v":0,"d":"0 TK"}}]
["Wall Thickness,T (inch)"]
[]
[null,null,"5\" Wall Ratio",{"$nulls":3},"10\" Wall Ratio"]
[null,null,1,4,{"$f":"C23+D23","v":5},null,1,4,{"$f":"G23+H23","v":5}]
[]
["Deduction  Brick Masonry  ",null,null,"Type-1","Type-2","Type-3","Type-4","Type-5","Type-6","Type-7","Type-8","Type-9","Type-10"]
["Door Deduction","Nos"]
[null,"Length,L (ft)",{"$nulls":12},"Type-1","Type-2","Type-3","Type-4","Type-5","Type-6","Type-7","Type-8","Type-9","Type-10","Total Area","Total volumn","Add%","Add%"]
[null,"Height,H (ft)",{"$nulls":12},"5\" SFT","5\" SFT","5\" SFT","5\" SFT","5\" SFT","5\" SFT","5\" SFT","5\" SFT","5\" SFT","5\" SFT"]
["Window Deduction","Nos",{"$nulls":12},{"$f":"IF(C14>0,IF(C20=5,(C14*(C15+C16+C17+C18)*C19)-(D26*D27*D28)-(D29*D30*D31)-(D32*D33*D34)-(D35*D36*D37),\"\"),\"\")","v":""},"",{"$f":"IF(E14>0,IF(E20=5,(E14*(E15+E16+E17+E18)*E19)-(F26*F27*F28)-(F29*F30*F31)-(F32*F33*F34)-(F35*F36*F37),\"\"),\"\")","v":""},"","","","","","","",{"$f":"SUM(O29:X29)","v":{"v":0,"d":"0 SFT"}},{"$f":"IF(Y29>0,Y29*(5/12),\"\")","v":""},{"$f":"SUM(O29:X29)+Z16*(SUM(O29:X29))/100","v":{"v":0,"d":"0 SFT"}},{"$f":"IF(AA29>0,Z29+Z16*Z29/100,\"\")","v":""},null,{"$f":"S16","v":"0"}]
[null,"Length,L (ft)",{"$nulls":27},{"$f":"S17","v":"0"}]
[null,"Height,H (ft)",{"$nulls":14},"Type-3","Type-4","Type-5","Type-6","Type-7","Type-8","Type-9","Type-10","Total Area","Total volumn","Add%","Add%",null,{"$f":"S18","v":{"v":0,"d":"0 nos"}}]
["Beam Deduction","Nos",{"$nulls":14},"10\" SFT","10\" SFT","10\" SFT","10\" SFT","10\" SFT","10\" SFT","10\" SFT","10\" SFT"]
[null,"Length,L (ft)",{"$nulls":12},{"$f":"IF(C14>0,IF(C20=10,(C14*(C15+C16+C17+C18)*C19)-(D26*D27*D28)-(D29*D30*D31)-(D32*D33*D34)-(D35*D36*D37),\"\"),\"\")","v":""},{"$f":"IF(D14>0,IF(D20=10,(D14*(D15+D16+D17+D18)*D19)-(E26*E27*E28)-(E29*E30*E31)-(E32*E33*E34)-(E35*E36*E37),\"\"),\"\")","v":""},"","","","","","","","",{"$f":"SUM(O33:X33)","v":{"v":0,"d":"0 SFT"}},{"$f":"IF(Y33>0,Y33*(10/12),\"\")","v":""},{"$f":"SUM(O33:X33)+Z16*(SUM(O33:X33))/100","v":{"v":0,"d":"0 SFT"}},{"$f":"IF(AA33>0,Z33+Z16*Z33/100,\"\")","v":""}]
[null,"Height,H (ft)"]
["Column Deduction","Nos"]
[null,"Length,L (ft)"]
[null,"Height,H (ft)"]

{"sheet":"Plaster and  Paint  Work ","index":16,"n_rows":81,"n_cols":49,"rows_kept":81,"hidden":true,"merged":[[0,0,2,16],[3,0,4,16],[5,0,5,16],[6,0,6,16],[7,0,7,16],[9,8,10,17],[12,0,13,11],[12,15,13,26],[12,33,13,44],[14,0,14,1],[14,15,14,16],[15,0,15,1],[15,15,15,16],[16,0,16,1],[16,15,16,16],[17,0,17,1],[17,15,17,16],[18,0,18,1],[18,15,18,16],[19,0,19,1],[19,15,19,16],[20,0,20,1],[20,15,20,16],[21,0,21,1],[21,33,22,44],[23,15,24,26],[24,0,24,2],[25,0,27,0],[25,1,25,2],[25,15,25,16],[26,1,26,2],[26,15,26,16],[27,1,27,2],[27,15,27,16],[28,0,30,0],[28,1,28,2],[28,15,28,16],[29,1,29,2],[29,15,29,16],[30,1,30,2],[30,15,30,16],[30,33,31,44],[31,0,33,0],[31,1,31,2],[31,15,31,16],[32,1,32,2],[32,15,32,16],[33,1,33,2],[33,15,33,16],[34,0,36,0],[34,1,34,2],[35,1,35,2],[36,1,36,2],[36,15,37,26],[38,15,38,16],[39,15,39,16],[40,15,40,16],[40,33,41,44],[41,15,41,16],[42,15,42,16],[49,34,49,35],[49,36,49,37],[49,38,49,39],[49,40,49,41],[49,42,49,43],[50,34,50,35],[50,36,50,37],[50,38,50,39],[50,40,50,41],[50,42,50,43],[51,6,51,8],[51,34,51,35],[51,36,51,37],[51,38,51,39],[51,40,51,41],[51,42,51,43],[54,2,54,3],[54,4,54,5],[54,6,54,7],[54,8,54,9],[54,10,54,11],[54,18,54,19],[54,20,54,21],[54,22,54,23],[54,24,54,25],[54,26,54,27],[55,2,55,3],[55,4,55,5],[55,6,55,7],[55,8,55,9],[55,10,55,11],[55,18,55,19],[55,20,55,21],[55,22,55,23],[55,24,55,25],[55,26,55,27],[57,2,58,11],[57,18,58,27],[59,2,59,3],[59,4,59,5],[59,6,59,7],[59,10,59,11],[59,18,59,19],[59,20,59,21],[59,22,59,23],[59,26,59,27],[60,2,61,3],[60,4,60,5],[60,6,60,7],[60,9,61,9],[60,10,60,11],[60,18,62,19],[60,20,60,21],[60,22,60,23],[60,25,62,25],[60,26,60,27],[61,4,61,5],[61,6,61,7],[61,10,61,11],[61,20,61,21],[61,22,61,23],[61,26,61,27],[62,2,63,3],[62,4,62,5],[62,6,62,7],[62,9,63,9],[62,10,62,11],[62,20,62,21],[62,22,62,23],[62,26,62,27],[63,4,63,5],[63,6,63,7],[63,10,63,11],[63,18,65,19],[63,20,63,21],[63,22,63,23],[63,25,65,25],[63,26,63,27],[64,2,65,3],[64,4,64,5],[64,6,64,7],[64,9,65,9],[64,10,64,11],[64,20,64,21],[64,22,64,23],[64,26,64,27],[65,4,65,5],[65,6,65,7],[65,10,65,11],[65,20,65,21],[65,22,65,23],[65,26,65,27],[66,2,67,3],[66,4,66,5],[66,6,66,7],[66,9,67,9],[66,10,66,11],[66,18,68,19],[66,20,66,21],[66,22,66,23],[66,25,68,25],[66,26,66,27],[67,4,67,5],[67,6,67,7],[67,10,67,11],[67,20,67,21],[67,22,67,23],[67,26,67,27],[68,10,68,11],[68,20,68,21],[68,22,68,23],[68,26,68,27],[69,18,71,19],[69,20,69,21],[69,22,69,23],[69,25,71,25],[69,26,69,27],[70,3,71,8],[70,20,70,21],[70,22,70,23],[70,26,70,27],[71,20,71,21],[71,22,71,23],[71,26,71,27],[72,3,72,4],[72,5,72,6],[72,7,72,8],[72,26,72,27],[73,3,73,4],[73,5,73,6],[73,7,73,8],[74,3,74,4],[74,5,74,6],[74,7,74,8],[74,19,75,24],[75,7,75,8],[76,19,76,20],[76,21,76,22],[76,23,76,24],[77,19,77,20],[77,21,77,22],[77,23,77,24],[78,19,78,20],[78,21,78,22],[78,23,78,24],[79,19,79,20],[79,21,79,22],[79,23,79,24],[80,23,80,24]]}
["This is The Property of NOR DESIGN SOLUTION"]
[]
[]
[]
[]
["এক্সেল শীট বিষয়ক কিছু জানার থাকলে বা আপডেট নিয়ে কোন পরামর্শ থাকলে আমাদের সাথে যোগাযোগ করুন অথবা ওয়েবসাইটে কমেন্ট করুন"]
["এক্সেল শীট সম্পর্কে যাবতীয় তথ্য বিস্তারিত জানতে ভিজিট করুন আমাদের ইউটিউব চ্যানেলে"]
["Click Here To Watch The Plaster and  Paint  Work Estimate video"]
[]
[{"$nulls":8},"Plaster and Paint Estimate "]
[]
[]
["Plaster or Paint Work Inside and Outsid Wall",{"$nulls":14}," Beam Plaster and Paint Work",{"$nulls":17},"Plaster or Paint Work Inside and Outsid "]
[]
["Description",null,"Type-1","Type-2","Type-3","Type-4","Type-5","Type-6","Type-7","Type-8","Type-9","Type-10",{"$nulls":3},"Description",null,"Type-1","Type-2","Type-3","Type-4","Type-5","Type-6","Type-7","Type-8","Type-9","Type-10",{"$nulls":6},"sft","sft","sft","sft","sft","sft","sft","sft","sft","sft","Total sft"]
["Nos",{"$nulls":14},"Nos",{"$nulls":17},{"$f":"IF(C16>0,((C17+C18+C19+C20)*C21*C16)-(D26*D27*D28)-(D29*D30*D31)-(D32*D33*D34)-(D35*D36*D37),\"\")","v":""},"","","","","","","","","",{"$f":"SUM(AH16:AQ16)","v":{"v":0,"d":"0 SFT"}}]
["Wall-1 Length,L (ft)",{"$nulls":14},"Length,L (ft)",{"$nulls":17},"cft","cft","cft","cft","cft","cft","cft","cft","cft","cft","Total cft"]
["Wall-2 Length,L (ft)",{"$nulls":14},"Breadth, B (inch)",{"$nulls":17},{"$f":"IF(C16>0,AH16*(C22/12),\"\")","v":""},{"$f":"IF(D16>0,AI16*(D22/12),\"\")","v":""},"","","","","","","","",{"$f":"SUM(AH18:AQ18)","v":{"v":0,"d":"0 CFT"}}]
["Wall-3 Length,L (ft)",{"$nulls":14},"Height,H1  (inch)"]
["Wall-4 Length,L (ft)",{"$nulls":14},"Height,H2 (inch)"]
["Wall Height,H (ft)",{"$nulls":14},"Plaster Thickness (inch)"]
["Plaster Thickness,T (inch)",{"$nulls":32},"Ceiling Plaster and Paint Work"]
[]
[{"$nulls":15}," Column Plaster and Paint Work",{"$nulls":17},"sft","sft","sft","sft","sft","sft","sft","sft","sft","sft","total sft"]
["Deduction For Brick Masonry  ",null,null,"Type-1","Type-2","Type-3","Type-4","Type-5","Type-6","Type-7","Type-8","Type-9","Type-10",{"$nulls":20},{"$f":"IF(R40>0,R40*R41*R42,\"\")","v":""},"","","","","","","","","",{"$f":"SUM(AH25:AQ25)","v":{"v":0,"d":"0 SFT"}}]
["Door Deduction","Nos",{"$nulls":13},"Description",null,"Type-1","Type-2","Type-3","Type-4","Type-5","Type-6","Type-7","Type-8","Type-9","Type-10",{"$nulls":6},"cft","cft","cft","cft","cft","cft","cft","cft","cft","cft","Total cft"]
[null,"Length,L (ft)",{"$nulls":13},"Nos",{"$nulls":17},{"$f":"IF(R40>0,R40*R41*R42*(R43/12),\"\")","v":""},"","","","","","","","","",{"$f":"SUM(AH27:AQ27)","v":{"v":0,"d":"0 CFT"}}]
[null,"Height,H (ft)",{"$nulls":13},"Column Site-1 (inch)"]
["Window Deduction","Nos",{"$nulls":13},"Column Site-2 (inch)"]
[null,"Length,L (ft)",{"$nulls":13},"Column Site-3 (inch)"]
[null,"Height,H (ft)",{"$nulls":13},"Column Site-4 (inch)",{"$nulls":17}," Beam Plaster and Paint Work"]
["Beam Deduction","Nos",{"$nulls":13},"Column Height,H (ft)"]
[null,"Length,L (ft)",{"$nulls":13},"(-) Deduct All Wall Thickness (inch)",{"$nulls":17},"sft","sft","sft","sft","sft","sft","sft","sft","sft","sft","Total sft"]
[null,"Height,H (ft)",{"$nulls":13},"Plaster Thickness,T (inch)",{"$nulls":17},{"$f":"IF(R16>0,R16*R17*((R18/12)+(R19/12)+(R20/12)),\"\")","v":""},"","","","","","","","","",{"$f":"SUM(AH34:AQ34)","v":{"v":0,"d":"0 SFT"}}]
["Column Deduction","Nos",{"$nulls":31},"cft","cft","cft","cft","cft","cft","cft","cft","cft","cft","Total cft"]
[null,"Length,L (ft)",{"$nulls":31},{"$f":"IF(R16>0,R16*R17*((R18/12)+(R19/12)+(R20/12))*(R21/12),\"\")","v":""},"","","","","","","","","",{"$f":"SUM(AH36:AQ36)","v":{"v":0,"d":"0 CFT"}}]
[null,"Height,H (ft)",{"$nulls":13},"Ceiling Plaster and Paint Work"]
[]
[{"$nulls":15},"Description",null,"Type-1","Type-2","Type-3","Type-4","Type-5","Type-6","Type-7","Type-8","Type-9","Type-10"]
[{"$nulls":15},"Nos"]
[{"$nulls":15},"Length,L (ft)",{"$nulls":17}," Column Plaster and Paint Work"]
[{"$nulls":15},"Breadth, B(ft)"]
[{"$nulls":15},"Plaster Thickness (inch)",{"$nulls":17},"sft","sft","sft","sft","sft","sft","sft","sft","sft","sft","Total sft"]
[{"$nulls":33},{"$f":"IF(R27>0,R27*(((R28+R29+R30+R31)/12)-(R33/12))*R32,\"\")","v":""},"","","","","","","","","",{"$f":"SUM(AH44:AQ44)","v":{"v":0,"d":"0 SFT"}},{"$nulls":3},"Primers/Sealer",{"$f":"V78","v":"0"}]
[{"$nulls":33},"cft","cft","cft","cft","cft","cft","cft","cft","cft","cft","Totalcft",{"$nulls":3},"Ready-mix putty",{"$f":"V79","v":"0"}]
[{"$nulls":33},{"$f":"IF(R27>0,(R27*(((R28+R29+R30+R31)/12)-(R33/12))*R32)*(R34/12),\"\")","v":""},"","","","","","","","","",{"$f":"SUM(AH46:AQ46)","v":{"v":0,"d":"0 CFT"}},{"$nulls":3},"Paint",{"$f":"V80","v":"0"}]
[]
[{"$nulls":47},"Cement",{"$f":"F74","v":"0"}]
[{"$nulls":47},"Sand ",{"$f":"F75","v":"0"}]
[{"$nulls":33},"Total","Inside Plaster Work ",null,"Out Side Plaster Work ",null,"Ceiling  Plaster Work ",null," Beams  Plaster Work ",null," Column  Plaster Work "]
[{"$nulls":33},"SFT",{"$f":"AR16","v":{"v":0,"d":"0 SFT"}},null,{"$f":"AI51","v":{"v":0,"d":"0 SFT"}},null,{"$f":"AR25","v":{"v":0,"d":"0 SFT"}},null,{"$f":"AR34","v":{"v":0,"d":"0 SFT"}},null,{"$f":"AR44","v":{"v":0,"d":"0 SFT"}},null,"Total CFT"]
[{"$nulls":6},"Plaster Ratio",{"$nulls":26},"CFT",{"$f":"AR18","v":{"v":0,"d":"0 CFT"}},null,{"$f":"AI52","v":{"v":0,"d":"0 SFT"}},null,{"$f":"AR27","v":{"v":0,"d":"0 CFT"}},null,{"$f":"AR36","v":{"v":0,"d":"0 CFT"}},null,{"$f":"AR46","v":{"v":0,"d":"0 CFT"}},null,{"$f":"SUM(AI52:AR52)","v":{"v":0,"d":"0 CFT"}}]
[{"$nulls":6},1,4,{"$f":"G53+H53","v":5}]
[]
[null,null,"Total",null,"Inside Plaster Work ",null,"Out Side Plaster Work ",null,"Beams + Column  Plaster Work ",null,"Ceiling  Plaster Work ",{"$nulls":7},"Total",null,"Inside Plaster Work ",null,"Out Side Plaster Work ",null,"Ceiling  Plaster Work ",null,"Beams + Column  Plaster Work "]
[null,null,"CFT",null,{"$f":"(AI52)+J61*(AI52)/100","v":{"v":0,"d":"0 CFT"}},null,{"$f":"(AK52)+J63*(AK52)/100","v":{"v":0,"d":"0 CFT"}},null,{"$f":"(AO52+AQ52)+J65*(AO52+AQ52)/100","v":{"v":0,"d":"0 CFT"}},null,{"$f":"AM52+J67*AM52/100","v":{"v":0,"d":"0 CFT"}},{"$nulls":7},"SFT",null,{"$f":"AI51+Z61*AI51/100","v":{"v":0,"d":"0 SFT"}},null,{"$f":"AK51+Z64*AK51/100","v":{"v":0,"d":"0 SFT"}},null,{"$f":"AM51+Z67*AM51/100","v":{"v":0,"d":"0 SFT"}},null,{"$f":"(AO51+AQ51)+Z70*(AO51+AQ51)/100","v":{"v":0,"d":"0 CFT"}}]
[]
[null,null,"Inside+Outside+Ceiling Plaster Estimate And Costin",{"$nulls":15},"Inside+Outside+Ceiling Paint Estimate And Costin"]
[]
[null,null,"Item",null,"Description (Paint)",null,"Total Quantity",null,"Rate","Wastage","Toatal Amount",{"$nulls":7},"Item",null,"Description (Paint)",null,"Total Quantity",null,"Rate","Wastage","Toatal Amount"]
[null,null,"Inside Wall Plaster Work ",null,"Cement",null,{"$f":"IF(E56>0,(E56*G53*1.5)/I53/1.25,\"0\")","v":"0"},null,{"v":550,"d":"550 TK"},{"v":5,"d":"5.0% ADD"},{"$f":"IF(G61>0,G61*I61,\"\")","v":{"v":0,"d":"0 TK"}},{"$nulls":7},"Inside Wall Paint Work ",null,"Primers/Sealer",null,{"$f":"IF(U56>0,U56*0.0089,\"0\")","v":"0"},null,{"v":45,"d":"45 TK"},{"v":0,"d":"0.0% ADD"},{"$f":"IF(W61>0,W61*Y61,\"0\")","v":{"v":0,"d":"0 TK"}}]
[{"$nulls":4},"Sand",null,{"$f":"IF(E56>0,(E56*H53*1.5)/I53,\"0\")","v":"0"},null,{"v":45,"d":"45 TK"},null,{"$f":"IF(G62>0,G62*I62,\"\")","v":{"v":0,"d":"0 TK"}},{"$nulls":9},"Ready-mix putty",null,{"$f":"IF(U56>0,U56*0.035,\"0\")","v":"0"},null,{"v":68,"d":"68 TK"},null,{"$f":"IF(W62>0,W62*Y62,\"0\")","v":{"v":0,"d":"0 TK"}}]
[null,null,"Outside Wall Plaster Work ",null,"Cement",null,{"$f":"IF(G56>0,(G56*G53*1.5)/I53/1.25,\"0\")","v":"0"},null,{"v":550,"d":"550 TK"},{"v":5,"d":"5.0% ADD"},{"v":0,"d":"0 TK"},{"$nulls":9},"Paint",null,{"$f":"IF(U56>0,U56*0.0189,\"0\")","v":"0"},null,{"v":76,"d":"76 TK"},null,{"v":0,"d":"0 TK"}]
[{"$nulls":4},"Sand",null,{"$f":"IF(G56>0,(G56*H53*1.5)/I53,\"0\")","v":"0"},null,{"v":45,"d":"45 TK"},null,{"v":0,"d":"0 TK"},{"$nulls":7},"Outside Wall Paint Work ",null,"Primers/Sealer",null,{"$f":"IF(W56>0,W56*0.0089,\"0\")","v":"0"},null,{"v":45,"d":"45 TK"},{"v":0,"d":"0.0% ADD"},{"v":0,"d":"0 TK"}]
[null,null,"Beams + Column  Plaster Work ",null,"Cement",null,{"$f":"IF(I56>0,(I56*G53*1.5)/I53/1.25,\"0\")","v":"0"},null,{"v":550,"d":"550 TK"},{"v":10,"d":"10.0% ADD"},{"v":0,"d":"0 TK"},{"$nulls":9},"Ready-mix putty",null,{"$f":"IF(W56>0,W56*0.035,\"0\")","v":"0"},null,{"v":68,"d":"68 TK"},null,{"v":0,"d":"0 TK"}]
[{"$nulls":4},"Sand",null,{"$f":"IF(I56>0,(I56*H53*1.5)/I53,\"0\")","v":"0"},null,{"v":45,"d":"45 TK"},null,{"v":0,"d":"0 TK"},{"$nulls":9},"Paint",null,{"$f":"IF(W56>0,W56*0.0189,\"0\")","v":"0"},null,{"v":76,"d":"76 TK"},null,{"v":0,"d":"0 TK"}]
[null,null,"Ceiling Plaster Work ",null,"Cement",null,{"$f":"IF(K56>0,(K56*G53*1.5)/I53/1.25,\"0\")","v":"0"},null,{"v":550,"d":"550 TK"},{"v":10,"d":"10.0% ADD"},{"v":0,"d":"0 TK"},{"$nulls":7},"Ceiling  Paint Work ",null,"Primers/Sealer",null,{"$f":"IF(Y56>0,Y56*0.0089,\"0\")","v":"0"},null,{"v":45,"d":"45 TK"},{"v":0,"d":"0.0% ADD"},{"v":0,"d":"0 TK"}]
[{"$nulls":4},"Sand",null,{"$f":"IF(K56>0,(K56*H53*1.5)/I53,\"0\")","v":"0"},null,{"v":45,"d":"45 TK"},null,{"v":0,"d":"0 TK"},{"$nulls":9},"Ready-mix putty",null,{"$f":"IF(Y56>0,Y56*0.035,\"0\")","v":"0"},null,{"v":68,"d":"68 TK"},null,{"v":0,"d":"0 TK"}]
[{"$nulls":9},"Total",{"$f":"SUM(K61:L68)","v":{"v":0,"d":"0 TK"}},{"$nulls":9},"Paint",null,{"$f":"IF(Y56>0,Y56*0.0189,\"0\")","v":"0"},null,{"v":76,"d":"76 TK"},null,{"v":0,"d":"0 TK"}]
[{"$nulls":18},"Beams + Column  Plaster Work ",null,"Primers/Sealer",null,{"$f":"IF(AA56>0,AA56*0.0089,\"0\")","v":"0"},null,{"v":45,"d":"45 TK"},{"v":0,"d":"0.0% ADD"},{"v":0,"d":"0 TK"}]
[{"$nulls":3},"Total Quantity And Price",{"$nulls":16},"Ready-mix putty",null,{"$f":"IF(AA56>0,AA56*0.035,\"0\")","v":"0"},null,{"v":68,"d":"68 TK"},null,{"v":0,"d":"0 TK"}]
[{"$nulls":20},"Paint",null,{"$f":"IF(AA56>0,AA56*0.0189,\"0\")","v":"0"},null,{"v":76,"d":"76 TK"},null,{"v":0,"d":"0 TK"}]
[{"$nulls":3},"DESCRIPTION",null,"Quantity",null,"Amount TK",{"$nulls":17},"Total",{"$f":"SUM(AA61:AB72)","v":{"v":0,"d":"0 TK"}}]
[{"$nulls":3},"Cement",null,{"$f":"IF(OR(E56>0,G56>0,I56>0,K56>0),G61+G63+G65+G67,\"0\")","v":"0"},null,{"$f":"IF(I67>0,IF(I61>0,IF(I63>0,IF(I65>0,K61+K63+K65+K67,\"\"),\"\"),\"\"),\"\")","v":{"v":0,"d":"0 TK"}}]
[{"$nulls":3},"Sand ",null,{"$f":"IF(OR(E56>0,G56>0,I56>0,K56>0),G62+G64+G66+G68,\"0\")","v":"0"},null,{"$f":"IF(I62>0,IF(I64>0,IF(I66>0,IF(I68>0,K62+K64+K66+K68,\"\"),\"\"),\"\"),\"\")","v":{"v":0,"d":"0 TK"}},{"$nulls":11},"Total Quantity And Price"]
[{"$nulls":7},{"$f":"SUM(H74:I75)","v":{"v":0,"d":"0 TK"}}]
[{"$nulls":19},"DESCRIPTION",null,"Quantity",null,"Amount TK"]
[{"$nulls":19},"Primers/Sealer",null,{"$f":"IF(OR(U56>0,W56>0,Y56>0,AA56>0),W61+W64+W67+W70,\"0\")","v":"0"},null,{"$f":"IF(V78>0,AA61+AA64+AA67+AA70,\"\")","v":{"v":0,"d":"0 TK"}}]
[{"$nulls":19},"Ready-mix putty",null,{"$f":"IF(OR(U56>0,W56>0,Y56>0,AA56>0),W62+W65+W68+W71,\"0\")","v":"0"},null,{"$f":"IF(C16>0,AA62+AA65+AA68+AA71,\"\")","v":""}]
[{"$nulls":19},"Paint",null,{"$f":"IF(OR(U56>0,W56>0,Y56>0,AA56>0),W63+W66+W69+W72,\"0\")","v":"0"},null,{"$f":"IF(C16>0,AA63+AA66+AA69+AA72,\"\")","v":""}]
[{"$nulls":22},"Total",{"$f":"SUM(X78:Y80)","v":{"v":0,"d":"0 TK"}}]

{"sheet":"Tiles Work","index":17,"n_rows":197,"n_cols":35,"rows_kept":197,"hidden":true,"merged":[[0,0,1,22],[2,0,3,22],[4,0,4,22],[5,0,5,22],[6,0,6,22],[9,0,10,11],[11,0,11,1],[11,2,11,3],[11,4,11,5],[11,6,11,7],[11,8,11,9],[11,10,11,11],[11,12,11,13],[11,14,11,15],[11,16,11,17],[11,18,11,19],[11,20,11,21],[11,22,11,23],[11,24,11,25],[11,26,11,27],[11,28,11,29],[11,30,11,31],[12,0,12,1],[13,0,13,1],[13,2,13,3],[13,4,13,5],[13,6,13,7],[13,8,13,9],[13,10,13,11],[13,12,13,13],[13,14,13,15],[13,16,13,17],[13,18,13,19],[13,20,13,21],[13,22,13,23],[13,24,13,25],[13,26,13,27],[13,28,13,29],[13,30,13,31],[14,0,14,1],[15,0,15,1],[16,0,16,1],[17,0,18,0],[19,0,19,1],[20,0,20,1],[21,0,21,1],[22,0,22,1],[23,0,23,1],[25,3,25,8],[25,9,25,11],[26,3,26,8],[27,3,27,5],[27,6,27,8],[27,9,27,11],[28,3,28,5],[28,6,28,8],[28,9,28,11],[30,3,30,8],[30,9,30,11],[31,3,31,8],[32,3,32,5],[32,6,32,8],[32,9,32,11],[33,3,33,5],[33,6,33,8],[33,9,33,11],[36,0,37,14],[38,0,38,2],[38,3,38,5],[38,6,38,7],[38,8,38,9],[38,10,38,11],[38,12,38,14],[39,0,39,2],[39,3,39,5],[39,6,48,7],[39,8,39,9],[39,10,39,11],[39,12,39,14],[39,18,39,19],[40,0,40,2],[40,3,40,5],[40,8,40,9],[40,10,40,11],[40,12,40,14],[40,18,40,19],[40,24,40,25],[40,26,40,27],[40,28,40,29],[41,0,41,2],[41,3,41,5],[41,8,41,9],[41,10,41,11],[41,12,41,14],[41,18,41,19],[41,24,41,25],[41,26,41,27],[41,28,41,29],[42,0,42,2],[42,3,42,5],[42,8,42,9],[42,10,42,11],[42,12,42,14],[42,18,42,19],[43,3,43,5],[43,8,43,9],[43,10,43,11],[43,12,43,14],[43,18,43,19],[43,24,43,25],[43,26,43,27],[43,28,43,29],[44,3,44,5],[44,8,44,9],[44,10,44,11],[44,12,44,14],[44,24,44,25],[44,26,44,27],[44,28,44,29],[45,3,45,5],[45,8,45,9],[45,10,45,11],[45,12,45,14],[46,3,46,5],[46,8,46,9],[46,10,46,11],[46,12,46,14],[47,3,47,5],[47,8,47,9],[47,10,47,11],[47,12,47,14],[48,3,48,5],[48,8,48,9],[48,10,48,11],[48,12,48,14],[49,10,49,11],[49,12,49,14],[83,9,83,10],[84,9,84,10],[85,9,85,10],[86,9,86,10],[87,9,87,10]]}
["This is The Property of NOR DESIGN SOLUTION"]
[]
[]
[]
["এক্সেল শীট বিষয়ক কিছু জানার থাকলে বা আপডেট নিয়ে কোন পরামর্শ থাকলে আমাদের সাথে যোগাযোগ করুন অথবা ওয়েবসাইটে কমেন্ট করুন"]
["এক্সেল শীট সম্পর্কে যাবতীয় তথ্য বিস্তারিত জানতে ভিজিট করুন আমাদের ইউটিউব চ্যানেলে"]
["Click Here To Watch The Tiles Work Estimate video"]
[]
[]
["Estimate and Price For Tiles Work "]
[]
["Description",null,"Room-1",null,"Room-2",null,"Room-3",null,"Room-4",null,"Room-5",null,"Room-6",null,"Room-7",null,"Room-8",null,"Room-9",null,"Room-10",null,"Room-11",null,"Room-12",null,"Room-13",null,"Room-14",null,"Room-15"]
["Wall Tile or Floor Tile",null,"Floor","Wall","Floor","Wall","Wall","Floor","Wall","Wall","Wall","Wall","Wall","Wall","Wall","Wall","Wall","Wall","Floor","Floor","Floor","Floor","Floor","Floor","Floor","Floor","Floor","Floor","Floor","Wall","Floor","Wall"]
["Room Nos"]
["Room Length,L (ft)"]
["Room Breadth,B (ft)"]
["Skirting Height,H (ft)"]
["Tiles Size","Length,L (inch)"]
[null,"Breadth,B (inch)"]
["Skirting",null,{"$f":"IF(C14>0,IF(C17>0,(C15+C15+C16+C16),\"\"),\"0\")","v":"0"},{"$f":"IF(D14>0,IF(D17>0,(D15+D15+D16+D16),\"\"),\"0\")","v":"0"},{"$f":"IF(E14>0,IF(E17>0,(E15+E15+E16+E16),\"\"),\"0\")","v":"0"},"0","0","0","0","0","0","0","0","0","0","0","0","0","0","0","0","0","0","0","0","0","0","0","0","0","0","0"]
["Area",null,{"$f":"IF(C15>0,C14*C15*C16,\"\")","v":""},{"$f":"IF(D15>0,C14*D15*D16,\"\")","v":""},{"$f":"IF(E15>0,E14*E15*E16,\"\")","v":""},{"$f":"IF(F15>0,E14*F15*F16,\"\")","v":""},{"$f":"IF(G15>0,G14*G15*G16,\"\")","v":""},{"$f":"IF(H15>0,G14*H15*H16,\"\")","v":""},{"$f":"IF(I15>0,I14*I15*I16,\"\")","v":""},{"$f":"IF(J15>0,I14*J15*J16,\"\")","v":""},{"$f":"IF(K15>0,K14*K15*K16,\"\")","v":""},{"$f":"IF(L15>0,K14*L15*L16,\"\")","v":""},{"$f":"IF(M15>0,M14*M15*M16,\"\")","v":""},{"$f":"IF(N15>0,M14*N15*N16,\"\")","v":""},{"$f":"IF(O15>0,O14*O15*O16,\"\")","v":""},{"$f":"IF(P15>0,O14*P15*P16,\"\")","v":""},{"$f":"IF(Q15>0,Q14*Q15*Q16,\"\")","v":""},{"$f":"IF(R15>0,Q14*R15*R16,\"\")","v":""},{"$f":"IF(S15>0,S14*S15*S16,\"\")","v":""},{"$f":"IF(T15>0,S14*T15*T16,\"\")","v":""},{"$f":"IF(U15>0,U14*U15*U16,\"\")","v":""},{"$f":"IF(V15>0,U14*V15*V16,\"\")","v":""},{"$f":"IF(W15>0,W14*W15*W16,\"\")","v":""},{"$f":"IF(X15>0,W14*X15*X16,\"\")","v":""},{"$f":"IF(Y15>0,Y14*Y15*Y16,\"\")","v":""},{"$f":"IF(Z15>0,Y14*Z15*Z16,\"\")","v":""},{"$f":"IF(AA15>0,AA14*AA15*AA16,\"\")","v":""},{"$f":"IF(AB15>0,AA14*AB15*AB16,\"\")","v":""},{"$f":"IF(AC15>0,AC14*AC15*AC16,\"\")","v":""},{"$f":"IF(AD15>0,AC14*AD15*AD16,\"\")","v":""},{"$f":"IF(AE15>0,AE14*AE15*AE16,\"\")","v":""},{"$f":"IF(AF15>0,AE14*AF15*AF16,\"\")","v":""}]
["Room Tiles Nos",null,{"$f":"IF(C15>0,IF(C19>0,(C21/((C18*C19)/144)),\"\"),\"\")","v":""},{"$f":"IF(D15>0,IF(D19>0,(D21/((D18*D19)/144)),\"\"),\"\")","v":""},{"$f":"IF(E15>0,IF(E19>0,(E21/((E18*E19)/144)),\"\"),\"\")","v":""},"","","","","","","","","","","","","","","","","","","","","","","","","","",""]
[" Skirting tils nos",null,{"$f":"IF(C17>0,IF(C19>0,((C20*C17)/((C18/12)*(C19/12))),\"\"),\"\")","v":""},{"$f":"IF(D17>0,IF(D19>0,((D20*D17)/((D18/12)*(D19/12))),\"\"),\"\")","v":""},{"$f":"IF(E17>0,IF(E19>0,((E20*E17)/((E18/12)*(E19/12))),\"\"),\"\")","v":""},"","","","","","","","","","","","","","","","","","","","","","","","","","",""]
["Total tile nos",null,{"$f":"SUM(C22:C23)","v":{"v":0,"d":"0  Nos "}},{"$f":"SUM(D22:D23)","v":{"v":0,"d":"0  Nos "}},{"v":0,"d":"0  Nos "},{"v":0,"d":"0  Nos "},{"v":0,"d":"0  Nos "},{"v":0,"d":"0  Nos "},{"v":0,"d":"0  Nos "},{"v":0,"d":"0  Nos "},{"v":0,"d":"0  Nos "},{"v":0,"d":"0  Nos "},{"v":0,"d":"0  Nos "},{"v":0,"d":"0  Nos "},{"v":0,"d":"0  Nos "},{"v":0,"d":"0  Nos "},{"v":0,"d":"0  Nos "},{"v":0,"d":"0  Nos "},{"v":0,"d":"0  Nos "},{"v":0,"d":"0  Nos "},{"v":0,"d":"0  Nos "},{"v":0,"d":"0  Nos "},{"v":0,"d":"0  Nos "},{"v":0,"d":"0  Nos "},{"v":0,"d":"0  Nos "},{"v":0,"d":"0  Nos "},{"v":0,"d":"0  Nos "},{"v":0,"d":"0  Nos "},{"v":0,"d":"0  Nos "},{"v":0,"d":"0  Nos "},{"v":0,"d":"0  Nos "},{"v":0,"d":"0  Nos "}]
[]
[{"$nulls":3},"Floor Tiles Mortar Thickness (inch)"]
[{"$nulls":3},"Floor Tiles Mortar Ratio",{"$nulls":7},{"$f":"J27+K27","v":0}]
[{"$nulls":3},"Cement",null,null,"Grouting Materials",null,null,"Sand"]
[{"$nulls":3},{"$f":"IF(J27>0,(Y45*J27*1.54)/(L27*1.25),\"0\")","v":"0"},null,null,{"$f":"IF(J27>0,Y45*0.036,\"0\")","v":"0"},null,null,{"$f":"IF(J27>0,(Y45*K27*1.54)/L27,\"0\")","v":"0"}]
[]
[{"$nulls":3},"Wall Tiles Mortar Thickness (inch)",{"$nulls":5},{"v":3,"d":"3 ''"}]
[{"$nulls":3},"Wall Tiles Mortar Ratio",{"$nulls":7},{"$f":"J32+K32","v":0}]
[{"$nulls":3},"Cement",null,null,"Grouting Materials",null,null,"Sand"]
[{"$nulls":3},{"$f":"IF(J32>0,(AA45*J32*1.54)/(L32*1.25),\"0\")","v":"0"},null,null,{"$f":"IF(J32>0,AA45*0.036,\"0\")","v":"0"},null,null,{"$f":"IF(J32>0,(AC45*K32*1.54)/L32,\"0\")","v":"0"}]
[]
[]
["Tiles Estimate And Price Result"]
[]
["Description ",null,null,"Quanity",null,null,"Wastage Add %",null,"Total Quantity",null,"Rate",null,"Total  Amount "]
["Cement",null,null,{"$f":"IF(OR(D29>0,D34>0),D29+D34,\"0\")","v":{"v":0,"d":"0 Bag"}},null,null,{"v":10,"d":"10 % ADD"},null,{"$f":"D40+D40*$G$40/100","v":{"v":0,"d":"0 Bag"}},null,{"v":550,"d":"550 TK"},null,{"$f":"IF(D40>0,I40*K40,\"\")","v":""},{"$nulls":5},"Tile size-1",null,{"$f":"(B44*C44)/144","v":4}]
["Grouting Materials",null,null,{"$f":"G29+G34","v":{"v":0,"d":"0 Bag"}},{"$nulls":4},{"$f":"D41+D41*$G$40/100","v":{"v":0,"d":"0 Bag"}},null,{"v":7,"d":"7 TK"},null,{"$f":"IF(D41>0,I41*K41,\"\")","v":""},{"$nulls":5},"Tile size-2",null,{"$f":"(B45*C45)/144","v":0.5},{"$nulls":3},"Floor",null,"Wall",null,"total"]
["Sand",null,null,{"$f":"J29+J34","v":{"v":0,"d":"0 CFT"}},{"$nulls":4},{"v":0,"d":"0 CFT"},null,{"v":8,"d":"8 TK"},null,"",{"$nulls":5},"Tile size-3",null,0.3333333333333333,{"$nulls":3},{"$f":"SUMIF(C13:AF13,Y41,C21:AF21)","v":{"v":0,"d":"0 SFT"}},null,{"$f":"SUMIF(C13:AF13,AA41,C21:AF21)","v":{"v":0,"d":"0 SFT"}},null,{"$f":"SUM(Y42:AA42)","v":{"v":0,"d":"0 SFT"}},null,null,"Floor",{"$f":"SUMIF(C13:AF13,AF42,C21:AF21)","v":0}]
["Total Room Area (sft)",null,null,{"$f":"AC42","v":{"v":0,"d":"0 SFT"}},{"$nulls":4},{"v":0,"d":"0 SFT"},null,{"v":5,"d":"5 TK"},null,"",{"$nulls":5},"Tile size-4",null,0.3333333333333333,{"$nulls":10},"Wall",{"$f":"SUMIF(C13:AF13,AF43,C21:AF21)","v":0}]
["Tile size-1",{"v":24,"d":"24 ''"},{"v":24,"d":"24 ''"},{"$f":"SUMIFS($C$24:$AF$24,$C$18:$AF$18,B44,$C$19:$AF$19,C44)","v":{"v":0,"d":"0  Nos"}},{"$nulls":4},{"v":0,"d":"0  Nos"},null,{"v":9,"d":"9 TK"},null,"",{"$nulls":5},"Tile size-5",null,0.5625,{"$nulls":3},"Floor",null,"Wall",null,"total"]
["Tile size-2",{"v":12,"d":"12 ''"},{"v":6,"d":"6 ''"},{"$f":"SUMIFS($C$24:$AF$24,$C$18:$AF$18,B45,$C$19:$AF$19,C45)","v":{"v":0,"d":"0  Nos"}},{"$nulls":4},{"v":0,"d":"0  Nos"},null,{"v":10,"d":"10 TK"},null,"",{"$nulls":11},{"$f":"IF(J26>0,Y42*J26/12,\"\")","v":""},null,{"$f":"IF(J31>0,AA42*J31/12,\"\")","v":{"v":0,"d":"0 CFT"}},null,{"$f":"SUM(Y45:AA45)","v":{"v":0,"d":"0 CFT"}}]
["Tile size-3",{"v":8,"d":"8 ''"},{"v":6,"d":"6 ''"},{"v":0,"d":"0  Nos"},{"$nulls":4},{"v":0,"d":"0  Nos"},null,{"v":5,"d":"5 TK"},null,""]
["Tile size-4",{"v":8,"d":"8 ''"},{"v":6,"d":"6 ''"},{"v":0,"d":"0  Nos"},{"$nulls":4},{"v":0,"d":"0  Nos"},null,{"v":5,"d":"5 TK"},null,""]
["Tile size-5",{"v":9,"d":"9 ''"},{"v":9,"d":"9 ''"},{"v":0,"d":"0  Nos"},{"$nulls":4},{"v":0,"d":"0  Nos"},null,{"v":5,"d":"5 TK"},null,""]
["Tile size-6",{"v":3,"d":"3 ''"},{"v":3,"d":"3 ''"},{"v":0,"d":"0  Nos"},{"$nulls":4},{"v":0,"d":"0  Nos"},null,{"v":6,"d":"6 TK"},null,"",{"$nulls":13},"Cement",{"$f":"D40","v":{"v":0,"d":"0 Bag"}}]
[{"$nulls":10},"Total Cost=",null,{"$f":"SUM(M40:O49)","v":{"v":0,"d":"0 TK"}},{"$nulls":13},"Grouting Materials",{"$f":"D41","v":{"v":0,"d":"0 Bag"}}]
[{"$nulls":26},"Sand",{"$f":"D42","v":{"v":0,"d":"0 CFT"}}]
{"$rows_empty":141}
[{"$nulls":31},{"$f":"F76","v":{"v":0,"d":"0 ''"}},{"v":0,"d":"0 ''"},null,{"$f":"H76","v":{"v":0,"d":"0  Nos"}}]
[{"$nulls":31},{"v":0,"d":"0 ''"},{"v":0,"d":"0 ''"},null,{"$f":"H77","v":{"v":0,"d":"0  Nos"}}]
[{"$nulls":31},{"v":0,"d":"0 ''"},{"v":0,"d":"0 ''"},null,{"$f":"H78","v":{"v":0,"d":"0  Nos"}}]
[{"$nulls":31},{"v":0,"d":"0 ''"},{"v":0,"d":"0 ''"},null,{"$f":"H79","v":{"v":0,"d":"0  Nos"}}]
[{"$nulls":31},{"v":0,"d":"0 ''"},{"v":0,"d":"0 ''"},null,{"$f":"H80","v":{"v":0,"d":"0  Nos"}}]

{"sheet":"Admin Panel","index":18,"n_rows":125,"n_cols":38,"rows_kept":125,"hidden":true,"merged":[[2,19,2,29],[22,17,22,18],[48,1,50,2],[48,35,50,36],[51,1,54,2],[51,35,54,36],[55,1,58,2],[55,35,58,36],[59,1,63,2],[59,35,63,36],[64,1,67,2],[64,35,67,36],[68,1,72,2],[68,35,72,36],[73,1,77,2],[73,35,77,36],[78,1,82,2],[78,35,82,36],[83,1,87,2],[83,35,87,36],[88,1,94,2],[88,35,94,36],[95,1,101,2],[95,35,101,36],[102,1,108,2],[102,35,108,36],[109,1,112,2],[109,35,112,36],[113,1,116,2],[113,35,116,36],[117,1,124,2],[117,35,124,36],[125,35,125,36],[126,35,126,36],[127,35,127,36],[128,35,128,36],[129,35,129,36],[130,35,130,36],[131,35,131,36],[132,35,132,36],[133,35,133,36],[134,35,134,36],[135,35,135,36],[136,35,136,36],[137,35,137,36],[138,35,138,36],[139,35,139,36],[140,35,140,36],[141,35,141,36],[142,35,142,36],[143,35,143,36],[144,35,144,36],[145,35,145,36],[146,35,146,36],[147,35,147,36],[148,35,148,36],[149,35,149,36],[150,35,150,36],[151,35,151,36],[152,35,152,36],[153,35,153,36],[154,35,154,36],[155,35,155,36],[156,35,156,36],[157,35,157,36],[158,35,158,36],[159,35,159,36],[160,35,160,36],[161,35,161,36],[162,35,162,36],[163,35,163,36],[164,35,164,36],[165,35,165,36],[166,35,166,36],[167,35,167,36],[168,35,168,36],[169,35,169,36],[170,35,170,36],[171,35,171,36],[172,35,172,36],[173,35,173,36],[174,35,174,36],[175,35,175,36],[176,35,176,36],[177,35,177,36],[178,35,178,36],[179,35,179,36],[180,35,180,36],[181,35,181,36],[182,35,182,36],[183,35,183,36],[184,35,184,36],[185,35,185,36],[186,35,186,36],[187,35,187,36],[188,35,188,36],[189,35,189,36],[190,35,190,36],[191,35,191,36],[192,35,192,36],[193,35,193,36],[194,35,194,36],[195,35,195,36],[196,35,196,36],[197,35,197,36],[198,35,198,36],[199,35,199,36],[200,35,200,36],[201,35,201,36],[202,35,202,36],[203,35,203,36],[204,35,204,36],[205,35,205,36],[206,35,206,36],[207,35,207,36],[208,35,208,36],[209,35,209,36],[210,35,210,36],[211,35,211,36],[212,35,212,36],[213,35,213,36],[214,35,214,36],[215,35,215,36],[216,35,216,36],[217,35,217,36],[218,35,218,36],[219,35,219,36],[220,35,220,36],[221,35,221,36],[222,35,222,36],[223,35,223,36],[224,35,224,36],[225,35,225,36],[226,35,226,36],[227,35,227,36],[228,35,228,36],[229,35,229,36],[230,35,230,36],[231,35,231,36],[232,35,232,36],[233,35,233,36],[234,35,234,36],[235,35,235,36],[236,35,236,36],[237,35,237,36],[238,35,238,36],[239,35,239,36],[240,35,240,36],[241,35,241,36],[242,35,242,36],[243,35,243,36],[244,35,244,36],[245,35,245,36],[246,35,246,36],[247,35,247,36],[248,35,248,36],[249,35,249,36],[250,35,250,36],[251,35,251,36],[252,35,252,36],[253,35,253,36],[254,35,254,36],[255,35,255,36],[256,35,256,36],[257,35,257,36],[258,35,258,36],[259,35,259,36],[260,35,260,36],[261,35,261,36],[262,35,262,36],[263,35,263,36],[264,35,264,36],[265,35,265,36],[266,35,266,36],[267,35,267,36],[268,35,268,36],[269,35,269,36],[270,35,270,36],[271,35,271,36],[272,35,272,36],[273,35,273,36],[274,35,274,36],[275,35,275,36],[276,35,276,36],[277,35,277,36],[278,35,278,36],[279,35,279,36],[280,35,280,36],[281,35,281,36],[282,35,282,36],[283,35,283,36],[284,35,284,36],[285,35,285,36],[286,35,286,36],[287,35,287,36],[288,35,288,36],[289,35,289,36],[290,35,290,36],[291,35,291,36],[292,35,292,36],[293,35,293,36],[294,35,294,36]]}
[]
[]
[{"$nulls":19},"Estimated For Building Structure "]
[{"$nulls":19},"Cement","Sand","Stone/Brick Chips","Rod","Casting","Excavation","Sand Filling ","Formwork","Brick Nos","Bricl Flat Soling ","C.c","Masonry Brick","Primers/Sealer","Ready-mix putty","Paint","Grouting Materials"]
[{"$nulls":17},1,"PILE",{"$f":"'Pile Estimate'!AI11","v":{"v":0,"d":"0 Bag"}},{"$f":"'Pile Estimate'!AJ11","v":{"v":0,"d":"0 Cft"}},{"$f":"'Pile Estimate'!AK11","v":{"v":0,"d":"0 Cft"}},{"$f":"'Pile Estimate'!AL11","v":{"v":0,"d":"0.00 Ton"}},{"$f":"'Pile Estimate'!AM11","v":{"v":0,"d":"0 Cft"}}]
[{"$nulls":17},2,"RECTANGULAR",{"$f":"'Rectangular Pile Cap'!AS10","v":{"v":0,"d":"0 Bag"}},{"$f":"'Rectangular Pile Cap'!AT10","v":{"v":0,"d":"0 Cft"}},{"$f":"'Rectangular Pile Cap'!AU10","v":{"v":0,"d":"0 Cft"}},{"$f":"'Rectangular Pile Cap'!AV10","v":{"v":0,"d":"0.00 Ton"}},{"$f":"'Rectangular Pile Cap'!AW10","v":{"v":0,"d":"0 Cft"}},{"$f":"'Rectangular Pile Cap'!AX10","v":{"v":0,"d":"0 CFT"}},{"$f":"'Rectangular Pile Cap'!AY10","v":{"v":0,"d":"0 Cft"}},{"$f":"'Rectangular Pile Cap'!AZ10","v":{"v":0,"d":"0 SFT"}},{"$f":"'Rectangular Pile Cap'!BA10","v":{"v":0,"d":"0 Nos"}},{"$f":"'Rectangular Pile Cap'!BB10","v":{"v":0,"d":"0 Nos"}},{"$f":"'Rectangular Pile Cap'!BC10","v":{"v":0,"d":"0 Cft"}}]
[{"$nulls":17},3,"TRAPEZOIDAL",{"$f":"'Trapezoidal Pile Cap '!BF14","v":{"v":0,"d":"0 Bag"}},{"$f":"'Trapezoidal Pile Cap '!BG14","v":{"v":0,"d":"0 Cft"}},{"$f":"'Trapezoidal Pile Cap '!BH14","v":{"v":0,"d":"0 Cft"}},{"$f":"'Trapezoidal Pile Cap '!BI14","v":{"v":0,"d":"0.00 Ton"}},{"$f":"'Trapezoidal Pile Cap '!BJ14","v":{"v":0,"d":"0 Cft"}},{"$f":"'Trapezoidal Pile Cap '!BK14","v":{"v":0,"d":"0 CFT"}},{"$f":"'Trapezoidal Pile Cap '!BL14","v":{"v":0,"d":"0 Cft"}},{"$f":"'Trapezoidal Pile Cap '!BM14","v":{"v":0,"d":"0 SFT"}},{"$f":"'Trapezoidal Pile Cap '!BN14","v":{"v":0,"d":"0 Nos"}},{"$f":"'Trapezoidal Pile Cap '!BO14","v":{"v":0,"d":"0 Nos"}},{"$f":"'Trapezoidal Pile Cap '!BP14","v":{"v":0,"d":"0 Cft"}}]
[{"$nulls":17},4,"MAT",{"$f":"'Mat Foundation '!AK13","v":{"v":0,"d":"0 Bag"}},{"$f":"'Mat Foundation '!AL13","v":{"v":0,"d":"0 Cft"}},{"$f":"'Mat Foundation '!AM13","v":{"v":0,"d":"0 Cft"}},{"$f":"'Mat Foundation '!AN13","v":{"v":0,"d":"0.00 Ton"}},{"$f":"'Mat Foundation '!AO13","v":{"v":0,"d":"0 Cft"}},{"$f":"'Mat Foundation '!AP13","v":{"v":0,"d":"0 CFT"}},{"$f":"'Mat Foundation '!AQ13","v":{"v":0,"d":"0 Cft"}},{"$f":"'Mat Foundation '!AR13","v":{"v":0,"d":"0 SFT"}},{"$f":"'Mat Foundation '!AS13","v":{"v":0,"d":"0 Nos"}},{"$f":"'Mat Foundation '!AT13","v":{"v":0,"d":"0 Nos"}},{"$f":"'Mat Foundation '!AU13","v":{"v":0,"d":"0 Cft"}}]
[{"$nulls":17},5,"FOUNDATION",{"$f":"'Footing Estimate'!BH10","v":{"v":0,"d":"0 Bag"}},{"$f":"'Footing Estimate'!BI10","v":{"v":0,"d":"0 Cft"}},{"$f":"'Footing Estimate'!BJ10","v":{"v":0,"d":"0 Cft"}},{"$f":"'Footing Estimate'!BK10","v":{"v":0,"d":"0.00 Ton"}},{"$f":"'Footing Estimate'!BL10","v":{"v":0,"d":"0 Cft"}},{"$f":"'Footing Estimate'!BM10","v":{"v":0,"d":"0 CFT"}},{"$f":"'Footing Estimate'!BN10","v":{"v":0,"d":"0 Cft"}},{"$f":"'Footing Estimate'!BO10","v":{"v":0,"d":"0 SFT"}},{"$f":"'Footing Estimate'!BP10","v":{"v":0,"d":"0 Nos"}},{"$f":"'Footing Estimate'!BQ10","v":{"v":0,"d":"0 Nos"}},{"$f":"'Footing Estimate'!BR10","v":{"v":0,"d":"0 Cft"}}]
[{"$nulls":17},6,"SHORT COLUMN",{"$f":"'Short Tied Column'!BC11","v":{"v":0,"d":"0 Bag"}},{"$f":"'Short Tied Column'!BD11","v":{"v":0,"d":"0 Cft"}},{"$f":"'Short Tied Column'!BE11","v":{"v":0,"d":"0 Cft"}},{"$f":"'Short Tied Column'!BF11","v":{"v":0,"d":"0.00 Ton"}},{"$f":"'Short Tied Column'!BG11","v":{"v":0,"d":"0 Cft"}},{"$f":"'Short Tied Column'!BH11","v":{"v":0,"d":"0 CFT"}},{"$f":"'Short Tied Column'!BI11","v":{"v":0,"d":"0 Cft"}},{"$f":"'Short Tied Column'!BJ11","v":{"v":0,"d":"0 SFT"}},{"$f":"'Short Tied Column'!BK11","v":{"v":0,"d":"0 Nos"}},{"$f":"'Short Tied Column'!BL11","v":{"v":0,"d":"0 Nos"}},{"$f":"'Short Tied Column'!BM11","v":{"v":0,"d":"0 Cft"}}]
[{"$nulls":17},7,"SHORT CIRCULAR",{"$f":"' Short Circular Column'!AT14","v":{"v":0,"d":"0 Bag"}},{"$f":"' Short Circular Column'!AU14","v":{"v":0,"d":"0 Cft"}},{"$f":"' Short Circular Column'!AV14","v":{"v":0,"d":"0 Cft"}},{"$f":"' Short Circular Column'!AW14","v":{"v":0,"d":"0.00 Ton"}},{"$f":"' Short Circular Column'!AX14","v":{"v":0,"d":"0 Cft"}},{"$f":"' Short Circular Column'!AY14","v":{"v":0,"d":"0 CFT"}},{"$f":"' Short Circular Column'!AZ14","v":{"v":0,"d":"0 Cft"}},{"$f":"' Short Circular Column'!BA14","v":{"v":0,"d":"0 SFT"}},{"$f":"' Short Circular Column'!BB14","v":{"v":0,"d":"0 Nos"}},{"$f":"' Short Circular Column'!BC14","v":{"v":0,"d":"0 Nos"}},{"$f":"' Short Circular Column'!BD14","v":{"v":0,"d":"0 Cft"}}]
[{"$nulls":17},8,"LONG TIED",{"$f":"'Long Tied Column'!AX13","v":{"v":0,"d":"0 Bag"}},{"$f":"'Long Tied Column'!AY13","v":{"v":0,"d":"0 Cft"}},{"$f":"'Long Tied Column'!AZ13","v":{"v":0,"d":"0 Cft"}},{"$f":"'Long Tied Column'!BA13","v":{"v":0,"d":"0.00 Ton"}},{"$f":"'Long Tied Column'!BB13","v":{"v":0,"d":"0 Cft"}},{"$f":"'Long Tied Column'!BC13","v":{"v":0,"d":"0 CFT"}},{"$f":"'Long Tied Column'!BD13","v":{"v":0,"d":"0 Cft"}},{"$f":"'Long Tied Column'!BE13","v":{"v":0,"d":"0 SFT"}},{"$f":"'Long Tied Column'!BF13","v":{"v":0,"d":"0 Nos"}},{"$f":"'Long Tied Column'!BG13","v":{"v":0,"d":"0 Nos"}},{"$f":"'Long Tied Column'!BH13","v":{"v":0,"d":"0 Cft"}},{"$nulls":6},"Stone/Brick Chips (CFT)",{"$f":"V23","v":{"v":0,"d":"0 Cft"}}]
[{"$nulls":17},9,"LONG CIRCULAR",{"$f":"'Long Circular Column'!BI13","v":{"v":0,"d":"0 Bag"}},{"$f":"'Long Circular Column'!BJ13","v":{"v":0,"d":"0 Cft"}},{"$f":"'Long Circular Column'!BK13","v":{"v":0,"d":"0 Cft"}},{"$f":"'Long Circular Column'!BL13","v":{"v":0,"d":"0.00 Ton"}},{"$f":"'Long Circular Column'!BM13","v":{"v":0,"d":"0 Cft"}},{"$f":"'Long Circular Column'!BN13","v":{"v":0,"d":"0 CFT"}},{"$f":"'Long Circular Column'!BO13","v":{"v":0,"d":"0 Cft"}},{"$f":"'Long Circular Column'!BP13","v":{"v":0,"d":"0 SFT"}},{"$f":"'Long Circular Column'!BQ13","v":{"v":0,"d":"0 Nos"}},{"$f":"'Long Circular Column'!BR13","v":{"v":0,"d":"0 Nos"}},{"$f":"'Long Circular Column'!BS13","v":{"v":0,"d":"0 Cft"}},{"$nulls":6},"Brick Nos",{"$f":"AB23","v":{"v":0,"d":"0 Nos"}}]
[{"$nulls":17},10,"GRADE BEAM",{"$f":"'Grade Beam'!AW13","v":{"v":0,"d":"0 Bag"}},{"$f":"'Grade Beam'!AX13","v":{"v":0,"d":"0 Cft"}},{"$f":"'Grade Beam'!AY13","v":{"v":0,"d":"0 Cft"}},{"$f":"'Grade Beam'!AZ13","v":{"v":0,"d":"0.00 Ton"}},{"$f":"'Grade Beam'!BA13","v":{"v":0,"d":"0 Cft"}},{"$f":"'Grade Beam'!BB13","v":{"v":0,"d":"0 CFT"}},{"$f":"'Grade Beam'!BC13","v":{"v":0,"d":"0 Cft"}},{"$f":"'Grade Beam'!BD13","v":{"v":0,"d":"0 SFT"}},{"$f":"'Grade Beam'!BE13","v":{"v":0,"d":"0 Nos"}},{"$f":"'Grade Beam'!BF13","v":{"v":0,"d":"0 Nos"}},{"$f":"'Grade Beam'!BG13","v":{"v":0,"d":"0 Cft"}}]
[{"$nulls":17},11,"FLOOR BEAM",{"$f":"'Floor Beam'!AV12","v":{"v":0,"d":"0 Bag"}},{"$f":"'Floor Beam'!AW12","v":{"v":0,"d":"0 Cft"}},{"$f":"'Floor Beam'!AX12","v":{"v":0,"d":"0 Cft"}},{"$f":"'Floor Beam'!AY12","v":{"v":0,"d":"0.00 Ton"}},{"$f":"'Floor Beam'!AZ12","v":{"v":0,"d":"0 Cft"}},{"$f":"'Floor Beam'!BA12","v":{"v":0,"d":"0 CFT"}},{"$f":"'Floor Beam'!BB12","v":{"v":0,"d":"0 Cft"}},{"$f":"'Floor Beam'!BC12","v":{"v":0,"d":"0 SFT"}},{"$f":"'Floor Beam'!BD12","v":{"v":0,"d":"0 Nos"}},{"$f":"'Floor Beam'!BE12","v":{"v":0,"d":"0 Nos"}},{"$f":"'Floor Beam'!BF12","v":{"v":0,"d":"0 Cft"}}]
[{"$nulls":17},12,"STAIR",{"$f":"Stair!BS19","v":{"v":0,"d":"0 Bag"}},{"$f":"Stair!BT19","v":{"v":0,"d":"0 Cft"}},{"$f":"Stair!BU19","v":{"v":0,"d":"0 Cft"}},{"$f":"Stair!BV19","v":{"v":0,"d":"0.00 Ton"}},{"$f":"Stair!BW19","v":{"v":0,"d":"0 Cft"}},{"$f":"Stair!BX19","v":{"v":0,"d":"0 CFT"}},{"$f":"Stair!BY19","v":{"v":0,"d":"0 Cft"}},{"$f":"Stair!BZ19","v":{"v":0,"d":"0 SFT"}},{"$f":"Stair!CA19","v":{"v":0,"d":"0 Nos"}},{"$f":"Stair!CB19","v":{"v":0,"d":"0 Nos"}},{"$f":"Stair!CC19","v":{"v":0,"d":"0 Cft"}}]
[{"$nulls":17},13,"SLAB",{"$f":"Slab!AK9","v":{"v":0,"d":"0 Bag"}},{"$f":"Slab!AL9","v":{"v":0,"d":"0 Cft"}},{"$f":"Slab!AM9","v":{"v":0,"d":"0 Cft"}},{"$f":"Slab!AN9","v":{"v":0,"d":"0.00 Ton"}},{"$f":"Slab!AO9","v":{"v":0,"d":"0 Cft"}},{"$f":"Slab!AP9","v":{"v":0,"d":"0 CFT"}},{"$f":"Slab!AQ9","v":{"v":0,"d":"0 Cft"}},{"$f":"Slab!AR9","v":{"v":0,"d":"0 SFT"}},{"$f":"Slab!AS9","v":{"v":0,"d":"0 Nos"}},{"$f":"Slab!AT9","v":{"v":0,"d":"0 Nos"}},{"$f":"Slab!AU9","v":{"v":0,"d":"0 Cft"}}]
[{"$nulls":17},14,"RCC WALL",{"$f":"'Rcc Wall'!BH20","v":{"v":0,"d":"0 Bag"}},{"$f":"'Rcc Wall'!BI20","v":{"v":0,"d":"0 Cft"}},{"$f":"'Rcc Wall'!BJ20","v":{"v":0,"d":"0 Cft"}},{"$f":"'Rcc Wall'!BK20","v":{"v":0,"d":"0.00 Ton"}},{"$f":"'Rcc Wall'!BL20","v":{"v":0,"d":"0 Cft"}},{"$f":"'Rcc Wall'!BM20","v":{"v":0,"d":"0 CFT"}},{"$f":"'Rcc Wall'!BN20","v":{"v":0,"d":"0 Cft"}},{"$f":"'Rcc Wall'!BO20","v":{"v":0,"d":"0 SFT"}},{"$f":"'Rcc Wall'!BP20","v":{"v":0,"d":"0 Nos"}},{"$f":"'Rcc Wall'!BQ20","v":{"v":0,"d":"0 Nos"}},{"$f":"'Rcc Wall'!BR20","v":{"v":0,"d":"0 Cft"}}]
[{"$nulls":17},15,"WATER RESERVOIR",{"$f":"'WATER RESERVOIR'!BA10","v":{"v":0,"d":"0 Bag"}},{"$f":"'WATER RESERVOIR'!BB10","v":{"v":0,"d":"0 Cft"}},{"$f":"'WATER RESERVOIR'!BC10","v":{"v":0,"d":"0 Cft"}},{"$f":"'WATER RESERVOIR'!BD10","v":{"v":0,"d":"0.00 Ton"}},{"$f":"'WATER RESERVOIR'!BE10","v":{"v":0,"d":"0 Cft"}},{"$f":"'WATER RESERVOIR'!BF10","v":{"v":0,"d":"0 CFT"}},{"$f":"'WATER RESERVOIR'!BG10","v":{"v":0,"d":"0 Cft"}},{"$f":"'WATER RESERVOIR'!BH10","v":{"v":0,"d":"0 SFT"}},{"$f":"'WATER RESERVOIR'!BI10","v":{"v":0,"d":"0 Nos"}},{"$f":"'WATER RESERVOIR'!BJ10","v":{"v":0,"d":"0 Nos"}},{"$f":"'WATER RESERVOIR'!BK10","v":{"v":0,"d":"0 Cft"}},{"$f":"'WATER RESERVOIR'!BL10","v":{"v":0,"d":"0 Nos"}}]
[{"$nulls":17},16,"Brick Masonry  ",{"$f":"'Brick Masonry  '!AD29","v":"0"},{"$f":"'Brick Masonry  '!AD30","v":"0"},{"$nulls":9},{"$f":"'Brick Masonry  '!AD31","v":{"v":0,"d":"0 Nos"}}]
[{"$nulls":17},17,"Plaster and  Paint  Work ",{"$f":"'Plaster and  Paint  Work '!AW48","v":"0"},{"$f":"'Plaster and  Paint  Work '!AW49","v":"0"},{"$nulls":10},{"$f":"'Plaster and  Paint  Work '!AW44","v":"0"},{"$f":"'Plaster and  Paint  Work '!AW45","v":"0"},{"$f":"'Plaster and  Paint  Work '!AW46","v":"0"}]
[{"$nulls":17},18,"Tiles Work",{"$f":"'Tiles Work'!AB49","v":{"v":0,"d":"0 Bag"}},{"$f":"'Tiles Work'!AB51","v":{"v":0,"d":"0 Cft"}},{"$nulls":13},{"$f":"'Tiles Work'!AB50","v":0}]
[{"$nulls":17},"Total",null,{"$f":"SUM(T5:T22)","v":{"v":0,"d":"0 Bag"}},{"$f":"SUM(U5:U22)","v":{"v":0,"d":"0 Cft"}},{"v":0,"d":"0 Cft"},{"$f":"SUM(W5:W22)","v":{"v":0,"d":"0.00 Ton"}},{"v":0,"d":"0 Cft"},{"v":0,"d":"0 CFT"},{"v":0,"d":"0 Cft"},{"v":0,"d":"0 SFT"},{"v":0,"d":"0 Nos"},{"v":0,"d":"0 Nos"},{"v":0,"d":"0 Cft"},{"v":0,"d":"0 Nos"},{"v":0,"d":"0 liter"},{"v":0,"d":"0 KG"},{"v":0,"d":"0 liter"},{"v":0,"d":"0 Bag"}]
{"$rows_empty":23}
[{"$nulls":3},1,2,3,4,5,6,7,8,9,10,11,12,13,14,15,null,1,2,3,4,5,6,7,8,9,10,11,12,13,14,15]
[]
[null,"Pile",null,{"$f":"'Pile Estimate'!AT18","v":0},{"$f":"'Pile Estimate'!AU18","v":0},{"$f":"'Pile Estimate'!AV18","v":0},{"$f":"'Pile Estimate'!AW18","v":0},{"$f":"'Pile Estimate'!AX18","v":0},{"$nulls":11},{"$f":"'Pile Estimate'!AZ18","v":""},{"$f":"'Pile Estimate'!BA18","v":""},{"$f":"'Pile Estimate'!BB18","v":""},{"$f":"'Pile Estimate'!BC18","v":""},{"$f":"'Pile Estimate'!BD18","v":""},{"$nulls":11},{"$f":"SUM(T49:AI51)/1000","v":0}]
[{"$nulls":3},{"$f":"'Pile Estimate'!AT19","v":0},{"$f":"'Pile Estimate'!AU19","v":0},{"$f":"'Pile Estimate'!AV19","v":0},{"$f":"'Pile Estimate'!AW19","v":0},{"$f":"'Pile Estimate'!AX19","v":0},{"$nulls":11},{"$f":"'Pile Estimate'!AZ19","v":""},{"$f":"'Pile Estimate'!BA19","v":""},{"$f":"'Pile Estimate'!BB19","v":""},{"$f":"'Pile Estimate'!BC19","v":""},{"$f":"'Pile Estimate'!BD19","v":""}]
[{"$nulls":3},{"$f":"'Pile Estimate'!AT20","v":0},{"$f":"'Pile Estimate'!AU20","v":0},{"$f":"'Pile Estimate'!AV20","v":0},{"$f":"'Pile Estimate'!AW20","v":0},{"$f":"'Pile Estimate'!AX20","v":0},{"$nulls":11},{"$f":"'Pile Estimate'!AZ20","v":""},{"$f":"'Pile Estimate'!BA20","v":""},{"$f":"'Pile Estimate'!BB20","v":""},{"$f":"'Pile Estimate'!BC20","v":""},{"$f":"'Pile Estimate'!BD20","v":""}]
[null,"Rectangular Pile Cap",null,{"$f":"'Rectangular Pile Cap'!AS35","v":0},{"$f":"'Rectangular Pile Cap'!AT35","v":0},{"$f":"'Rectangular Pile Cap'!AU35","v":0},{"$f":"'Rectangular Pile Cap'!AV35","v":0},{"$f":"'Rectangular Pile Cap'!AW35","v":0},{"$f":"'Rectangular Pile Cap'!AX35","v":0},{"$f":"'Rectangular Pile Cap'!AY35","v":0},{"$f":"'Rectangular Pile Cap'!AZ35","v":0},{"$f":"'Rectangular Pile Cap'!BA35","v":0},{"$f":"'Rectangular Pile Cap'!BB35","v":0},{"$f":"'Rectangular Pile Cap'!BC35","v":0},{"$f":"'Rectangular Pile Cap'!BD35","v":0},{"$f":"'Rectangular Pile Cap'!BE35","v":0},{"$f":"'Rectangular Pile Cap'!BF35","v":0},{"$f":"'Rectangular Pile Cap'!BG35","v":0},null,{"$f":"'Rectangular Pile Cap'!BI35","v":""},{"$f":"'Rectangular Pile Cap'!BJ35","v":""},{"$f":"'Rectangular Pile Cap'!BK35","v":""},{"$f":"'Rectangular Pile Cap'!BL35","v":""},{"$f":"'Rectangular Pile Cap'!BM35","v":""},{"$f":"'Rectangular Pile Cap'!BN35","v":""},{"$f":"'Rectangular Pile Cap'!BO35","v":""},{"$f":"'Rectangular Pile Cap'!BP35","v":""},{"$f":"'Rectangular Pile Cap'!BQ35","v":""},{"$f":"'Rectangular Pile Cap'!BR35","v":""},{"$f":"'Rectangular Pile Cap'!BS35","v":""},{"$f":"'Rectangular Pile Cap'!BT35","v":""},{"$f":"'Rectangular Pile Cap'!BU35","v":""},{"$f":"'Rectangular Pile Cap'!BV35","v":""},{"$f":"'Rectangular Pile Cap'!BW35","v":""},null,{"$f":"SUM(T52:AH55)/1000","v":0}]
[{"$nulls":3},{"$f":"'Rectangular Pile Cap'!AS36","v":0},{"$f":"'Rectangular Pile Cap'!AT36","v":0},{"$f":"'Rectangular Pile Cap'!AU36","v":0},{"$f":"'Rectangular Pile Cap'!AV36","v":0},{"$f":"'Rectangular Pile Cap'!AW36","v":0},{"$f":"'Rectangular Pile Cap'!AX36","v":0},{"$f":"'Rectangular Pile Cap'!AY36","v":0},{"$f":"'Rectangular Pile Cap'!AZ36","v":0},{"$f":"'Rectangular Pile Cap'!BA36","v":0},{"$f":"'Rectangular Pile Cap'!BB36","v":0},{"$f":"'Rectangular Pile Cap'!BC36","v":0},{"$f":"'Rectangular Pile Cap'!BD36","v":0},{"$f":"'Rectangular Pile Cap'!BE36","v":0},{"$f":"'Rectangular Pile Cap'!BF36","v":0},{"$f":"'Rectangular Pile Cap'!BG36","v":0},null,{"$f":"'Rectangular Pile Cap'!BI36","v":""},{"$f":"'Rectangular Pile Cap'!BJ36","v":""},{"$f":"'Rectangular Pile Cap'!BK36","v":""},{"$f":"'Rectangular Pile Cap'!BL36","v":""},{"$f":"'Rectangular Pile Cap'!BM36","v":""},{"$f":"'Rectangular Pile Cap'!BN36","v":""},{"$f":"'Rectangular Pile Cap'!BO36","v":""},{"$f":"'Rectangular Pile Cap'!BP36","v":""},{"$f":"'Rectangular Pile Cap'!BQ36","v":""},{"$f":"'Rectangular Pile Cap'!BR36","v":""},{"$f":"'Rectangular Pile Cap'!BS36","v":""},{"$f":"'Rectangular Pile Cap'!BT36","v":""},{"$f":"'Rectangular Pile Cap'!BU36","v":""},{"$f":"'Rectangular Pile Cap'!BV36","v":""},{"$f":"'Rectangular Pile Cap'!BW36","v":""}]
[{"$nulls":3},{"$f":"'Rectangular Pile Cap'!AS37","v":0},{"$f":"'Rectangular Pile Cap'!AT37","v":0},{"$f":"'Rectangular Pile Cap'!AU37","v":0},{"$f":"'Rectangular Pile Cap'!AV37","v":0},{"$f":"'Rectangular Pile Cap'!AW37","v":0},{"$f":"'Rectangular Pile Cap'!AX37","v":0},{"$f":"'Rectangular Pile Cap'!AY37","v":0},{"$f":"'Rectangular Pile Cap'!AZ37","v":0},{"$f":"'Rectangular Pile Cap'!BA37","v":0},{"$f":"'Rectangular Pile Cap'!BB37","v":0},{"$f":"'Rectangular Pile Cap'!BC37","v":0},{"$f":"'Rectangular Pile Cap'!BD37","v":0},{"$f":"'Rectangular Pile Cap'!BE37","v":0},{"$f":"'Rectangular Pile Cap'!BF37","v":0},{"$f":"'Rectangular Pile Cap'!BG37","v":0},null,{"$f":"'Rectangular Pile Cap'!BI37","v":""},{"$f":"'Rectangular Pile Cap'!BJ37","v":""},{"$f":"'Rectangular Pile Cap'!BK37","v":""},{"$f":"'Rectangular Pile Cap'!BL37","v":""},{"$f":"'Rectangular Pile Cap'!BM37","v":""},{"$f":"'Rectangular Pile Cap'!BN37","v":""},{"$f":"'Rectangular Pile Cap'!BO37","v":""},{"$f":"'Rectangular Pile Cap'!BP37","v":""},{"$f":"'Rectangular Pile Cap'!BQ37","v":""},{"$f":"'Rectangular Pile Cap'!BR37","v":""},{"$f":"'Rectangular Pile Cap'!BS37","v":""},{"$f":"'Rectangular Pile Cap'!BT37","v":""},{"$f":"'Rectangular Pile Cap'!BU37","v":""},{"$f":"'Rectangular Pile Cap'!BV37","v":""},{"$f":"'Rectangular Pile Cap'!BW37","v":""}]
[{"$nulls":3},{"$f":"'Rectangular Pile Cap'!AS38","v":0},{"$f":"'Rectangular Pile Cap'!AT38","v":0},{"$f":"'Rectangular Pile Cap'!AU38","v":0},{"$f":"'Rectangular Pile Cap'!AV38","v":0},{"$f":"'Rectangular Pile Cap'!AW38","v":0},{"$f":"'Rectangular Pile Cap'!AX38","v":0},{"$f":"'Rectangular Pile Cap'!AY38","v":0},{"$f":"'Rectangular Pile Cap'!AZ38","v":0},{"$f":"'Rectangular Pile Cap'!BA38","v":0},{"$f":"'Rectangular Pile Cap'!BB38","v":0},{"$f":"'Rectangular Pile Cap'!BC38","v":0},{"$f":"'Rectangular Pile Cap'!BD38","v":0},{"$f":"'Rectangular Pile Cap'!BE38","v":0},{"$f":"'Rectangular Pile Cap'!BF38","v":0},{"$f":"'Rectangular Pile Cap'!BG38","v":0},null,{"$f":"'Rectangular Pile Cap'!BI38","v":""},{"$f":"'Rectangular Pile Cap'!BJ38","v":""},{"$f":"'Rectangular Pile Cap'!BK38","v":""},{"$f":"'Rectangular Pile Cap'!BL38","v":""},{"$f":"'Rectangular Pile Cap'!BM38","v":""},{"$f":"'Rectangular Pile Cap'!BN38","v":""},{"$f":"'Rectangular Pile Cap'!BO38","v":""},{"$f":"'Rectangular Pile Cap'!BP38","v":""},{"$f":"'Rectangular Pile Cap'!BQ38","v":""},{"$f":"'Rectangular Pile Cap'!BR38","v":""},{"$f":"'Rectangular Pile Cap'!BS38","v":""},{"$f":"'Rectangular Pile Cap'!BT38","v":""},{"$f":"'Rectangular Pile Cap'!BU38","v":""},{"$f":"'Rectangular Pile Cap'!BV38","v":""},{"$f":"'Rectangular Pile Cap'!BW38","v":""}]
[null,"Trapezoidal Pile Cap ",null,{"$f":"'Trapezoidal Pile Cap '!BF34","v":0},{"$f":"'Trapezoidal Pile Cap '!BG34","v":0},{"$f":"'Trapezoidal Pile Cap '!BH34","v":0},{"$f":"'Trapezoidal Pile Cap '!BI34","v":0},{"$f":"'Trapezoidal Pile Cap '!BJ34","v":0},{"$f":"'Trapezoidal Pile Cap '!BK34","v":0},{"$f":"'Trapezoidal Pile Cap '!BL34","v":0},{"$f":"'Trapezoidal Pile Cap '!BM34","v":0},{"$f":"'Trapezoidal Pile Cap '!BN34","v":0},{"$f":"'Trapezoidal Pile Cap '!BO34","v":0},{"$f":"'Trapezoidal Pile Cap '!BP34","v":0},{"$f":"'Trapezoidal Pile Cap '!BQ34","v":0},{"$f":"'Trapezoidal Pile Cap '!BR34","v":0},{"$f":"'Trapezoidal Pile Cap '!BS34","v":0},{"$f":"'Trapezoidal Pile Cap '!BT34","v":0},null,{"$f":"'Trapezoidal Pile Cap '!BV34","v":""},{"$f":"'Trapezoidal Pile Cap '!BW34","v":""},{"$f":"'Trapezoidal Pile Cap '!BX34","v":""},{"$f":"'Trapezoidal Pile Cap '!BY34","v":""},{"$f":"'Trapezoidal Pile Cap '!BZ34","v":""},{"$f":"'Trapezoidal Pile Cap '!CA34","v":""},{"$f":"'Trapezoidal Pile Cap '!CB34","v":""},{"$f":"'Trapezoidal Pile Cap '!CC34","v":""},{"$f":"'Trapezoidal Pile Cap '!CD34","v":""},{"$f":"'Trapezoidal Pile Cap '!CE34","v":""},{"$f":"'Trapezoidal Pile Cap '!CF34","v":""},{"$f":"'Trapezoidal Pile Cap '!CG34","v":""},{"$f":"'Trapezoidal Pile Cap '!CH34","v":""},{"$f":"'Trapezoidal Pile Cap '!CI34","v":""},{"$f":"'Trapezoidal Pile Cap '!CJ34","v":""},null,{"$f":"SUM(T56:AH59)/1000","v":0}]
[{"$nulls":3},{"$f":"'Trapezoidal Pile Cap '!BF35","v":0},{"$f":"'Trapezoidal Pile Cap '!BG35","v":0},{"$f":"'Trapezoidal Pile Cap '!BH35","v":0},{"$f":"'Trapezoidal Pile Cap '!BI35","v":0},{"$f":"'Trapezoidal Pile Cap '!BJ35","v":0},{"$f":"'Trapezoidal Pile Cap '!BK35","v":0},{"$f":"'Trapezoidal Pile Cap '!BL35","v":0},{"$f":"'Trapezoidal Pile Cap '!BM35","v":0},{"$f":"'Trapezoidal Pile Cap '!BN35","v":0},{"$f":"'Trapezoidal Pile Cap '!BO35","v":0},{"$f":"'Trapezoidal Pile Cap '!BP35","v":0},{"$f":"'Trapezoidal Pile Cap '!BQ35","v":0},{"$f":"'Trapezoidal Pile Cap '!BR35","v":0},{"$f":"'Trapezoidal Pile Cap '!BS35","v":0},{"$f":"'Trapezoidal Pile Cap '!BT35","v":0},null,{"$f":"'Trapezoidal Pile Cap '!BV35","v":""},{"$f":"'Trapezoidal Pile Cap '!BW35","v":""},{"$f":"'Trapezoidal Pile Cap '!BX35","v":""},{"$f":"'Trapezoidal Pile Cap '!BY35","v":""},{"$f":"'Trapezoidal Pile Cap '!BZ35","v":""},{"$f":"'Trapezoidal Pile Cap '!CA35","v":""},{"$f":"'Trapezoidal Pile Cap '!CB35","v":""},{"$f":"'Trapezoidal Pile Cap '!CC35","v":""},{"$f":"'Trapezoidal Pile Cap '!CD35","v":""},{"$f":"'Trapezoidal Pile Cap '!CE35","v":""},{"$f":"'Trapezoidal Pile Cap '!CF35","v":""},{"$f":"'Trapezoidal Pile Cap '!CG35","v":""},{"$f":"'Trapezoidal Pile Cap '!CH35","v":""},{"$f":"'Trapezoidal Pile Cap '!CI35","v":""},{"$f":"'Trapezoidal Pile Cap '!CJ35","v":""}]
[{"$nulls":3},{"$f":"'Trapezoidal Pile Cap '!BF36","v":0},{"$f":"'Trapezoidal Pile Cap '!BG36","v":0},{"$f":"'Trapezoidal Pile Cap '!BH36","v":0},{"$f":"'Trapezoidal Pile Cap '!BI36","v":0},{"$f":"'Trapezoidal Pile Cap '!BJ36","v":0},{"$f":"'Trapezoidal Pile Cap '!BK36","v":0},{"$f":"'Trapezoidal Pile Cap '!BL36","v":0},{"$f":"'Trapezoidal Pile Cap '!BM36","v":0},{"$f":"'Trapezoidal Pile Cap '!BN36","v":0},{"$f":"'Trapezoidal Pile Cap '!BO36","v":0},{"$f":"'Trapezoidal Pile Cap '!BP36","v":0},{"$f":"'Trapezoidal Pile Cap '!BQ36","v":0},{"$f":"'Trapezoidal Pile Cap '!BR36","v":0},{"$f":"'Trapezoidal Pile Cap '!BS36","v":0},{"$f":"'Trapezoidal Pile Cap '!BT36","v":0},null,{"$f":"'Trapezoidal Pile Cap '!BV36","v":""},{"$f":"'Trapezoidal Pile Cap '!BW36","v":""},{"$f":"'Trapezoidal Pile Cap '!BX36","v":""},{"$f":"'Trapezoidal Pile Cap '!BY36","v":""},{"$f":"'Trapezoidal Pile Cap '!BZ36","v":""},{"$f":"'Trapezoidal Pile Cap '!CA36","v":""},{"$f":"'Trapezoidal Pile Cap '!CB36","v":""},{"$f":"'Trapezoidal Pile Cap '!CC36","v":""},{"$f":"'Trapezoidal Pile Cap '!CD36","v":""},{"$f":"'Trapezoidal Pile Cap '!CE36","v":""},{"$f":"'Trapezoidal Pile Cap '!CF36","v":""},{"$f":"'Trapezoidal Pile Cap '!CG36","v":""},{"$f":"'Trapezoidal Pile Cap '!CH36","v":""},{"$f":"'Trapezoidal Pile Cap '!CI36","v":""},{"$f":"'Trapezoidal Pile Cap '!CJ36","v":""}]
[{"$nulls":3},{"$f":"'Trapezoidal Pile Cap '!BF37","v":0},{"$f":"'Trapezoidal Pile Cap '!BG37","v":0},{"$f":"'Trapezoidal Pile Cap '!BH37","v":0},{"$f":"'Trapezoidal Pile Cap '!BI37","v":0},{"$f":"'Trapezoidal Pile Cap '!BJ37","v":0},{"$f":"'Trapezoidal Pile Cap '!BK37","v":0},{"$f":"'Trapezoidal Pile Cap '!BL37","v":0},{"$f":"'Trapezoidal Pile Cap '!BM37","v":0},{"$f":"'Trapezoidal Pile Cap '!BN37","v":0},{"$f":"'Trapezoidal Pile Cap '!BO37","v":0},{"$f":"'Trapezoidal Pile Cap '!BP37","v":0},{"$f":"'Trapezoidal Pile Cap '!BQ37","v":0},{"$f":"'Trapezoidal Pile Cap '!BR37","v":0},{"$f":"'Trapezoidal Pile Cap '!BS37","v":0},{"$f":"'Trapezoidal Pile Cap '!BT37","v":0},null,{"$f":"'Trapezoidal Pile Cap '!BV37","v":""},{"$f":"'Trapezoidal Pile Cap '!BW37","v":""},{"$f":"'Trapezoidal Pile Cap '!BX37","v":""},{"$f":"'Trapezoidal Pile Cap '!BY37","v":""},{"$f":"'Trapezoidal Pile Cap '!BZ37","v":""},{"$f":"'Trapezoidal Pile Cap '!CA37","v":""},{"$f":"'Trapezoidal Pile Cap '!CB37","v":""},{"$f":"'Trapezoidal Pile Cap '!CC37","v":""},{"$f":"'Trapezoidal Pile Cap '!CD37","v":""},{"$f":"'Trapezoidal Pile Cap '!CE37","v":""},{"$f":"'Trapezoidal Pile Cap '!CF37","v":""},{"$f":"'Trapezoidal Pile Cap '!CG37","v":""},{"$f":"'Trapezoidal Pile Cap '!CH37","v":""},{"$f":"'Trapezoidal Pile Cap '!CI37","v":""},{"$f":"'Trapezoidal Pile Cap '!CJ37","v":""}]
[null,"Mat foundation",null,{"$f":"'Mat Foundation '!BD17","v":0},{"$f":"'Mat Foundation '!BE17","v":0},{"$f":"'Mat Foundation '!BF17","v":0},{"$f":"'Mat Foundation '!BG17","v":0},{"$f":"'Mat Foundation '!BH17","v":0},{"$f":"'Mat Foundation '!BI17","v":0},{"$f":"'Mat Foundation '!BJ17","v":0},{"$f":"'Mat Foundation '!BK17","v":0},{"$f":"'Mat Foundation '!BL17","v":0},{"$f":"'Mat Foundation '!BM17","v":0},{"$f":"'Mat Foundation '!BN17","v":0},{"$nulls":5},{"$f":"'Mat Foundation '!BO17","v":""},{"$f":"'Mat Foundation '!BP17","v":""},{"$f":"'Mat Foundation '!BQ17","v":""},{"$f":"'Mat Foundation '!BR17","v":""},{"$f":"'Mat Foundation '!BS17","v":""},{"$f":"'Mat Foundation '!BT17","v":""},{"$f":"'Mat Foundation '!BU17","v":""},{"$f":"'Mat Foundation '!BV17","v":""},{"$f":"'Mat Foundation '!BW17","v":""},{"$f":"'Mat Foundation '!BX17","v":""},{"$nulls":6},{"$f":"SUM(T56:AH59)/1000","v":0}]
[{"$nulls":3},{"$f":"'Mat Foundation '!BD18","v":0},{"$f":"'Mat Foundation '!BE18","v":0},{"$f":"'Mat Foundation '!BF18","v":0},{"$f":"'Mat Foundation '!BG18","v":0},{"$f":"'Mat Foundation '!BH18","v":0},{"$f":"'Mat Foundation '!BI18","v":0},{"$f":"'Mat Foundation '!BJ18","v":0},{"$f":"'Mat Foundation '!BK18","v":0},{"$f":"'Mat Foundation '!BL18","v":0},{"$f":"'Mat Foundation '!BM18","v":0},{"$f":"'Mat Foundation '!BN18","v":0},{"$nulls":5},{"$f":"'Mat Foundation '!BO18","v":""},{"$f":"'Mat Foundation '!BP18","v":""},{"$f":"'Mat Foundation '!BQ18","v":""},{"$f":"'Mat Foundation '!BR18","v":""},{"$f":"'Mat Foundation '!BS18","v":""},{"$f":"'Mat Foundation '!BT18","v":""},{"$f":"'Mat Foundation '!BU18","v":""},{"$f":"'Mat Foundation '!BV18","v":""},{"$f":"'Mat Foundation '!BW18","v":""},{"$f":"'Mat Foundation '!BX18","v":""}]
[{"$nulls":3},{"$f":"'Mat Foundation '!BD19","v":0},{"$f":"'Mat Foundation '!BE19","v":0},{"$f":"'Mat Foundation '!BF19","v":0},{"$f":"'Mat Foundation '!BG19","v":0},{"$f":"'Mat Foundation '!BH19","v":0},{"$f":"'Mat Foundation '!BI19","v":0},{"$f":"'Mat Foundation '!BJ19","v":0},{"$f":"'Mat Foundation '!BK19","v":0},{"$f":"'Mat Foundation '!BL19","v":0},{"$f":"'Mat Foundation '!BM19","v":0},{"$f":"'Mat Foundation '!BN19","v":0},{"$nulls":5},{"$f":"'Mat Foundation '!BO19","v":""},{"$f":"'Mat Foundation '!BP19","v":""},{"$f":"'Mat Foundation '!BQ19","v":""},{"$f":"'Mat Foundation '!BR19","v":""},{"$f":"'Mat Foundation '!BS19","v":""},{"$f":"'Mat Foundation '!BT19","v":""},{"$f":"'Mat Foundation '!BU19","v":""},{"$f":"'Mat Foundation '!BV19","v":""},{"$f":"'Mat Foundation '!BW19","v":""},{"$f":"'Mat Foundation '!BX19","v":""}]
[{"$nulls":3},{"$f":"'Mat Foundation '!BD20","v":0},{"$f":"'Mat Foundation '!BE20","v":0},{"$f":"'Mat Foundation '!BF20","v":0},{"$f":"'Mat Foundation '!BG20","v":0},{"$f":"'Mat Foundation '!BH20","v":0},{"$f":"'Mat Foundation '!BI20","v":0},{"$f":"'Mat Foundation '!BJ20","v":0},{"$f":"'Mat Foundation '!BK20","v":0},{"$f":"'Mat Foundation '!BL20","v":0},{"$f":"'Mat Foundation '!BM20","v":0},{"$f":"'Mat Foundation '!BN20","v":0},{"$nulls":5},{"$f":"'Mat Foundation '!BO20","v":""},{"$f":"'Mat Foundation '!BP20","v":""},{"$f":"'Mat Foundation '!BQ20","v":""},{"$f":"'Mat Foundation '!BR20","v":""},{"$f":"'Mat Foundation '!BS20","v":""},{"$f":"'Mat Foundation '!BT20","v":""},{"$f":"'Mat Foundation '!BU20","v":""},{"$f":"'Mat Foundation '!BV20","v":""},{"$f":"'Mat Foundation '!BW20","v":""},{"$f":"'Mat Foundation '!BX20","v":""}]
[{"$nulls":3},{"$f":"'Mat Foundation '!BD21","v":0},{"$f":"'Mat Foundation '!BE21","v":0},{"$f":"'Mat Foundation '!BF21","v":0},{"$f":"'Mat Foundation '!BG21","v":0},{"$f":"'Mat Foundation '!BH21","v":0},{"$f":"'Mat Foundation '!BI21","v":0},{"$f":"'Mat Foundation '!BJ21","v":0},{"$f":"'Mat Foundation '!BK21","v":0},{"$f":"'Mat Foundation '!BL21","v":0},{"$f":"'Mat Foundation '!BM21","v":0},{"$f":"'Mat Foundation '!BN21","v":0},{"$nulls":5},{"$f":"'Mat Foundation '!BO21","v":""},{"$f":"'Mat Foundation '!BP21","v":""},{"$f":"'Mat Foundation '!BQ21","v":""},{"$f":"'Mat Foundation '!BR21","v":""},{"$f":"'Mat Foundation '!BS21","v":""},{"$f":"'Mat Foundation '!BT21","v":""},{"$f":"'Mat Foundation '!BU21","v":""},{"$f":"'Mat Foundation '!BV21","v":""},{"$f":"'Mat Foundation '!BW21","v":""},{"$f":"'Mat Foundation '!BX21","v":""}]
[null,"Footing",null,{"$f":"'Footing Estimate'!BK32","v":0},{"$f":"'Footing Estimate'!BL32","v":0},{"$f":"'Footing Estimate'!BM32","v":0},{"$f":"'Footing Estimate'!BN32","v":0},{"$f":"'Footing Estimate'!BO32","v":0},{"$f":"'Footing Estimate'!BP32","v":0},{"$f":"'Footing Estimate'!BQ32","v":0},{"$f":"'Footing Estimate'!BR32","v":0},{"$f":"'Footing Estimate'!BS32","v":0},{"$f":"'Footing Estimate'!BT32","v":0},{"$f":"'Footing Estimate'!BU32","v":0},{"$f":"'Footing Estimate'!BV32","v":0},{"$f":"'Footing Estimate'!BW32","v":0},{"$f":"'Footing Estimate'!BX32","v":0},{"$f":"'Footing Estimate'!BY32","v":0},null,{"$f":"'Footing Estimate'!CA32","v":""},{"$f":"'Footing Estimate'!CB32","v":""},{"$f":"'Footing Estimate'!CC32","v":""},{"$f":"'Footing Estimate'!CD32","v":""},{"$f":"'Footing Estimate'!CE32","v":""},{"$f":"'Footing Estimate'!CF32","v":""},{"$f":"'Footing Estimate'!CG32","v":""},{"$f":"'Footing Estimate'!CH32","v":""},{"$f":"'Footing Estimate'!CI32","v":""},{"$f":"'Footing Estimate'!CJ32","v":""},{"$f":"'Footing Estimate'!CK32","v":""},{"$f":"'Footing Estimate'!CL32","v":""},{"$f":"'Footing Estimate'!CM32","v":""},{"$f":"'Footing Estimate'!CN32","v":""},{"$f":"'Footing Estimate'!CO32","v":""},null,{"$f":"SUM(T65:AH68)/1000","v":0}]
[{"$nulls":3},{"$f":"'Footing Estimate'!BK33","v":0},{"$f":"'Footing Estimate'!BL33","v":0},{"$f":"'Footing Estimate'!BM33","v":0},{"$f":"'Footing Estimate'!BN33","v":0},{"$f":"'Footing Estimate'!BO33","v":0},{"$f":"'Footing Estimate'!BP33","v":0},{"$f":"'Footing Estimate'!BQ33","v":0},{"$f":"'Footing Estimate'!BR33","v":0},{"$f":"'Footing Estimate'!BS33","v":0},{"$f":"'Footing Estimate'!BT33","v":0},{"$f":"'Footing Estimate'!BU33","v":0},{"$f":"'Footing Estimate'!BV33","v":0},{"$f":"'Footing Estimate'!BW33","v":0},{"$f":"'Footing Estimate'!BX33","v":0},{"$f":"'Footing Estimate'!BY33","v":0},null,{"$f":"'Footing Estimate'!CA33","v":""},{"$f":"'Footing Estimate'!CB33","v":""},{"$f":"'Footing Estimate'!CC33","v":""},{"$f":"'Footing Estimate'!CD33","v":""},{"$f":"'Footing Estimate'!CE33","v":""},{"$f":"'Footing Estimate'!CF33","v":""},{"$f":"'Footing Estimate'!CG33","v":""},{"$f":"'Footing Estimate'!CH33","v":""},{"$f":"'Footing Estimate'!CI33","v":""},{"$f":"'Footing Estimate'!CJ33","v":""},{"$f":"'Footing Estimate'!CK33","v":""},{"$f":"'Footing Estimate'!CL33","v":""},{"$f":"'Footing Estimate'!CM33","v":""},{"$f":"'Footing Estimate'!CN33","v":""},{"$f":"'Footing Estimate'!CO33","v":""}]
[{"$nulls":3},{"$f":"'Footing Estimate'!BK34","v":0},{"$f":"'Footing Estimate'!BL34","v":0},{"$f":"'Footing Estimate'!BM34","v":0},{"$f":"'Footing Estimate'!BN34","v":0},{"$f":"'Footing Estimate'!BO34","v":0},{"$f":"'Footing Estimate'!BP34","v":0},{"$f":"'Footing Estimate'!BQ34","v":0},{"$f":"'Footing Estimate'!BR34","v":0},{"$f":"'Footing Estimate'!BS34","v":0},{"$f":"'Footing Estimate'!BT34","v":0},{"$f":"'Footing Estimate'!BU34","v":0},{"$f":"'Footing Estimate'!BV34","v":0},{"$f":"'Footing Estimate'!BW34","v":0},{"$f":"'Footing Estimate'!BX34","v":0},{"$f":"'Footing Estimate'!BY34","v":0},null,{"$f":"'Footing Estimate'!CA34","v":""},{"$f":"'Footing Estimate'!CB34","v":""},{"$f":"'Footing Estimate'!CC34","v":""},{"$f":"'Footing Estimate'!CD34","v":""},{"$f":"'Footing Estimate'!CE34","v":""},{"$f":"'Footing Estimate'!CF34","v":""},{"$f":"'Footing Estimate'!CG34","v":""},{"$f":"'Footing Estimate'!CH34","v":""},{"$f":"'Footing Estimate'!CI34","v":""},{"$f":"'Footing Estimate'!CJ34","v":""},{"$f":"'Footing Estimate'!CK34","v":""},{"$f":"'Footing Estimate'!CL34","v":""},{"$f":"'Footing Estimate'!CM34","v":""},{"$f":"'Footing Estimate'!CN34","v":""},{"$f":"'Footing Estimate'!CO34","v":""}]
[{"$nulls":3},{"$f":"'Footing Estimate'!BK35","v":0},{"$f":"'Footing Estimate'!BL35","v":0},{"$f":"'Footing Estimate'!BM35","v":0},{"$f":"'Footing Estimate'!BN35","v":0},{"$f":"'Footing Estimate'!BO35","v":0},{"$f":"'Footing Estimate'!BP35","v":0},{"$f":"'Footing Estimate'!BQ35","v":0},{"$f":"'Footing Estimate'!BR35","v":0},{"$f":"'Footing Estimate'!BS35","v":0},{"$f":"'Footing Estimate'!BT35","v":0},{"$f":"'Footing Estimate'!BU35","v":0},{"$f":"'Footing Estimate'!BV35","v":0},{"$f":"'Footing Estimate'!BW35","v":0},{"$f":"'Footing Estimate'!BX35","v":0},{"$f":"'Footing Estimate'!BY35","v":0},null,{"$f":"'Footing Estimate'!CA35","v":""},{"$f":"'Footing Estimate'!CB35","v":""},{"$f":"'Footing Estimate'!CC35","v":""},{"$f":"'Footing Estimate'!CD35","v":""},{"$f":"'Footing Estimate'!CE35","v":""},{"$f":"'Footing Estimate'!CF35","v":""},{"$f":"'Footing Estimate'!CG35","v":""},{"$f":"'Footing Estimate'!CH35","v":""},{"$f":"'Footing Estimate'!CI35","v":""},{"$f":"'Footing Estimate'!CJ35","v":""},{"$f":"'Footing Estimate'!CK35","v":""},{"$f":"'Footing Estimate'!CL35","v":""},{"$f":"'Footing Estimate'!CM35","v":""},{"$f":"'Footing Estimate'!CN35","v":""},{"$f":"'Footing Estimate'!CO35","v":""}]
[null,"Short Tied Column",null,{"$f":"'Short Tied Column'!BC30","v":0},{"$f":"'Short Tied Column'!BD30","v":0},{"$f":"'Short Tied Column'!BE30","v":0},{"$f":"'Short Tied Column'!BF30","v":0},{"$f":"'Short Tied Column'!BG30","v":0},{"$f":"'Short Tied Column'!BH30","v":0},{"$f":"'Short Tied Column'!BI30","v":0},{"$f":"'Short Tied Column'!BJ30","v":0},{"$f":"'Short Tied Column'!BK30","v":0},{"$f":"'Short Tied Column'!BL30","v":0},{"$f":"'Short Tied Column'!BM30","v":0},{"$f":"'Short Tied Column'!BN30","v":0},{"$f":"'Short Tied Column'!BO30","v":0},{"$f":"'Short Tied Column'!BP30","v":0},{"$f":"'Short Tied Column'!BQ30","v":0},null,{"$f":"'Short Tied Column'!BS30","v":""},{"$f":"'Short Tied Column'!BT30","v":""},{"$f":"'Short Tied Column'!BU30","v":""},{"$f":"'Short Tied Column'!BV30","v":""},{"$f":"'Short Tied Column'!BW30","v":""},{"$f":"'Short Tied Column'!BX30","v":""},{"$f":"'Short Tied Column'!BY30","v":""},{"$f":"'Short Tied Column'!BZ30","v":""},{"$f":"'Short Tied Column'!CA30","v":""},{"$f":"'Short Tied Column'!CB30","v":""},{"$f":"'Short Tied Column'!CC30","v":""},{"$f":"'Short Tied Column'!CD30","v":""},{"$f":"'Short Tied Column'!CE30","v":""},{"$f":"'Short Tied Column'!CF30","v":""},{"$f":"'Short Tied Column'!CG30","v":""},null,{"$f":"SUM(T69:AH73)/1000","v":0}]
[{"$nulls":3},{"$f":"'Short Tied Column'!BC31","v":0},{"$f":"'Short Tied Column'!BD31","v":0},{"$f":"'Short Tied Column'!BE31","v":0},{"$f":"'Short Tied Column'!BF31","v":0},{"$f":"'Short Tied Column'!BG31","v":0},{"$f":"'Short Tied Column'!BH31","v":0},{"$f":"'Short Tied Column'!BI31","v":0},{"$f":"'Short Tied Column'!BJ31","v":0},{"$f":"'Short Tied Column'!BK31","v":0},{"$f":"'Short Tied Column'!BL31","v":0},{"$f":"'Short Tied Column'!BM31","v":0},{"$f":"'Short Tied Column'!BN31","v":0},{"$f":"'Short Tied Column'!BO31","v":0},{"$f":"'Short Tied Column'!BP31","v":0},{"$f":"'Short Tied Column'!BQ31","v":0},null,{"$f":"'Short Tied Column'!BS31","v":""},{"$f":"'Short Tied Column'!BT31","v":""},{"$f":"'Short Tied Column'!BU31","v":""},{"$f":"'Short Tied Column'!BV31","v":""},{"$f":"'Short Tied Column'!BW31","v":""},{"$f":"'Short Tied Column'!BX31","v":""},{"$f":"'Short Tied Column'!BY31","v":""},{"$f":"'Short Tied Column'!BZ31","v":""},{"$f":"'Short Tied Column'!CA31","v":""},{"$f":"'Short Tied Column'!CB31","v":""},{"$f":"'Short Tied Column'!CC31","v":""},{"$f":"'Short Tied Column'!CD31","v":""},{"$f":"'Short Tied Column'!CE31","v":""},{"$f":"'Short Tied Column'!CF31","v":""},{"$f":"'Short Tied Column'!CG31","v":""}]
[{"$nulls":3},{"$f":"'Short Tied Column'!BC32","v":0},{"$f":"'Short Tied Column'!BD32","v":0},{"$f":"'Short Tied Column'!BE32","v":0},{"$f":"'Short Tied Column'!BF32","v":0},{"$f":"'Short Tied Column'!BG32","v":0},{"$f":"'Short Tied Column'!BH32","v":0},{"$f":"'Short Tied Column'!BI32","v":0},{"$f":"'Short Tied Column'!BJ32","v":0},{"$f":"'Short Tied Column'!BK32","v":0},{"$f":"'Short Tied Column'!BL32","v":0},{"$f":"'Short Tied Column'!BM32","v":0},{"$f":"'Short Tied Column'!BN32","v":0},{"$f":"'Short Tied Column'!BO32","v":0},{"$f":"'Short Tied Column'!BP32","v":0},{"$f":"'Short Tied Column'!BQ32","v":0},null,{"$f":"'Short Tied Column'!BS32","v":""},{"$f":"'Short Tied Column'!BT32","v":""},{"$f":"'Short Tied Column'!BU32","v":""},{"$f":"'Short Tied Column'!BV32","v":""},{"$f":"'Short Tied Column'!BW32","v":""},{"$f":"'Short Tied Column'!BX32","v":""},{"$f":"'Short Tied Column'!BY32","v":""},{"$f":"'Short Tied Column'!BZ32","v":""},{"$f":"'Short Tied Column'!CA32","v":""},{"$f":"'Short Tied Column'!CB32","v":""},{"$f":"'Short Tied Column'!CC32","v":""},{"$f":"'Short Tied Column'!CD32","v":""},{"$f":"'Short Tied Column'!CE32","v":""},{"$f":"'Short Tied Column'!CF32","v":""},{"$f":"'Short Tied Column'!CG32","v":""}]
[{"$nulls":3},{"$f":"'Short Tied Column'!BC33","v":0},{"$f":"'Short Tied Column'!BD33","v":0},{"$f":"'Short Tied Column'!BE33","v":0},{"$f":"'Short Tied Column'!BF33","v":0},{"$f":"'Short Tied Column'!BG33","v":0},{"$f":"'Short Tied Column'!BH33","v":0},{"$f":"'Short Tied Column'!BI33","v":0},{"$f":"'Short Tied Column'!BJ33","v":0},{"$f":"'Short Tied Column'!BK33","v":0},{"$f":"'Short Tied Column'!BL33","v":0},{"$f":"'Short Tied Column'!BM33","v":0},{"$f":"'Short Tied Column'!BN33","v":0},{"$f":"'Short Tied Column'!BO33","v":0},{"$f":"'Short Tied Column'!BP33","v":0},{"$f":"'Short Tied Column'!BQ33","v":0},null,{"$f":"'Short Tied Column'!BS33","v":""},{"$f":"'Short Tied Column'!BT33","v":""},{"$f":"'Short Tied Column'!BU33","v":""},{"$f":"'Short Tied Column'!BV33","v":""},{"$f":"'Short Tied Column'!BW33","v":""},{"$f":"'Short Tied Column'!BX33","v":""},{"$f":"'Short Tied Column'!BY33","v":""},{"$f":"'Short Tied Column'!BZ33","v":""},{"$f":"'Short Tied Column'!CA33","v":""},{"$f":"'Short Tied Column'!CB33","v":""},{"$f":"'Short Tied Column'!CC33","v":""},{"$f":"'Short Tied Column'!CD33","v":""},{"$f":"'Short Tied Column'!CE33","v":""},{"$f":"'Short Tied Column'!CF33","v":""},{"$f":"'Short Tied Column'!CG33","v":""}]
[{"$nulls":3},{"$f":"'Short Tied Column'!BC34","v":0},{"$f":"'Short Tied Column'!BD34","v":0},{"$f":"'Short Tied Column'!BE34","v":0},{"$f":"'Short Tied Column'!BF34","v":0},{"$f":"'Short Tied Column'!BG34","v":0},{"$f":"'Short Tied Column'!BH34","v":0},{"$f":"'Short Tied Column'!BI34","v":0},{"$f":"'Short Tied Column'!BJ34","v":0},{"$f":"'Short Tied Column'!BK34","v":0},{"$f":"'Short Tied Column'!BL34","v":0},{"$f":"'Short Tied Column'!BM34","v":0},{"$f":"'Short Tied Column'!BN34","v":0},{"$f":"'Short Tied Column'!BO34","v":0},{"$f":"'Short Tied Column'!BP34","v":0},{"$f":"'Short Tied Column'!BQ34","v":0},null,{"$f":"'Short Tied Column'!BS34","v":""},{"$f":"'Short Tied Column'!BT34","v":""},{"$f":"'Short Tied Column'!BU34","v":""},{"$f":"'Short Tied Column'!BV34","v":""},{"$f":"'Short Tied Column'!BW34","v":""},{"$f":"'Short Tied Column'!BX34","v":""},{"$f":"'Short Tied Column'!BY34","v":""},{"$f":"'Short Tied Column'!BZ34","v":""},{"$f":"'Short Tied Column'!CA34","v":""},{"$f":"'Short Tied Column'!CB34","v":""},{"$f":"'Short Tied Column'!CC34","v":""},{"$f":"'Short Tied Column'!CD34","v":""},{"$f":"'Short Tied Column'!CE34","v":""},{"$f":"'Short Tied Column'!CF34","v":""},{"$f":"'Short Tied Column'!CG34","v":""}]
[null,"Short circule Column",null,{"$f":"' Short Circular Column'!AR33","v":0},{"$f":"' Short Circular Column'!AS33","v":0},{"$f":"' Short Circular Column'!AT33","v":0},{"$f":"' Short Circular Column'!AU33","v":0},{"$f":"' Short Circular Column'!AV33","v":0},{"$f":"' Short Circular Column'!AW33","v":0},{"$f":"' Short Circular Column'!AX33","v":0},{"$f":"' Short Circular Column'!AY33","v":0},{"$f":"' Short Circular Column'!AZ33","v":0},{"$f":"' Short Circular Column'!BA33","v":0},{"$f":"' Short Circular Column'!BB33","v":0},{"$f":"' Short Circular Column'!BC33","v":0},{"$f":"' Short Circular Column'!BD33","v":0},{"$f":"' Short Circular Column'!BE33","v":0},{"$f":"' Short Circular Column'!BF33","v":0},null,{"$f":"' Short Circular Column'!BH33","v":""},{"$f":"' Short Circular Column'!BI33","v":""},{"$f":"' Short Circular Column'!BJ33","v":""},{"$f":"' Short Circular Column'!BK33","v":""},{"$f":"' Short Circular Column'!BL33","v":""},{"$f":"' Short Circular Column'!BM33","v":""},{"$f":"' Short Circular Column'!BN33","v":""},{"$f":"' Short Circular Column'!BO33","v":""},{"$f":"' Short Circular Column'!BP33","v":""},{"$f":"' Short Circular Column'!BQ33","v":""},{"$f":"' Short Circular Column'!BR33","v":""},{"$f":"' Short Circular Column'!BS33","v":""},{"$f":"' Short Circular Column'!BT33","v":""},{"$f":"' Short Circular Column'!BU33","v":""},{"$f":"' Short Circular Column'!BV33","v":""},null,{"$f":"SUM(T74:AH78)/1000","v":0}]
[{"$nulls":3},{"$f":"' Short Circular Column'!AR34","v":0},{"$f":"' Short Circular Column'!AS34","v":0},{"$f":"' Short Circular Column'!AT34","v":0},{"$f":"' Short Circular Column'!AU34","v":0},{"$f":"' Short Circular Column'!AV34","v":0},{"$f":"' Short Circular Column'!AW34","v":0},{"$f":"' Short Circular Column'!AX34","v":0},{"$f":"' Short Circular Column'!AY34","v":0},{"$f":"' Short Circular Column'!AZ34","v":0},{"$f":"' Short Circular Column'!BA34","v":0},{"$f":"' Short Circular Column'!BB34","v":0},{"$f":"' Short Circular Column'!BC34","v":0},{"$f":"' Short Circular Column'!BD34","v":0},{"$f":"' Short Circular Column'!BE34","v":0},{"$f":"' Short Circular Column'!BF34","v":0},null,{"$f":"' Short Circular Column'!BH34","v":""},{"$f":"' Short Circular Column'!BI34","v":""},{"$f":"' Short Circular Column'!BJ34","v":""},{"$f":"' Short Circular Column'!BK34","v":""},{"$f":"' Short Circular Column'!BL34","v":""},{"$f":"' Short Circular Column'!BM34","v":""},{"$f":"' Short Circular Column'!BN34","v":""},{"$f":"' Short Circular Column'!BO34","v":""},{"$f":"' Short Circular Column'!BP34","v":""},{"$f":"' Short Circular Column'!BQ34","v":""},{"$f":"' Short Circular Column'!BR34","v":""},{"$f":"' Short Circular Column'!BS34","v":""},{"$f":"' Short Circular Column'!BT34","v":""},{"$f":"' Short Circular Column'!BU34","v":""},{"$f":"' Short Circular Column'!BV34","v":""}]
[{"$nulls":3},{"$f":"' Short Circular Column'!AR35","v":0},{"$f":"' Short Circular Column'!AS35","v":0},{"$f":"' Short Circular Column'!AT35","v":0},{"$f":"' Short Circular Column'!AU35","v":0},{"$f":"' Short Circular Column'!AV35","v":0},{"$f":"' Short Circular Column'!AW35","v":0},{"$f":"' Short Circular Column'!AX35","v":0},{"$f":"' Short Circular Column'!AY35","v":0},{"$f":"' Short Circular Column'!AZ35","v":0},{"$f":"' Short Circular Column'!BA35","v":0},{"$f":"' Short Circular Column'!BB35","v":0},{"$f":"' Short Circular Column'!BC35","v":0},{"$f":"' Short Circular Column'!BD35","v":0},{"$f":"' Short Circular Column'!BE35","v":0},{"$f":"' Short Circular Column'!BF35","v":0},null,{"$f":"' Short Circular Column'!BH35","v":""},{"$f":"' Short Circular Column'!BI35","v":""},{"$f":"' Short Circular Column'!BJ35","v":""},{"$f":"' Short Circular Column'!BK35","v":""},{"$f":"' Short Circular Column'!BL35","v":""},{"$f":"' Short Circular Column'!BM35","v":""},{"$f":"' Short Circular Column'!BN35","v":""},{"$f":"' Short Circular Column'!BO35","v":""},{"$f":"' Short Circular Column'!BP35","v":""},{"$f":"' Short Circular Column'!BQ35","v":""},{"$f":"' Short Circular Column'!BR35","v":""},{"$f":"' Short Circular Column'!BS35","v":""},{"$f":"' Short Circular Column'!BT35","v":""},{"$f":"' Short Circular Column'!BU35","v":""},{"$f":"' Short Circular Column'!BV35","v":""}]
[{"$nulls":3},{"$f":"' Short Circular Column'!AR36","v":0},{"$f":"' Short Circular Column'!AS36","v":0},{"$f":"' Short Circular Column'!AT36","v":0},{"$f":"' Short Circular Column'!AU36","v":0},{"$f":"' Short Circular Column'!AV36","v":0},{"$f":"' Short Circular Column'!AW36","v":0},{"$f":"' Short Circular Column'!AX36","v":0},{"$f":"' Short Circular Column'!AY36","v":0},{"$f":"' Short Circular Column'!AZ36","v":0},{"$f":"' Short Circular Column'!BA36","v":0},{"$f":"' Short Circular Column'!BB36","v":0},{"$f":"' Short Circular Column'!BC36","v":0},{"$f":"' Short Circular Column'!BD36","v":0},{"$f":"' Short Circular Column'!BE36","v":0},{"$f":"' Short Circular Column'!BF36","v":0},null,{"$f":"' Short Circular Column'!BH36","v":""},{"$f":"' Short Circular Column'!BI36","v":""},{"$f":"' Short Circular Column'!BJ36","v":""},{"$f":"' Short Circular Column'!BK36","v":""},{"$f":"' Short Circular Column'!BL36","v":""},{"$f":"' Short Circular Column'!BM36","v":""},{"$f":"' Short Circular Column'!BN36","v":""},{"$f":"' Short Circular Column'!BO36","v":""},{"$f":"' Short Circular Column'!BP36","v":""},{"$f":"' Short Circular Column'!BQ36","v":""},{"$f":"' Short Circular Column'!BR36","v":""},{"$f":"' Short Circular Column'!BS36","v":""},{"$f":"' Short Circular Column'!BT36","v":""},{"$f":"' Short Circular Column'!BU36","v":""},{"$f":"' Short Circular Column'!BV36","v":""}]
[{"$nulls":3},{"$f":"' Short Circular Column'!AR37","v":0},{"$f":"' Short Circular Column'!AS37","v":0},{"$f":"' Short Circular Column'!AT37","v":0},{"$f":"' Short Circular Column'!AU37","v":0},{"$f":"' Short Circular Column'!AV37","v":0},{"$f":"' Short Circular Column'!AW37","v":0},{"$f":"' Short Circular Column'!AX37","v":0},{"$f":"' Short Circular Column'!AY37","v":0},{"$f":"' Short Circular Column'!AZ37","v":0},{"$f":"' Short Circular Column'!BA37","v":0},{"$f":"' Short Circular Column'!BB37","v":0},{"$f":"' Short Circular Column'!BC37","v":0},{"$f":"' Short Circular Column'!BD37","v":0},{"$f":"' Short Circular Column'!BE37","v":0},{"$f":"' Short Circular Column'!BF37","v":0},null,{"$f":"' Short Circular Column'!BH37","v":""},{"$f":"' Short Circular Column'!BI37","v":""},{"$f":"' Short Circular Column'!BJ37","v":""},{"$f":"' Short Circular Column'!BK37","v":""},{"$f":"' Short Circular Column'!BL37","v":""},{"$f":"' Short Circular Column'!BM37","v":""},{"$f":"' Short Circular Column'!BN37","v":""},{"$f":"' Short Circular Column'!BO37","v":""},{"$f":"' Short Circular Column'!BP37","v":""},{"$f":"' Short Circular Column'!BQ37","v":""},{"$f":"' Short Circular Column'!BR37","v":""},{"$f":"' Short Circular Column'!BS37","v":""},{"$f":"' Short Circular Column'!BT37","v":""},{"$f":"' Short Circular Column'!BU37","v":""},{"$f":"' Short Circular Column'!BV37","v":""}]
[null,"Long Circular Column",null,{"$f":"'Long Tied Column'!AV34","v":0},{"$f":"'Long Tied Column'!AW34","v":0},{"$f":"'Long Tied Column'!AX34","v":0},{"$f":"'Long Tied Column'!AY34","v":0},{"$f":"'Long Tied Column'!AZ34","v":0},{"$f":"'Long Tied Column'!BA34","v":0},{"$f":"'Long Tied Column'!BB34","v":0},{"$f":"'Long Tied Column'!BC34","v":0},{"$f":"'Long Tied Column'!BD34","v":0},{"$f":"'Long Tied Column'!BE34","v":0},{"$f":"'Long Tied Column'!BF34","v":0},{"$f":"'Long Tied Column'!BG34","v":0},{"$f":"'Long Tied Column'!BH34","v":0},{"$f":"'Long Tied Column'!BI34","v":0},{"$f":"'Long Tied Column'!BJ34","v":0},null,{"$f":"'Long Tied Column'!BL34","v":""},{"$f":"'Long Tied Column'!BM34","v":""},{"$f":"'Long Tied Column'!BN34","v":""},{"$f":"'Long Tied Column'!BO34","v":""},{"$f":"'Long Tied Column'!BP34","v":""},{"$f":"'Long Tied Column'!BQ34","v":""},{"$f":"'Long Tied Column'!BR34","v":""},{"$f":"'Long Tied Column'!BS34","v":""},{"$f":"'Long Tied Column'!BT34","v":""},{"$f":"'Long Tied Column'!BU34","v":""},{"$f":"'Long Tied Column'!BV34","v":""},{"$f":"'Long Tied Column'!BW34","v":""},{"$f":"'Long Tied Column'!BX34","v":""},{"$f":"'Long Tied Column'!BY34","v":""},{"$f":"'Long Tied Column'!BZ34","v":""},null,{"$f":"SUM(T79:AH83)/1000","v":0}]
[{"$nulls":3},{"$f":"'Long Tied Column'!AV35","v":0},{"$f":"'Long Tied Column'!AW35","v":0},{"$f":"'Long Tied Column'!AX35","v":0},{"$f":"'Long Tied Column'!AY35","v":0},{"$f":"'Long Tied Column'!AZ35","v":0},{"$f":"'Long Tied Column'!BA35","v":0},{"$f":"'Long Tied Column'!BB35","v":0},{"$f":"'Long Tied Column'!BC35","v":0},{"$f":"'Long Tied Column'!BD35","v":0},{"$f":"'Long Tied Column'!BE35","v":0},{"$f":"'Long Tied Column'!BF35","v":0},{"$f":"'Long Tied Column'!BG35","v":0},{"$f":"'Long Tied Column'!BH35","v":0},{"$f":"'Long Tied Column'!BI35","v":0},{"$f":"'Long Tied Column'!BJ35","v":0},null,{"$f":"'Long Tied Column'!BL35","v":""},{"$f":"'Long Tied Column'!BM35","v":""},{"$f":"'Long Tied Column'!BN35","v":""},{"$f":"'Long Tied Column'!BO35","v":""},{"$f":"'Long Tied Column'!BP35","v":""},{"$f":"'Long Tied Column'!BQ35","v":""},{"$f":"'Long Tied Column'!BR35","v":""},{"$f":"'Long Tied Column'!BS35","v":""},{"$f":"'Long Tied Column'!BT35","v":""},{"$f":"'Long Tied Column'!BU35","v":""},{"$f":"'Long Tied Column'!BV35","v":""},{"$f":"'Long Tied Column'!BW35","v":""},{"$f":"'Long Tied Column'!BX35","v":""},{"$f":"'Long Tied Column'!BY35","v":""},{"$f":"'Long Tied Column'!BZ35","v":""}]
[{"$nulls":3},{"$f":"'Long Tied Column'!AV36","v":0},{"$f":"'Long Tied Column'!AW36","v":0},{"$f":"'Long Tied Column'!AX36","v":0},{"$f":"'Long Tied Column'!AY36","v":0},{"$f":"'Long Tied Column'!AZ36","v":0},{"$f":"'Long Tied Column'!BA36","v":0},{"$f":"'Long Tied Column'!BB36","v":0},{"$f":"'Long Tied Column'!BC36","v":0},{"$f":"'Long Tied Column'!BD36","v":0},{"$f":"'Long Tied Column'!BE36","v":0},{"$f":"'Long Tied Column'!BF36","v":0},{"$f":"'Long Tied Column'!BG36","v":0},{"$f":"'Long Tied Column'!BH36","v":0},{"$f":"'Long Tied Column'!BI36","v":0},{"$f":"'Long Tied Column'!BJ36","v":0},null,{"$f":"'Long Tied Column'!BL36","v":""},{"$f":"'Long Tied Column'!BM36","v":""},{"$f":"'Long Tied Column'!BN36","v":""},{"$f":"'Long Tied Column'!BO36","v":""},{"$f":"'Long Tied Column'!BP36","v":""},{"$f":"'Long Tied Column'!BQ36","v":""},{"$f":"'Long Tied Column'!BR36","v":""},{"$f":"'Long Tied Column'!BS36","v":""},{"$f":"'Long Tied Column'!BT36","v":""},{"$f":"'Long Tied Column'!BU36","v":""},{"$f":"'Long Tied Column'!BV36","v":""},{"$f":"'Long Tied Column'!BW36","v":""},{"$f":"'Long Tied Column'!BX36","v":""},{"$f":"'Long Tied Column'!BY36","v":""},{"$f":"'Long Tied Column'!BZ36","v":""}]
[{"$nulls":3},{"$f":"'Long Tied Column'!AV37","v":0},{"$f":"'Long Tied Column'!AW37","v":0},{"$f":"'Long Tied Column'!AX37","v":0},{"$f":"'Long Tied Column'!AY37","v":0},{"$f":"'Long Tied Column'!AZ37","v":0},{"$f":"'Long Tied Column'!BA37","v":0},{"$f":"'Long Tied Column'!BB37","v":0},{"$f":"'Long Tied Column'!BC37","v":0},{"$f":"'Long Tied Column'!BD37","v":0},{"$f":"'Long Tied Column'!BE37","v":0},{"$f":"'Long Tied Column'!BF37","v":0},{"$f":"'Long Tied Column'!BG37","v":0},{"$f":"'Long Tied Column'!BH37","v":0},{"$f":"'Long Tied Column'!BI37","v":0},{"$f":"'Long Tied Column'!BJ37","v":0},null,{"$f":"'Long Tied Column'!BL37","v":""},{"$f":"'Long Tied Column'!BM37","v":""},{"$f":"'Long Tied Column'!BN37","v":""},{"$f":"'Long Tied Column'!BO37","v":""},{"$f":"'Long Tied Column'!BP37","v":""},{"$f":"'Long Tied Column'!BQ37","v":""},{"$f":"'Long Tied Column'!BR37","v":""},{"$f":"'Long Tied Column'!BS37","v":""},{"$f":"'Long Tied Column'!BT37","v":""},{"$f":"'Long Tied Column'!BU37","v":""},{"$f":"'Long Tied Column'!BV37","v":""},{"$f":"'Long Tied Column'!BW37","v":""},{"$f":"'Long Tied Column'!BX37","v":""},{"$f":"'Long Tied Column'!BY37","v":""},{"$f":"'Long Tied Column'!BZ37","v":""}]
[{"$nulls":3},{"$f":"'Long Tied Column'!AV38","v":0},{"$f":"'Long Tied Column'!AW38","v":0},{"$f":"'Long Tied Column'!AX38","v":0},{"$f":"'Long Tied Column'!AY38","v":0},{"$f":"'Long Tied Column'!AZ38","v":0},{"$f":"'Long Tied Column'!BA38","v":0},{"$f":"'Long Tied Column'!BB38","v":0},{"$f":"'Long Tied Column'!BC38","v":0},{"$f":"'Long Tied Column'!BD38","v":0},{"$f":"'Long Tied Column'!BE38","v":0},{"$f":"'Long Tied Column'!BF38","v":0},{"$f":"'Long Tied Column'!BG38","v":0},{"$f":"'Long Tied Column'!BH38","v":0},{"$f":"'Long Tied Column'!BI38","v":0},{"$f":"'Long Tied Column'!BJ38","v":0},null,{"$f":"'Long Tied Column'!BL38","v":""},{"$f":"'Long Tied Column'!BM38","v":""},{"$f":"'Long Tied Column'!BN38","v":""},{"$f":"'Long Tied Column'!BO38","v":""},{"$f":"'Long Tied Column'!BP38","v":""},{"$f":"'Long Tied Column'!BQ38","v":""},{"$f":"'Long Tied Column'!BR38","v":""},{"$f":"'Long Tied Column'!BS38","v":""},{"$f":"'Long Tied Column'!BT38","v":""},{"$f":"'Long Tied Column'!BU38","v":""},{"$f":"'Long Tied Column'!BV38","v":""},{"$f":"'Long Tied Column'!BW38","v":""},{"$f":"'Long Tied Column'!BX38","v":""},{"$f":"'Long Tied Column'!BY38","v":""},{"$f":"'Long Tied Column'!BZ38","v":""}]
[null,"Long Circular Column",null,{"$f":"'Long Circular Column'!BG36","v":0},{"$f":"'Long Circular Column'!BH36","v":0},{"$f":"'Long Circular Column'!BI36","v":0},{"$f":"'Long Circular Column'!BJ36","v":0},{"$f":"'Long Circular Column'!BK36","v":0},{"$f":"'Long Circular Column'!BL36","v":0},{"$f":"'Long Circular Column'!BM36","v":0},{"$f":"'Long Circular Column'!BN36","v":0},{"$f":"'Long Circular Column'!BO36","v":0},{"$f":"'Long Circular Column'!BP36","v":0},{"$f":"'Long Circular Column'!BQ36","v":0},{"$f":"'Long Circular Column'!BR36","v":0},{"$f":"'Long Circular Column'!BS36","v":0},{"$f":"'Long Circular Column'!BT36","v":0},{"$f":"'Long Circular Column'!BU36","v":0},null,{"$f":"'Long Circular Column'!BW36","v":""},{"$f":"'Long Circular Column'!BX36","v":""},{"$f":"'Long Circular Column'!BY36","v":""},{"$f":"'Long Circular Column'!BZ36","v":""},{"$f":"'Long Circular Column'!CA36","v":""},{"$f":"'Long Circular Column'!CB36","v":""},{"$f":"'Long Circular Column'!CC36","v":""},{"$f":"'Long Circular Column'!CD36","v":""},{"$f":"'Long Circular Column'!CE36","v":""},{"$f":"'Long Circular Column'!CF36","v":""},{"$f":"'Long Circular Column'!CG36","v":""},{"$f":"'Long Circular Column'!CH36","v":""},{"$f":"'Long Circular Column'!CI36","v":""},{"$f":"'Long Circular Column'!CJ36","v":""},{"$f":"'Long Circular Column'!CK36","v":""},null,{"$f":"SUM(T84:AH88)/1000","v":0}]
[{"$nulls":3},{"$f":"'Long Circular Column'!BG37","v":0},{"$f":"'Long Circular Column'!BH37","v":0},{"$f":"'Long Circular Column'!BI37","v":0},{"$f":"'Long Circular Column'!BJ37","v":0},{"$f":"'Long Circular Column'!BK37","v":0},{"$f":"'Long Circular Column'!BL37","v":0},{"$f":"'Long Circular Column'!BM37","v":0},{"$f":"'Long Circular Column'!BN37","v":0},{"$f":"'Long Circular Column'!BO37","v":0},{"$f":"'Long Circular Column'!BP37","v":0},{"$f":"'Long Circular Column'!BQ37","v":0},{"$f":"'Long Circular Column'!BR37","v":0},{"$f":"'Long Circular Column'!BS37","v":0},{"$f":"'Long Circular Column'!BT37","v":0},{"$f":"'Long Circular Column'!BU37","v":0},null,{"$f":"'Long Circular Column'!BW37","v":""},{"$f":"'Long Circular Column'!BX37","v":""},{"$f":"'Long Circular Column'!BY37","v":""},{"$f":"'Long Circular Column'!BZ37","v":""},{"$f":"'Long Circular Column'!CA37","v":""},{"$f":"'Long Circular Column'!CB37","v":""},{"$f":"'Long Circular Column'!CC37","v":""},{"$f":"'Long Circular Column'!CD37","v":""},{"$f":"'Long Circular Column'!CE37","v":""},{"$f":"'Long Circular Column'!CF37","v":""},{"$f":"'Long Circular Column'!CG37","v":""},{"$f":"'Long Circular Column'!CH37","v":""},{"$f":"'Long Circular Column'!CI37","v":""},{"$f":"'Long Circular Column'!CJ37","v":""},{"$f":"'Long Circular Column'!CK37","v":""}]
[{"$nulls":3},{"$f":"'Long Circular Column'!BG38","v":0},{"$f":"'Long Circular Column'!BH38","v":0},{"$f":"'Long Circular Column'!BI38","v":0},{"$f":"'Long Circular Column'!BJ38","v":0},{"$f":"'Long Circular Column'!BK38","v":0},{"$f":"'Long Circular Column'!BL38","v":0},{"$f":"'Long Circular Column'!BM38","v":0},{"$f":"'Long Circular Column'!BN38","v":0},{"$f":"'Long Circular Column'!BO38","v":0},{"$f":"'Long Circular Column'!BP38","v":0},{"$f":"'Long Circular Column'!BQ38","v":0},{"$f":"'Long Circular Column'!BR38","v":0},{"$f":"'Long Circular Column'!BS38","v":0},{"$f":"'Long Circular Column'!BT38","v":0},{"$f":"'Long Circular Column'!BU38","v":0},null,{"$f":"'Long Circular Column'!BW38","v":""},{"$f":"'Long Circular Column'!BX38","v":""},{"$f":"'Long Circular Column'!BY38","v":""},{"$f":"'Long Circular Column'!BZ38","v":""},{"$f":"'Long Circular Column'!CA38","v":""},{"$f":"'Long Circular Column'!CB38","v":""},{"$f":"'Long Circular Column'!CC38","v":""},{"$f":"'Long Circular Column'!CD38","v":""},{"$f":"'Long Circular Column'!CE38","v":""},{"$f":"'Long Circular Column'!CF38","v":""},{"$f":"'Long Circular Column'!CG38","v":""},{"$f":"'Long Circular Column'!CH38","v":""},{"$f":"'Long Circular Column'!CI38","v":""},{"$f":"'Long Circular Column'!CJ38","v":""},{"$f":"'Long Circular Column'!CK38","v":""}]
[{"$nulls":3},{"$f":"'Long Circular Column'!BG39","v":0},{"$f":"'Long Circular Column'!BH39","v":0},{"$f":"'Long Circular Column'!BI39","v":0},{"$f":"'Long Circular Column'!BJ39","v":0},{"$f":"'Long Circular Column'!BK39","v":0},{"$f":"'Long Circular Column'!BL39","v":0},{"$f":"'Long Circular Column'!BM39","v":0},{"$f":"'Long Circular Column'!BN39","v":0},{"$f":"'Long Circular Column'!BO39","v":0},{"$f":"'Long Circular Column'!BP39","v":0},{"$f":"'Long Circular Column'!BQ39","v":0},{"$f":"'Long Circular Column'!BR39","v":0},{"$f":"'Long Circular Column'!BS39","v":0},{"$f":"'Long Circular Column'!BT39","v":0},{"$f":"'Long Circular Column'!BU39","v":0},null,{"$f":"'Long Circular Column'!BW39","v":""},{"$f":"'Long Circular Column'!BX39","v":""},{"$f":"'Long Circular Column'!BY39","v":""},{"$f":"'Long Circular Column'!BZ39","v":""},{"$f":"'Long Circular Column'!CA39","v":""},{"$f":"'Long Circular Column'!CB39","v":""},{"$f":"'Long Circular Column'!CC39","v":""},{"$f":"'Long Circular Column'!CD39","v":""},{"$f":"'Long Circular Column'!CE39","v":""},{"$f":"'Long Circular Column'!CF39","v":""},{"$f":"'Long Circular Column'!CG39","v":""},{"$f":"'Long Circular Column'!CH39","v":""},{"$f":"'Long Circular Column'!CI39","v":""},{"$f":"'Long Circular Column'!CJ39","v":""},{"$f":"'Long Circular Column'!CK39","v":""}]
[{"$nulls":3},{"$f":"'Long Circular Column'!BG40","v":0},{"$f":"'Long Circular Column'!BH40","v":0},{"$f":"'Long Circular Column'!BI40","v":0},{"$f":"'Long Circular Column'!BJ40","v":0},{"$f":"'Long Circular Column'!BK40","v":0},{"$f":"'Long Circular Column'!BL40","v":0},{"$f":"'Long Circular Column'!BM40","v":0},{"$f":"'Long Circular Column'!BN40","v":0},{"$f":"'Long Circular Column'!BO40","v":0},{"$f":"'Long Circular Column'!BP40","v":0},{"$f":"'Long Circular Column'!BQ40","v":0},{"$f":"'Long Circular Column'!BR40","v":0},{"$f":"'Long Circular Column'!BS40","v":0},{"$f":"'Long Circular Column'!BT40","v":0},{"$f":"'Long Circular Column'!BU40","v":0},null,{"$f":"'Long Circular Column'!BW40","v":""},{"$f":"'Long Circular Column'!BX40","v":""},{"$f":"'Long Circular Column'!BY40","v":""},{"$f":"'Long Circular Column'!BZ40","v":""},{"$f":"'Long Circular Column'!CA40","v":""},{"$f":"'Long Circular Column'!CB40","v":""},{"$f":"'Long Circular Column'!CC40","v":""},{"$f":"'Long Circular Column'!CD40","v":""},{"$f":"'Long Circular Column'!CE40","v":""},{"$f":"'Long Circular Column'!CF40","v":""},{"$f":"'Long Circular Column'!CG40","v":""},{"$f":"'Long Circular Column'!CH40","v":""},{"$f":"'Long Circular Column'!CI40","v":""},{"$f":"'Long Circular Column'!CJ40","v":""},{"$f":"'Long Circular Column'!CK40","v":""}]
[null,"Grade Beam",null,{"$f":"'Grade Beam'!AU39","v":0},{"$f":"'Grade Beam'!AV39","v":0},{"$f":"'Grade Beam'!AW39","v":0},{"$f":"'Grade Beam'!AX39","v":0},{"$f":"'Grade Beam'!AY39","v":0},{"$f":"'Grade Beam'!AZ39","v":0},{"$f":"'Grade Beam'!BA39","v":0},{"$f":"'Grade Beam'!BB39","v":0},{"$f":"'Grade Beam'!BC39","v":0},{"$f":"'Grade Beam'!BD39","v":0},{"$f":"'Grade Beam'!BE39","v":0},{"$f":"'Grade Beam'!BF39","v":0},{"$f":"'Grade Beam'!BG39","v":0},{"$f":"'Grade Beam'!BH39","v":0},{"$f":"'Grade Beam'!BI39","v":0},null,{"$f":"'Grade Beam'!BK39","v":""},{"$f":"'Grade Beam'!BL39","v":""},{"$f":"'Grade Beam'!BM39","v":""},{"$f":"'Grade Beam'!BN39","v":""},{"$f":"'Grade Beam'!BO39","v":""},{"$f":"'Grade Beam'!BP39","v":""},{"$f":"'Grade Beam'!BQ39","v":""},{"$f":"'Grade Beam'!BR39","v":""},{"$f":"'Grade Beam'!BS39","v":""},{"$f":"'Grade Beam'!BT39","v":""},{"$f":"'Grade Beam'!BU39","v":""},{"$f":"'Grade Beam'!BV39","v":""},{"$f":"'Grade Beam'!BW39","v":""},{"$f":"'Grade Beam'!BX39","v":""},{"$f":"'Grade Beam'!BY39","v":""},null,{"$f":"SUM(T89:AH95)/1000","v":0}]
[{"$nulls":3},{"$f":"'Grade Beam'!AU40","v":0},{"$f":"'Grade Beam'!AV40","v":0},{"$f":"'Grade Beam'!AW40","v":0},{"$f":"'Grade Beam'!AX40","v":0},{"$f":"'Grade Beam'!AY40","v":0},{"$f":"'Grade Beam'!AZ40","v":0},{"$f":"'Grade Beam'!BA40","v":0},{"$f":"'Grade Beam'!BB40","v":0},{"$f":"'Grade Beam'!BC40","v":0},{"$f":"'Grade Beam'!BD40","v":0},{"$f":"'Grade Beam'!BE40","v":0},{"$f":"'Grade Beam'!BF40","v":0},{"$f":"'Grade Beam'!BG40","v":0},{"$f":"'Grade Beam'!BH40","v":0},{"$f":"'Grade Beam'!BI40","v":0},null,{"$f":"'Grade Beam'!BK40","v":""},{"$f":"'Grade Beam'!BL40","v":""},{"$f":"'Grade Beam'!BM40","v":""},{"$f":"'Grade Beam'!BN40","v":""},{"$f":"'Grade Beam'!BO40","v":""},{"$f":"'Grade Beam'!BP40","v":""},{"$f":"'Grade Beam'!BQ40","v":""},{"$f":"'Grade Beam'!BR40","v":""},{"$f":"'Grade Beam'!BS40","v":""},{"$f":"'Grade Beam'!BT40","v":""},{"$f":"'Grade Beam'!BU40","v":""},{"$f":"'Grade Beam'!BV40","v":""},{"$f":"'Grade Beam'!BW40","v":""},{"$f":"'Grade Beam'!BX40","v":""},{"$f":"'Grade Beam'!BY40","v":""}]
[{"$nulls":3},{"$f":"'Grade Beam'!AU41","v":0},{"$f":"'Grade Beam'!AV41","v":0},{"$f":"'Grade Beam'!AW41","v":0},{"$f":"'Grade Beam'!AX41","v":0},{"$f":"'Grade Beam'!AY41","v":0},{"$f":"'Grade Beam'!AZ41","v":0},{"$f":"'Grade Beam'!BA41","v":0},{"$f":"'Grade Beam'!BB41","v":0},{"$f":"'Grade Beam'!BC41","v":0},{"$f":"'Grade Beam'!BD41","v":0},{"$f":"'Grade Beam'!BE41","v":0},{"$f":"'Grade Beam'!BF41","v":0},{"$f":"'Grade Beam'!BG41","v":0},{"$f":"'Grade Beam'!BH41","v":0},{"$f":"'Grade Beam'!BI41","v":0},null,{"$f":"'Grade Beam'!BK41","v":""},{"$f":"'Grade Beam'!BL41","v":""},{"$f":"'Grade Beam'!BM41","v":""},{"$f":"'Grade Beam'!BN41","v":""},{"$f":"'Grade Beam'!BO41","v":""},{"$f":"'Grade Beam'!BP41","v":""},{"$f":"'Grade Beam'!BQ41","v":""},{"$f":"'Grade Beam'!BR41","v":""},{"$f":"'Grade Beam'!BS41","v":""},{"$f":"'Grade Beam'!BT41","v":""},{"$f":"'Grade Beam'!BU41","v":""},{"$f":"'Grade Beam'!BV41","v":""},{"$f":"'Grade Beam'!BW41","v":""},{"$f":"'Grade Beam'!BX41","v":""},{"$f":"'Grade Beam'!BY41","v":""}]
[{"$nulls":3},{"$f":"'Grade Beam'!AU42","v":0},{"$f":"'Grade Beam'!AV42","v":0},{"$f":"'Grade Beam'!AW42","v":0},{"$f":"'Grade Beam'!AX42","v":0},{"$f":"'Grade Beam'!AY42","v":0},{"$f":"'Grade Beam'!AZ42","v":0},{"$f":"'Grade Beam'!BA42","v":0},{"$f":"'Grade Beam'!BB42","v":0},{"$f":"'Grade Beam'!BC42","v":0},{"$f":"'Grade Beam'!BD42","v":0},{"$f":"'Grade Beam'!BE42","v":0},{"$f":"'Grade Beam'!BF42","v":0},{"$f":"'Grade Beam'!BG42","v":0},{"$f":"'Grade Beam'!BH42","v":0},{"$f":"'Grade Beam'!BI42","v":0},null,{"$f":"'Grade Beam'!BK42","v":""},{"$f":"'Grade Beam'!BL42","v":""},{"$f":"'Grade Beam'!BM42","v":""},{"$f":"'Grade Beam'!BN42","v":""},{"$f":"'Grade Beam'!BO42","v":""},{"$f":"'Grade Beam'!BP42","v":""},{"$f":"'Grade Beam'!BQ42","v":""},{"$f":"'Grade Beam'!BR42","v":""},{"$f":"'Grade Beam'!BS42","v":""},{"$f":"'Grade Beam'!BT42","v":""},{"$f":"'Grade Beam'!BU42","v":""},{"$f":"'Grade Beam'!BV42","v":""},{"$f":"'Grade Beam'!BW42","v":""},{"$f":"'Grade Beam'!BX42","v":""},{"$f":"'Grade Beam'!BY42","v":""}]
[{"$nulls":3},{"$f":"'Grade Beam'!AU43","v":0},{"$f":"'Grade Beam'!AV43","v":0},{"$f":"'Grade Beam'!AW43","v":0},{"$f":"'Grade Beam'!AX43","v":0},{"$f":"'Grade Beam'!AY43","v":0},{"$f":"'Grade Beam'!AZ43","v":0},{"$f":"'Grade Beam'!BA43","v":0},{"$f":"'Grade Beam'!BB43","v":0},{"$f":"'Grade Beam'!BC43","v":0},{"$f":"'Grade Beam'!BD43","v":0},{"$f":"'Grade Beam'!BE43","v":0},{"$f":"'Grade Beam'!BF43","v":0},{"$f":"'Grade Beam'!BG43","v":0},{"$f":"'Grade Beam'!BH43","v":0},{"$f":"'Grade Beam'!BI43","v":0},null,{"$f":"'Grade Beam'!BK43","v":""},{"$f":"'Grade Beam'!BL43","v":""},{"$f":"'Grade Beam'!BM43","v":""},{"$f":"'Grade Beam'!BN43","v":""},{"$f":"'Grade Beam'!BO43","v":""},{"$f":"'Grade Beam'!BP43","v":""},{"$f":"'Grade Beam'!BQ43","v":""},{"$f":"'Grade Beam'!BR43","v":""},{"$f":"'Grade Beam'!BS43","v":""},{"$f":"'Grade Beam'!BT43","v":""},{"$f":"'Grade Beam'!BU43","v":""},{"$f":"'Grade Beam'!BV43","v":""},{"$f":"'Grade Beam'!BW43","v":""},{"$f":"'Grade Beam'!BX43","v":""},{"$f":"'Grade Beam'!BY43","v":""}]
[{"$nulls":3},{"$f":"'Grade Beam'!AU44","v":0},{"$f":"'Grade Beam'!AV44","v":0},{"$f":"'Grade Beam'!AW44","v":0},{"$f":"'Grade Beam'!AX44","v":0},{"$f":"'Grade Beam'!AY44","v":0},{"$f":"'Grade Beam'!AZ44","v":0},{"$f":"'Grade Beam'!BA44","v":0},{"$f":"'Grade Beam'!BB44","v":0},{"$f":"'Grade Beam'!BC44","v":0},{"$f":"'Grade Beam'!BD44","v":0},{"$f":"'Grade Beam'!BE44","v":0},{"$f":"'Grade Beam'!BF44","v":0},{"$f":"'Grade Beam'!BG44","v":0},{"$f":"'Grade Beam'!BH44","v":0},{"$f":"'Grade Beam'!BI44","v":0},null,{"$f":"'Grade Beam'!BK44","v":""},{"$f":"'Grade Beam'!BL44","v":""},{"$f":"'Grade Beam'!BM44","v":""},{"$f":"'Grade Beam'!BN44","v":""},{"$f":"'Grade Beam'!BO44","v":""},{"$f":"'Grade Beam'!BP44","v":""},{"$f":"'Grade Beam'!BQ44","v":""},{"$f":"'Grade Beam'!BR44","v":""},{"$f":"'Grade Beam'!BS44","v":""},{"$f":"'Grade Beam'!BT44","v":""},{"$f":"'Grade Beam'!BU44","v":""},{"$f":"'Grade Beam'!BV44","v":""},{"$f":"'Grade Beam'!BW44","v":""},{"$f":"'Grade Beam'!BX44","v":""},{"$f":"'Grade Beam'!BY44","v":""}]
[{"$nulls":3},{"$f":"'Grade Beam'!AU45","v":0},{"$f":"'Grade Beam'!AV45","v":0},{"$f":"'Grade Beam'!AW45","v":0},{"$f":"'Grade Beam'!AX45","v":0},{"$f":"'Grade Beam'!AY45","v":0},{"$f":"'Grade Beam'!AZ45","v":0},{"$f":"'Grade Beam'!BA45","v":0},{"$f":"'Grade Beam'!BB45","v":0},{"$f":"'Grade Beam'!BC45","v":0},{"$f":"'Grade Beam'!BD45","v":0},{"$f":"'Grade Beam'!BE45","v":0},{"$f":"'Grade Beam'!BF45","v":0},{"$f":"'Grade Beam'!BG45","v":0},{"$f":"'Grade Beam'!BH45","v":0},{"$f":"'Grade Beam'!BI45","v":0},null,{"$f":"'Grade Beam'!BK45","v":""},{"$f":"'Grade Beam'!BL45","v":""},{"$f":"'Grade Beam'!BM45","v":""},{"$f":"'Grade Beam'!BN45","v":""},{"$f":"'Grade Beam'!BO45","v":""},{"$f":"'Grade Beam'!BP45","v":""},{"$f":"'Grade Beam'!BQ45","v":""},{"$f":"'Grade Beam'!BR45","v":""},{"$f":"'Grade Beam'!BS45","v":""},{"$f":"'Grade Beam'!BT45","v":""},{"$f":"'Grade Beam'!BU45","v":""},{"$f":"'Grade Beam'!BV45","v":""},{"$f":"'Grade Beam'!BW45","v":""},{"$f":"'Grade Beam'!BX45","v":""},{"$f":"'Grade Beam'!BY45","v":""}]
[null,"Floor Beam",null,{"$f":"'Floor Beam'!AU39","v":0},{"$f":"'Floor Beam'!AV39","v":0},{"$f":"'Floor Beam'!AW39","v":0},{"$f":"'Floor Beam'!AX39","v":0},{"$f":"'Floor Beam'!AY39","v":0},{"$f":"'Floor Beam'!AZ39","v":0},{"$f":"'Floor Beam'!BA39","v":0},{"$f":"'Floor Beam'!BB39","v":0},{"$f":"'Floor Beam'!BC39","v":0},{"$f":"'Floor Beam'!BD39","v":0},{"$f":"'Floor Beam'!BE39","v":0},{"$f":"'Floor Beam'!BF39","v":0},{"$f":"'Floor Beam'!BG39","v":0},{"$f":"'Floor Beam'!BH39","v":0},{"$f":"'Floor Beam'!BI39","v":0},null,{"$f":"'Floor Beam'!BK39","v":""},{"$f":"'Floor Beam'!BL39","v":""},{"$f":"'Floor Beam'!BM39","v":""},{"$f":"'Floor Beam'!BN39","v":""},{"$f":"'Floor Beam'!BO39","v":""},{"$f":"'Floor Beam'!BP39","v":""},{"$f":"'Floor Beam'!BQ39","v":""},{"$f":"'Floor Beam'!BR39","v":""},{"$f":"'Floor Beam'!BS39","v":""},{"$f":"'Floor Beam'!BT39","v":""},{"$f":"'Floor Beam'!BU39","v":""},{"$f":"'Floor Beam'!BV39","v":""},{"$f":"'Floor Beam'!BW39","v":""},{"$f":"'Floor Beam'!BX39","v":""},{"$f":"'Floor Beam'!BY39","v":""},null,{"$f":"SUM(T96:AH102)/1000","v":0}]
[{"$nulls":3},{"$f":"'Floor Beam'!AU40","v":0},{"$f":"'Floor Beam'!AV40","v":0},{"$f":"'Floor Beam'!AW40","v":0},{"$f":"'Floor Beam'!AX40","v":0},{"$f":"'Floor Beam'!AY40","v":0},{"$f":"'Floor Beam'!AZ40","v":0},{"$f":"'Floor Beam'!BA40","v":0},{"$f":"'Floor Beam'!BB40","v":0},{"$f":"'Floor Beam'!BC40","v":0},{"$f":"'Floor Beam'!BD40","v":0},{"$f":"'Floor Beam'!BE40","v":0},{"$f":"'Floor Beam'!BF40","v":0},{"$f":"'Floor Beam'!BG40","v":0},{"$f":"'Floor Beam'!BH40","v":0},{"$f":"'Floor Beam'!BI40","v":0},null,{"$f":"'Floor Beam'!BK40","v":""},{"$f":"'Floor Beam'!BL40","v":""},{"$f":"'Floor Beam'!BM40","v":""},{"$f":"'Floor Beam'!BN40","v":""},{"$f":"'Floor Beam'!BO40","v":""},{"$f":"'Floor Beam'!BP40","v":""},{"$f":"'Floor Beam'!BQ40","v":""},{"$f":"'Floor Beam'!BR40","v":""},{"$f":"'Floor Beam'!BS40","v":""},{"$f":"'Floor Beam'!BT40","v":""},{"$f":"'Floor Beam'!BU40","v":""},{"$f":"'Floor Beam'!BV40","v":""},{"$f":"'Floor Beam'!BW40","v":""},{"$f":"'Floor Beam'!BX40","v":""},{"$f":"'Floor Beam'!BY40","v":""}]
[{"$nulls":3},{"$f":"'Floor Beam'!AU41","v":0},{"$f":"'Floor Beam'!AV41","v":0},{"$f":"'Floor Beam'!AW41","v":0},{"$f":"'Floor Beam'!AX41","v":0},{"$f":"'Floor Beam'!AY41","v":0},{"$f":"'Floor Beam'!AZ41","v":0},{"$f":"'Floor Beam'!BA41","v":0},{"$f":"'Floor Beam'!BB41","v":0},{"$f":"'Floor Beam'!BC41","v":0},{"$f":"'Floor Beam'!BD41","v":0},{"$f":"'Floor Beam'!BE41","v":0},{"$f":"'Floor Beam'!BF41","v":0},{"$f":"'Floor Beam'!BG41","v":0},{"$f":"'Floor Beam'!BH41","v":0},{"$f":"'Floor Beam'!BI41","v":0},null,{"$f":"'Floor Beam'!BK41","v":""},{"$f":"'Floor Beam'!BL41","v":""},{"$f":"'Floor Beam'!BM41","v":""},{"$f":"'Floor Beam'!BN41","v":""},{"$f":"'Floor Beam'!BO41","v":""},{"$f":"'Floor Beam'!BP41","v":""},{"$f":"'Floor Beam'!BQ41","v":""},{"$f":"'Floor Beam'!BR41","v":""},{"$f":"'Floor Beam'!BS41","v":""},{"$f":"'Floor Beam'!BT41","v":""},{"$f":"'Floor Beam'!BU41","v":""},{"$f":"'Floor Beam'!BV41","v":""},{"$f":"'Floor Beam'!BW41","v":""},{"$f":"'Floor Beam'!BX41","v":""},{"$f":"'Floor Beam'!BY41","v":""}]
[{"$nulls":3},{"$f":"'Floor Beam'!AU42","v":0},{"$f":"'Floor Beam'!AV42","v":0},{"$f":"'Floor Beam'!AW42","v":0},{"$f":"'Floor Beam'!AX42","v":0},{"$f":"'Floor Beam'!AY42","v":0},{"$f":"'Floor Beam'!AZ42","v":0},{"$f":"'Floor Beam'!BA42","v":0},{"$f":"'Floor Beam'!BB42","v":0},{"$f":"'Floor Beam'!BC42","v":0},{"$f":"'Floor Beam'!BD42","v":0},{"$f":"'Floor Beam'!BE42","v":0},{"$f":"'Floor Beam'!BF42","v":0},{"$f":"'Floor Beam'!BG42","v":0},{"$f":"'Floor Beam'!BH42","v":0},{"$f":"'Floor Beam'!BI42","v":0},null,{"$f":"'Floor Beam'!BK42","v":""},{"$f":"'Floor Beam'!BL42","v":""},{"$f":"'Floor Beam'!BM42","v":""},{"$f":"'Floor Beam'!BN42","v":""},{"$f":"'Floor Beam'!BO42","v":""},{"$f":"'Floor Beam'!BP42","v":""},{"$f":"'Floor Beam'!BQ42","v":""},{"$f":"'Floor Beam'!BR42","v":""},{"$f":"'Floor Beam'!BS42","v":""},{"$f":"'Floor Beam'!BT42","v":""},{"$f":"'Floor Beam'!BU42","v":""},{"$f":"'Floor Beam'!BV42","v":""},{"$f":"'Floor Beam'!BW42","v":""},{"$f":"'Floor Beam'!BX42","v":""},{"$f":"'Floor Beam'!BY42","v":""}]
[{"$nulls":3},{"$f":"'Floor Beam'!AU43","v":0},{"$f":"'Floor Beam'!AV43","v":0},{"$f":"'Floor Beam'!AW43","v":0},{"$f":"'Floor Beam'!AX43","v":0},{"$f":"'Floor Beam'!AY43","v":0},{"$f":"'Floor Beam'!AZ43","v":0},{"$f":"'Floor Beam'!BA43","v":0},{"$f":"'Floor Beam'!BB43","v":0},{"$f":"'Floor Beam'!BC43","v":0},{"$f":"'Floor Beam'!BD43","v":0},{"$f":"'Floor Beam'!BE43","v":0},{"$f":"'Floor Beam'!BF43","v":0},{"$f":"'Floor Beam'!BG43","v":0},{"$f":"'Floor Beam'!BH43","v":0},{"$f":"'Floor Beam'!BI43","v":0},null,{"$f":"'Floor Beam'!BK43","v":""},{"$f":"'Floor Beam'!BL43","v":""},{"$f":"'Floor Beam'!BM43","v":""},{"$f":"'Floor Beam'!BN43","v":""},{"$f":"'Floor Beam'!BO43","v":""},{"$f":"'Floor Beam'!BP43","v":""},{"$f":"'Floor Beam'!BQ43","v":""},{"$f":"'Floor Beam'!BR43","v":""},{"$f":"'Floor Beam'!BS43","v":""},{"$f":"'Floor Beam'!BT43","v":""},{"$f":"'Floor Beam'!BU43","v":""},{"$f":"'Floor Beam'!BV43","v":""},{"$f":"'Floor Beam'!BW43","v":""},{"$f":"'Floor Beam'!BX43","v":""},{"$f":"'Floor Beam'!BY43","v":""}]
[{"$nulls":3},{"$f":"'Floor Beam'!AU44","v":0},{"$f":"'Floor Beam'!AV44","v":0},{"$f":"'Floor Beam'!AW44","v":0},{"$f":"'Floor Beam'!AX44","v":0},{"$f":"'Floor Beam'!AY44","v":0},{"$f":"'Floor Beam'!AZ44","v":0},{"$f":"'Floor Beam'!BA44","v":0},{"$f":"'Floor Beam'!BB44","v":0},{"$f":"'Floor Beam'!BC44","v":0},{"$f":"'Floor Beam'!BD44","v":0},{"$f":"'Floor Beam'!BE44","v":0},{"$f":"'Floor Beam'!BF44","v":0},{"$f":"'Floor Beam'!BG44","v":0},{"$f":"'Floor Beam'!BH44","v":0},{"$f":"'Floor Beam'!BI44","v":0},null,{"$f":"'Floor Beam'!BK44","v":""},{"$f":"'Floor Beam'!BL44","v":""},{"$f":"'Floor Beam'!BM44","v":""},{"$f":"'Floor Beam'!BN44","v":""},{"$f":"'Floor Beam'!BO44","v":""},{"$f":"'Floor Beam'!BP44","v":""},{"$f":"'Floor Beam'!BQ44","v":""},{"$f":"'Floor Beam'!BR44","v":""},{"$f":"'Floor Beam'!BS44","v":""},{"$f":"'Floor Beam'!BT44","v":""},{"$f":"'Floor Beam'!BU44","v":""},{"$f":"'Floor Beam'!BV44","v":""},{"$f":"'Floor Beam'!BW44","v":""},{"$f":"'Floor Beam'!BX44","v":""},{"$f":"'Floor Beam'!BY44","v":""}]
[{"$nulls":3},{"$f":"'Floor Beam'!AU45","v":0},{"$f":"'Floor Beam'!AV45","v":0},{"$f":"'Floor Beam'!AW45","v":0},{"$f":"'Floor Beam'!AX45","v":0},{"$f":"'Floor Beam'!AY45","v":0},{"$f":"'Floor Beam'!AZ45","v":0},{"$f":"'Floor Beam'!BA45","v":0},{"$f":"'Floor Beam'!BB45","v":0},{"$f":"'Floor Beam'!BC45","v":0},{"$f":"'Floor Beam'!BD45","v":0},{"$f":"'Floor Beam'!BE45","v":0},{"$f":"'Floor Beam'!BF45","v":0},{"$f":"'Floor Beam'!BG45","v":0},{"$f":"'Floor Beam'!BH45","v":0},{"$f":"'Floor Beam'!BI45","v":0},null,{"$f":"'Floor Beam'!BK45","v":""},{"$f":"'Floor Beam'!BL45","v":""},{"$f":"'Floor Beam'!BM45","v":""},{"$f":"'Floor Beam'!BN45","v":""},{"$f":"'Floor Beam'!BO45","v":""},{"$f":"'Floor Beam'!BP45","v":""},{"$f":"'Floor Beam'!BQ45","v":""},{"$f":"'Floor Beam'!BR45","v":""},{"$f":"'Floor Beam'!BS45","v":""},{"$f":"'Floor Beam'!BT45","v":""},{"$f":"'Floor Beam'!BU45","v":""},{"$f":"'Floor Beam'!BV45","v":""},{"$f":"'Floor Beam'!BW45","v":""},{"$f":"'Floor Beam'!BX45","v":""},{"$f":"'Floor Beam'!BY45","v":""}]
[null,"Stair",null,{"$f":"Stair!CT40","v":0},{"$nulls":15},{"$f":"Stair!CV40","v":""},{"$nulls":15},{"$f":"SUM(T103:AH109)/1000","v":0}]
[{"$nulls":3},{"$f":"Stair!CT41","v":0},{"$nulls":15},{"$f":"Stair!CV41","v":""}]
[{"$nulls":3},{"$f":"Stair!CT42","v":0},{"$nulls":15},{"$f":"Stair!CV42","v":""}]
[{"$nulls":3},{"$f":"Stair!CT43","v":0},{"$nulls":15},{"$f":"Stair!CV43","v":""}]
[{"$nulls":3},{"$f":"Stair!CT44","v":0},{"$nulls":15},{"$f":"Stair!CV44","v":""}]
[{"$nulls":3},{"$f":"Stair!CT45","v":0},{"$nulls":15},{"$f":"Stair!CV45","v":""}]
[{"$nulls":3},{"$f":"Stair!CT46","v":0},{"$nulls":15},{"$f":"Stair!CV46","v":""}]
[null,"Slab",null,{"$f":"Slab!AL30","v":0},{"$f":"Slab!AM30","v":0},{"$f":"Slab!AN30","v":0},{"$f":"Slab!AO30","v":0},{"$f":"Slab!AP30","v":0},{"$f":"Slab!AQ30","v":0},{"$f":"Slab!AR30","v":0},{"$f":"Slab!AS30","v":0},{"$f":"Slab!AT30","v":0},{"$f":"Slab!AU30","v":0},{"$nulls":6},{"$f":"Slab!AW30","v":""},{"$f":"Slab!AX30","v":""},{"$f":"Slab!AY30","v":""},{"$f":"Slab!AZ30","v":""},{"$f":"Slab!BA30","v":""},{"$f":"Slab!BB30","v":""},{"$f":"Slab!BC30","v":""},{"$f":"Slab!BD30","v":""},{"$f":"Slab!BE30","v":""},{"$f":"Slab!BF30","v":""},{"$nulls":6},{"$f":"SUM(T110:AH113)/1000","v":0}]
[{"$nulls":3},{"$f":"Slab!AL31","v":0},{"$f":"Slab!AM31","v":0},{"$f":"Slab!AN31","v":0},{"$f":"Slab!AO31","v":0},{"$f":"Slab!AP31","v":0},{"$f":"Slab!AQ31","v":0},{"$f":"Slab!AR31","v":0},{"$f":"Slab!AS31","v":0},{"$f":"Slab!AT31","v":0},{"$f":"Slab!AU31","v":0},{"$nulls":6},{"$f":"Slab!AW31","v":""},{"$f":"Slab!AX31","v":""},{"$f":"Slab!AY31","v":""},{"$f":"Slab!AZ31","v":""},{"$f":"Slab!BA31","v":""},{"$f":"Slab!BB31","v":""},{"$f":"Slab!BC31","v":""},{"$f":"Slab!BD31","v":""},{"$f":"Slab!BE31","v":""},{"$f":"Slab!BF31","v":""}]
[{"$nulls":3},{"$f":"Slab!AL32","v":0},{"$f":"Slab!AM32","v":0},{"$f":"Slab!AN32","v":0},{"$f":"Slab!AO32","v":0},{"$f":"Slab!AP32","v":0},{"$f":"Slab!AQ32","v":0},{"$f":"Slab!AR32","v":0},{"$f":"Slab!AS32","v":0},{"$f":"Slab!AT32","v":0},{"$f":"Slab!AU32","v":0},{"$nulls":6},{"$f":"Slab!AW32","v":""},{"$f":"Slab!AX32","v":""},{"$f":"Slab!AY32","v":""},{"$f":"Slab!AZ32","v":""},{"$f":"Slab!BA32","v":""},{"$f":"Slab!BB32","v":""},{"$f":"Slab!BC32","v":""},{"$f":"Slab!BD32","v":""},{"$f":"Slab!BE32","v":""},{"$f":"Slab!BF32","v":""}]
[{"$nulls":3},{"$f":"Slab!AL33","v":0},{"$f":"Slab!AM33","v":0},{"$f":"Slab!AN33","v":0},{"$f":"Slab!AO33","v":0},{"$f":"Slab!AP33","v":0},{"$f":"Slab!AQ33","v":0},{"$f":"Slab!AR33","v":0},{"$f":"Slab!AS33","v":0},{"$f":"Slab!AT33","v":0},{"$f":"Slab!AU33","v":0},{"$nulls":6},{"$f":"Slab!AW33","v":""},{"$f":"Slab!AX33","v":""},{"$f":"Slab!AY33","v":""},{"$f":"Slab!AZ33","v":""},{"$f":"Slab!BA33","v":""},{"$f":"Slab!BB33","v":""},{"$f":"Slab!BC33","v":""},{"$f":"Slab!BD33","v":""},{"$f":"Slab!BE33","v":""},{"$f":"Slab!BF33","v":""}]
[null,"Rcc Wall",null,{"$f":"'Rcc Wall'!BH43","v":0},{"$f":"'Rcc Wall'!BI43","v":0},{"$f":"'Rcc Wall'!BJ43","v":0},{"$f":"'Rcc Wall'!BK43","v":0},{"$f":"'Rcc Wall'!BL43","v":0},{"$f":"'Rcc Wall'!BM43","v":0},{"$f":"'Rcc Wall'!BN43","v":0},{"$f":"'Rcc Wall'!BO43","v":0},{"$f":"'Rcc Wall'!BP43","v":0},{"$f":"'Rcc Wall'!BQ43","v":0},{"$f":"'Rcc Wall'!BR43","v":0},{"$f":"'Rcc Wall'!BS43","v":0},{"$f":"'Rcc Wall'!BT43","v":0},{"$f":"'Rcc Wall'!BU43","v":0},{"$f":"'Rcc Wall'!BV43","v":0},null,{"$f":"'Rcc Wall'!BX43","v":""},{"$f":"'Rcc Wall'!BY43","v":""},{"$f":"'Rcc Wall'!BZ43","v":""},{"$f":"'Rcc Wall'!CA43","v":""},{"$f":"'Rcc Wall'!CB43","v":""},{"$f":"'Rcc Wall'!CC43","v":""},{"$f":"'Rcc Wall'!CD43","v":""},{"$f":"'Rcc Wall'!CE43","v":""},{"$f":"'Rcc Wall'!CF43","v":""},{"$f":"'Rcc Wall'!CG43","v":""},{"$f":"'Rcc Wall'!CH43","v":""},{"$f":"'Rcc Wall'!CI43","v":""},{"$f":"'Rcc Wall'!CJ43","v":""},{"$f":"'Rcc Wall'!CK43","v":""},{"$f":"'Rcc Wall'!CL43","v":""},null,{"$f":"SUM(T114:AH117)/1000","v":0}]
[{"$nulls":3},{"$f":"'Rcc Wall'!BH44","v":0},{"$f":"'Rcc Wall'!BI44","v":0},{"$f":"'Rcc Wall'!BJ44","v":0},{"$f":"'Rcc Wall'!BK44","v":0},{"$f":"'Rcc Wall'!BL44","v":0},{"$f":"'Rcc Wall'!BM44","v":0},{"$f":"'Rcc Wall'!BN44","v":0},{"$f":"'Rcc Wall'!BO44","v":0},{"$f":"'Rcc Wall'!BP44","v":0},{"$f":"'Rcc Wall'!BQ44","v":0},{"$f":"'Rcc Wall'!BR44","v":0},{"$f":"'Rcc Wall'!BS44","v":0},{"$f":"'Rcc Wall'!BT44","v":0},{"$f":"'Rcc Wall'!BU44","v":0},{"$f":"'Rcc Wall'!BV44","v":0},null,{"$f":"'Rcc Wall'!BX44","v":""},{"$f":"'Rcc Wall'!BY44","v":""},{"$f":"'Rcc Wall'!BZ44","v":""},{"$f":"'Rcc Wall'!CA44","v":""},{"$f":"'Rcc Wall'!CB44","v":""},{"$f":"'Rcc Wall'!CC44","v":""},{"$f":"'Rcc Wall'!CD44","v":""},{"$f":"'Rcc Wall'!CE44","v":""},{"$f":"'Rcc Wall'!CF44","v":""},{"$f":"'Rcc Wall'!CG44","v":""},{"$f":"'Rcc Wall'!CH44","v":""},{"$f":"'Rcc Wall'!CI44","v":""},{"$f":"'Rcc Wall'!CJ44","v":""},{"$f":"'Rcc Wall'!CK44","v":""},{"$f":"'Rcc Wall'!CL44","v":""}]
[{"$nulls":3},{"$f":"'Rcc Wall'!BH45","v":0},{"$f":"'Rcc Wall'!BI45","v":0},{"$f":"'Rcc Wall'!BJ45","v":0},{"$f":"'Rcc Wall'!BK45","v":0},{"$f":"'Rcc Wall'!BL45","v":0},{"$f":"'Rcc Wall'!BM45","v":0},{"$f":"'Rcc Wall'!BN45","v":0},{"$f":"'Rcc Wall'!BO45","v":0},{"$f":"'Rcc Wall'!BP45","v":0},{"$f":"'Rcc Wall'!BQ45","v":0},{"$f":"'Rcc Wall'!BR45","v":0},{"$f":"'Rcc Wall'!BS45","v":0},{"$f":"'Rcc Wall'!BT45","v":0},{"$f":"'Rcc Wall'!BU45","v":0},{"$f":"'Rcc Wall'!BV45","v":0},null,{"$f":"'Rcc Wall'!BX45","v":""},{"$f":"'Rcc Wall'!BY45","v":""},{"$f":"'Rcc Wall'!BZ45","v":""},{"$f":"'Rcc Wall'!CA45","v":""},{"$f":"'Rcc Wall'!CB45","v":""},{"$f":"'Rcc Wall'!CC45","v":""},{"$f":"'Rcc Wall'!CD45","v":""},{"$f":"'Rcc Wall'!CE45","v":""},{"$f":"'Rcc Wall'!CF45","v":""},{"$f":"'Rcc Wall'!CG45","v":""},{"$f":"'Rcc Wall'!CH45","v":""},{"$f":"'Rcc Wall'!CI45","v":""},{"$f":"'Rcc Wall'!CJ45","v":""},{"$f":"'Rcc Wall'!CK45","v":""},{"$f":"'Rcc Wall'!CL45","v":""}]
[{"$nulls":3},{"$f":"'Rcc Wall'!BH46","v":0},{"$f":"'Rcc Wall'!BI46","v":0},{"$f":"'Rcc Wall'!BJ46","v":0},{"$f":"'Rcc Wall'!BK46","v":0},{"$f":"'Rcc Wall'!BL46","v":0},{"$f":"'Rcc Wall'!BM46","v":0},{"$f":"'Rcc Wall'!BN46","v":0},{"$f":"'Rcc Wall'!BO46","v":0},{"$f":"'Rcc Wall'!BP46","v":0},{"$f":"'Rcc Wall'!BQ46","v":0},{"$f":"'Rcc Wall'!BR46","v":0},{"$f":"'Rcc Wall'!BS46","v":0},{"$f":"'Rcc Wall'!BT46","v":0},{"$f":"'Rcc Wall'!BU46","v":0},{"$f":"'Rcc Wall'!BV46","v":0},null,{"$f":"'Rcc Wall'!BX46","v":""},{"$f":"'Rcc Wall'!BY46","v":""},{"$f":"'Rcc Wall'!BZ46","v":""},{"$f":"'Rcc Wall'!CA46","v":""},{"$f":"'Rcc Wall'!CB46","v":""},{"$f":"'Rcc Wall'!CC46","v":""},{"$f":"'Rcc Wall'!CD46","v":""},{"$f":"'Rcc Wall'!CE46","v":""},{"$f":"'Rcc Wall'!CF46","v":""},{"$f":"'Rcc Wall'!CG46","v":""},{"$f":"'Rcc Wall'!CH46","v":""},{"$f":"'Rcc Wall'!CI46","v":""},{"$f":"'Rcc Wall'!CJ46","v":""},{"$f":"'Rcc Wall'!CK46","v":""},{"$f":"'Rcc Wall'!CL46","v":""}]
[null,"WATER RESERVOIR",null,{"$f":"'WATER RESERVOIR'!BI15","v":0},{"$f":"'WATER RESERVOIR'!BJ15","v":0},{"$nulls":14},{"$f":"'WATER RESERVOIR'!BL15","v":""},{"$f":"'WATER RESERVOIR'!BM15","v":""},{"$nulls":14},{"$f":"SUM(T118:AH125)/1000","v":0}]
[{"$nulls":3},{"$f":"'WATER RESERVOIR'!BI16","v":0},{"$f":"'WATER RESERVOIR'!BJ16","v":0},{"$nulls":14},{"$f":"'WATER RESERVOIR'!BL16","v":""},{"$f":"'WATER RESERVOIR'!BM16","v":""}]
[{"$nulls":3},{"$f":"'WATER RESERVOIR'!BI17","v":0},{"$f":"'WATER RESERVOIR'!BJ17","v":0},{"$nulls":14},{"$f":"'WATER RESERVOIR'!BL17","v":""},{"$f":"'WATER RESERVOIR'!BM17","v":""}]
[{"$nulls":3},{"$f":"'WATER RESERVOIR'!BI18","v":0},{"$f":"'WATER RESERVOIR'!BJ18","v":0},{"$nulls":14},{"$f":"'WATER RESERVOIR'!BL18","v":""},{"$f":"'WATER RESERVOIR'!BM18","v":""}]
[{"$nulls":3},{"$f":"'WATER RESERVOIR'!BI19","v":0},{"$nulls":15},{"$f":"'WATER RESERVOIR'!BL19","v":""}]
[{"$nulls":3},{"$f":"'WATER RESERVOIR'!BI20","v":0},{"$nulls":15},{"$f":"'WATER RESERVOIR'!BL20","v":""}]
[{"$nulls":3},{"$f":"'WATER RESERVOIR'!BI21","v":0},{"$nulls":15},{"$f":"'WATER RESERVOIR'!BL21","v":""}]
[{"$nulls":3},{"$f":"'WATER RESERVOIR'!BI22","v":0},{"$nulls":15},{"$f":"'WATER RESERVOIR'!BL22","v":""}]

{"sheet":"Result","index":19,"n_rows":46,"n_cols":12,"rows_kept":46,"hidden":true,"merged":[[0,0,2,13],[3,0,4,13],[5,0,6,13],[9,1,10,12],[11,1,11,3],[11,4,11,5],[11,7,11,8],[11,9,11,10],[11,11,11,12],[12,1,12,3],[12,4,12,5],[12,6,31,6],[12,7,12,8],[12,9,12,10],[12,11,12,12],[13,1,13,3],[13,4,13,5],[13,7,13,8],[13,9,13,10],[13,11,13,12],[14,1,14,3],[14,4,14,5],[14,7,14,8],[14,9,14,10],[14,11,14,12],[15,1,15,3],[15,4,15,5],[15,7,15,8],[15,9,15,10],[15,11,15,12],[16,1,16,3],[16,4,16,5],[16,7,16,8],[16,9,16,10],[16,11,16,12],[17,1,17,3],[17,4,17,5],[17,7,17,8],[17,9,17,10],[17,11,17,12],[18,1,18,3],[18,4,18,5],[18,7,18,8],[18,9,18,10],[18,11,18,12],[19,1,19,3],[19,4,19,5],[19,7,19,8],[19,9,19,10],[19,11,19,12],[20,1,20,3],[20,4,20,5],[20,7,20,8],[20,9,20,10],[20,11,20,12],[21,1,21,3],[21,4,21,5],[21,7,21,8],[21,9,21,10],[21,11,21,12],[22,1,22,3],[22,4,22,5],[22,7,22,8],[22,9,22,10],[22,11,22,12],[23,1,23,3],[23,4,23,5],[23,7,23,8],[23,9,23,10],[23,11,23,12],[24,1,24,3],[24,4,24,5],[24,7,24,8],[24,9,24,10],[24,11,24,12],[25,1,25,3],[25,4,25,5],[25,7,25,8],[25,9,25,10],[25,11,25,12],[26,4,26,5],[26,7,26,8],[26,9,26,10],[26,11,26,12],[27,4,27,5],[27,7,27,8],[27,9,27,10],[27,11,27,12],[28,4,28,5],[28,7,28,8],[28,9,28,10],[28,11,28,12],[29,4,29,5],[29,7,29,8],[29,9,29,10],[29,11,29,12],[30,4,30,5],[30,7,30,8],[30,9,30,10],[30,11,30,12],[31,4,31,5],[31,7,31,8],[31,9,31,10],[31,11,31,12],[32,9,32,10],[32,11,32,12],[34,4,35,10],[36,4,36,5],[36,6,36,7],[36,9,36,10],[37,4,37,5],[37,6,37,7],[37,8,45,8],[37,9,37,10],[38,4,38,5],[38,6,38,7],[38,9,38,10],[39,4,39,5],[39,6,39,7],[39,9,39,10],[40,4,40,5],[40,6,40,7],[40,9,40,10],[41,4,41,5],[41,6,41,7],[41,9,41,10],[42,4,42,5],[42,6,42,7],[42,9,42,10],[43,4,43,5],[43,6,43,7],[43,9,43,10],[44,4,44,5],[44,6,44,7],[44,9,44,10],[45,4,45,5],[45,6,45,7],[45,9,45,10]]}
["This is The Property of NOR DESIGN SOLUTION\n"]
[]
[]
[]
[]
["এক্সেল শীট সম্পর্কে যাবতীয় তথ্য বিস্তারিত জানতে ভিজিট করুন আমাদের ইউটিউব চ্যানেলে"]
[]
[]
[]
[null,"All Result"]
[]
[null,"DESCRIPTION",null,null,"Quantity",null,"Wastage Add","Quantity (Wastage Add)",null,"Rate",null,"Amount TK"]
[null,"Cement ",null,null,{"$f":"'Admin Panel'!T23","v":{"v":0,"d":"0 Bag"}},null,{"v":0,"d":"0 % ADD"},{"$f":"E13+$G$13*E13/100","v":{"v":0,"d":"0 Bag"}},null,{"v":5,"d":"5.00 TK"},null,{"$f":"H13*J13","v":{"v":0,"d":"0 TK"}}]
[null,"Sand",null,null,{"$f":"'Admin Panel'!U23","v":{"v":0,"d":"0 CFT"}},null,null,{"$f":"E14+$G$13*E14/100","v":{"v":0,"d":"0 CFT"}},null,{"v":6,"d":"6.00 TK"},null,{"$f":"H14*J14","v":{"v":0,"d":"0 TK"}}]
[null,"Stone/Brick Chips (CFT)",null,null,{"$f":"VLOOKUP(B15,'Admin Panel'!AK12:AL13,2,0)","v":0},null,null,0,null,{"v":7,"d":"7.00 TK"},null,{"v":0,"d":"0 TK"}]
[null,"Rebar",null,null,{"$f":"'Admin Panel'!W23","v":{"v":0,"d":"0.000 Ton"}},null,null,{"v":0,"d":"0.000 Ton"},null,{"v":8,"d":"8.00 TK"},null,{"v":0,"d":"0 TK"}]
[null,"Excabation",null,null,{"$f":"'Admin Panel'!Y23","v":{"v":0,"d":"0 CFT"}},null,null,{"v":0,"d":"0 CFT"},null,{"v":9,"d":"9.00 TK"},null,{"v":0,"d":"0 TK"}]
[null,"Sand Filling ",null,null,{"$f":"'Admin Panel'!Z23","v":{"v":0,"d":"0 CFT"}},null,null,{"v":0,"d":"0 CFT"},null,{"v":10,"d":"10.00 TK"},null,{"v":0,"d":"0 TK"}]
[null,"Bricl Flat Soling ",null,null,{"$f":"'Admin Panel'!AC23","v":{"v":0,"d":"0 Nos"}},null,null,{"v":0,"d":"0 Nos"},null,{"v":11,"d":"11.00 TK"},null,{"v":0,"d":"0 TK"}]
[null,"Formwork",null,null,{"$f":"'Admin Panel'!AA23","v":{"v":0,"d":"0 SFT"}},null,null,{"v":0,"d":"0 SFT"},null,{"v":12,"d":"12.00 TK"},null,{"v":0,"d":"0 TK"}]
[null,"R.C.C Casting",null,null,{"$f":"'Admin Panel'!X23","v":{"v":0,"d":"0 CFT"}},null,null,{"v":0,"d":"0 CFT"},null,{"v":13,"d":"13.00 TK"},null,{"v":0,"d":"0 TK"}]
[null,"Masonry Brick",null,null,{"$f":"'Admin Panel'!AE23","v":{"v":0,"d":"0 Nos"}},null,null,{"v":0,"d":"0 Nos"},null,{"v":14,"d":"14.00 TK"},null,{"v":0,"d":"0 TK"}]
[null,"Primers/Sealer",null,null,{"$f":"'Admin Panel'!AF23","v":{"v":0,"d":"0 liter"}},null,null,{"v":0,"d":"0 liter"},null,{"v":15,"d":"15.00 TK"},null,{"v":0,"d":"0 TK"}]
[null,"Ready-mix putty",null,null,{"$f":"'Admin Panel'!AG23","v":{"v":0,"d":"0 KG"}},null,null,{"v":0,"d":"0 KG"},null,{"v":16,"d":"16.00 TK"},null,{"v":0,"d":"0 TK"}]
[null,"Paint",null,null,{"$f":"'Admin Panel'!AH23","v":{"v":0,"d":"0 liter"}},null,null,{"v":0,"d":"0 liter"},null,{"v":17,"d":"17.00 TK"},null,{"v":0,"d":"0 TK"}]
[null,"Grouting Materials",null,null,{"$f":"'Admin Panel'!AI23","v":{"v":0,"d":"0 Bag"}},null,null,{"v":0,"d":"0 Bag"},null,{"v":18,"d":"18.00 TK"},null,{"v":0,"d":"0 TK"}]
[null,"Tile size-1",{"v":11,"d":"11 ''"},{"v":11,"d":"11 ''"},{"$f":"SUMIFS('Tiles Work'!$C$24:$AF$24,'Tiles Work'!$C$18:$AF$18,Result!C27,'Tiles Work'!$C$19:$AF$19,Result!D27)","v":{"v":0,"d":"0 Nos"}},null,null,{"v":0,"d":"0 Nos"},null,{"v":19,"d":"19.00 TK"},null,{"v":0,"d":"0 TK"}]
[null,"Tile size-2",{"v":5,"d":"5 ''"},{"v":5,"d":"5 ''"},{"$f":"SUMIFS('Tiles Work'!$C$24:$AF$24,'Tiles Work'!$C$18:$AF$18,Result!C28,'Tiles Work'!$C$19:$AF$19,Result!D28)","v":{"v":0,"d":"0 Nos"}},null,null,{"v":0,"d":"0 Nos"},null,{"v":20,"d":"20.00 TK"},null,{"v":0,"d":"0 TK"}]
[null,"Tile size-3",{"v":8,"d":"8 ''"},{"v":6,"d":"6 ''"},{"$f":"SUMIFS('Tiles Work'!$C$24:$AF$24,'Tiles Work'!$C$18:$AF$18,Result!C29,'Tiles Work'!$C$19:$AF$19,Result!D29)","v":{"v":0,"d":"0 Nos"}},null,null,{"v":0,"d":"0 Nos"},null,{"v":21,"d":"21.00 TK"},null,{"v":0,"d":"0 TK"}]
[null,"Tile size-4",{"v":8,"d":"8 ''"},{"v":6,"d":"6 ''"},{"$f":"SUMIFS('Tiles Work'!$C$24:$AF$24,'Tiles Work'!$C$18:$AF$18,Result!C30,'Tiles Work'!$C$19:$AF$19,Result!D30)","v":{"v":0,"d":"0 Nos"}},null,null,{"v":0,"d":"0 Nos"},null,{"v":22,"d":"22.00 TK"},null,{"v":0,"d":"0 TK"}]
[null,"Tile size-5",{"v":9,"d":"9 ''"},{"v":9,"d":"9 ''"},{"$f":"SUMIFS('Tiles Work'!$C$24:$AF$24,'Tiles Work'!$C$18:$AF$18,Result!C31,'Tiles Work'!$C$19:$AF$19,Result!D31)","v":{"v":0,"d":"0 Nos"}},null,null,{"v":0,"d":"0 Nos"},null,{"v":23,"d":"23.00 TK"},null,{"v":0,"d":"0 TK"}]
[null,"Tile size-6",{"v":3,"d":"3 ''"},{"v":3,"d":"3 ''"},{"$f":"SUMIFS('Tiles Work'!$C$24:$AF$24,'Tiles Work'!$C$18:$AF$18,Result!C32,'Tiles Work'!$C$19:$AF$19,Result!D32)","v":{"v":0,"d":"0 Nos"}},null,null,{"v":0,"d":"0 Nos"},null,{"v":24,"d":"24.00 TK"},null,{"v":0,"d":"0 TK"}]
[{"$nulls":9},"Total Cost",null,{"$f":"SUM(L13:M32)","v":{"v":0,"d":"0 TK"}}]
[]
[{"$nulls":4}," Reinforcement "]
[]
[{"$nulls":4},"DESCRIPTION",null,"Quantity",null,"Wastage Add","Quantity (Wastage Add)"]
[{"$nulls":4},{"v":8,"d":"8 MM"},null,{"$f":"IF(E38>0,SUMIF('Admin Panel'!$D$49:$R$125,Result!E38,'Admin Panel'!$T$49:$AH$125),\"\")","v":{"v":0,"d":"0 KG"}},null,{"v":0,"d":"0 %ADD"},{"$f":"IF(E38>0,G38+$I$38*G38/100,\"\")","v":{"v":0,"d":"0 KG"}}]
[{"$nulls":4},{"v":10,"d":"10 MM"},null,{"$f":"IF(E39>0,SUMIF('Admin Panel'!$D$49:$R$125,Result!E39,'Admin Panel'!$T$49:$AH$125),\"\")","v":{"v":0,"d":"0 KG"}},null,null,{"$f":"IF(E39>0,G39+$I$38*G39/100,\"\")","v":{"v":0,"d":"0 KG"}}]
[{"$nulls":4},{"v":12,"d":"12 MM"},null,{"$f":"IF(E40>0,SUMIF('Admin Panel'!$D$49:$R$125,Result!E40,'Admin Panel'!$T$49:$AH$125),\"\")","v":{"v":0,"d":"0 KG"}},null,null,{"v":0,"d":"0 KG"}]
[{"$nulls":4},{"v":16,"d":"16 MM"},null,{"$f":"IF(E41>0,SUMIF('Admin Panel'!$D$49:$R$125,Result!E41,'Admin Panel'!$T$49:$AH$125),\"\")","v":{"v":0,"d":"0 KG"}},null,null,{"v":0,"d":"0 KG"}]
[{"$nulls":4},{"v":20,"d":"20 MM"},null,{"$f":"IF(E42>0,SUMIF('Admin Panel'!$D$49:$R$125,Result!E42,'Admin Panel'!$T$49:$AH$125),\"\")","v":{"v":0,"d":"0 KG"}},null,null,{"v":0,"d":"0 KG"}]
[{"$nulls":4},{"v":22,"d":"22 MM"},null,{"$f":"IF(E43>0,SUMIF('Admin Panel'!$D$49:$R$125,Result!E43,'Admin Panel'!$T$49:$AH$125),\"\")","v":{"v":0,"d":"0 KG"}},null,null,{"v":0,"d":"0 KG"}]
[{"$nulls":4},{"v":25,"d":"25 MM"},null,{"$f":"IF(E44>0,SUMIF('Admin Panel'!$D$49:$R$125,Result!E44,'Admin Panel'!$T$49:$AH$125),\"\")","v":{"v":0,"d":"0 KG"}},null,null,{"v":0,"d":"0 KG"}]
[{"$nulls":6},{"$f":"IF(E45>0,SUMIF('Admin Panel'!$D$49:$R$125,Result!E45,'Admin Panel'!$T$49:$AH$125),\"\")","v":""},null,null,""]
[{"$nulls":6},{"$f":"IF(E46>0,SUMIF('Admin Panel'!$D$49:$R$125,Result!E46,'Admin Panel'!$T$49:$AH$125),\"\")","v":""},null,null,""]

{"sheet":"Home Page","index":20,"n_rows":7,"n_cols":1,"rows_kept":7,"merged":[[0,0,2,22],[3,0,3,22],[4,0,5,22],[6,0,6,22]]}
["This is The Property of NOR DESIGN SOLUTION\n"]
[]
[]
["আমাদের এই এক্সেল শীটের সাহায্যে খুব সহজে ঘন্টার কাজ মিনিটে করে নিতে পারবেন।"]
["এক্সেল শীট সম্পর্কে যাবতীয় তথ্য বিস্তারিত জানতে ভিজিট করুন আমাদের ইউটিউব চ্যানেলে"]
[]
["Click Here To Our Youtube Channel "]

{"sheet":"Sheet1","index":21,"n_rows":0,"n_cols":0,"rows_kept":0,"hidden":true}